Workbook

Sheet Mitarbeitende
A1: ABSORA · Abwesenheitsliste | G1: sheetorial.com
A3: Abwesenheiten je Mitarbeitende
A4: Fälle und Tage kommen aus dem Abwesenheitsprotokoll. Bradford-Faktor = Fälle x Fälle x Tage.
A6: Mitarbeitende | B6: =COUNTA($A$10:$A$25) | C6: Ausfalltage | D6: =SUM($D$10:$D$25) | E6: Prüfen ab Wert | F6: 100
A9: Mitarbeiter/in | B9: Abteilung | C9: Fälle | D9: Tage | E9: Unentschuldigt | F9: Bradford-Faktor | G9: Stand
A10: Dana Reed | B10: Design | C10: =IF($A10="","",COUNTIF('Abwesenheiten'!$A:$A,$A10)) | D10: =IF($A10="","",SUMIF('Abwesenheiten'!$A:$A,$A10,'Abwesenheiten'!$E:$E)) | E10: =IF($A10="","",COUNTIFS('Abwesenheiten'!$A:$A,$A10,'Abwesenheiten'!$F:$F,'Listen'!$B$4)) | F10: =IF($A10="","",$C10*$C10*$D10) | G10: =IF($A10="","",TODAY())
A11: Lee Park | B11: Technik | C11: =IF($A11="","",COUNTIF('Abwesenheiten'!$A:$A,$A11)) | D11: =IF($A11="","",SUMIF('Abwesenheiten'!$A:$A,$A11,'Abwesenheiten'!$E:$E)) | E11: =IF($A11="","",COUNTIFS('Abwesenheiten'!$A:$A,$A11,'Abwesenheiten'!$F:$F,'Listen'!$B$4)) | F11: =IF($A11="","",$C11*$C11*$D11) | G11: =IF($A11="","",TODAY())
A12: Sam Ortiz | B12: Technik | C12: =IF($A12="","",COUNTIF('Abwesenheiten'!$A:$A,$A12)) | D12: =IF($A12="","",SUMIF('Abwesenheiten'!$A:$A,$A12,'Abwesenheiten'!$E:$E)) | E12: =IF($A12="","",COUNTIFS('Abwesenheiten'!$A:$A,$A12,'Abwesenheiten'!$F:$F,'Listen'!$B$4)) | F12: =IF($A12="","",$C12*$C12*$D12) | G12: =IF($A12="","",TODAY())
A13: Alex Kim | B13: Marketing | C13: =IF($A13="","",COUNTIF('Abwesenheiten'!$A:$A,$A13)) | D13: =IF($A13="","",SUMIF('Abwesenheiten'!$A:$A,$A13,'Abwesenheiten'!$E:$E)) | E13: =IF($A13="","",COUNTIFS('Abwesenheiten'!$A:$A,$A13,'Abwesenheiten'!$F:$F,'Listen'!$B$4)) | F13: =IF($A13="","",$C13*$C13*$D13) | G13: =IF($A13="","",TODAY())
A14: Robin Vale | B14: Support | C14: =IF($A14="","",COUNTIF('Abwesenheiten'!$A:$A,$A14)) | D14: =IF($A14="","",SUMIF('Abwesenheiten'!$A:$A,$A14,'Abwesenheiten'!$E:$E)) | E14: =IF($A14="","",COUNTIFS('Abwesenheiten'!$A:$A,$A14,'Abwesenheiten'!$F:$F,'Listen'!$B$4)) | F14: =IF($A14="","",$C14*$C14*$D14) | G14: =IF($A14="","",TODAY())
A15: Maya Lane | B15: Design | C15: =IF($A15="","",COUNTIF('Abwesenheiten'!$A:$A,$A15)) | D15: =IF($A15="","",SUMIF('Abwesenheiten'!$A:$A,$A15,'Abwesenheiten'!$E:$E)) | E15: =IF($A15="","",COUNTIFS('Abwesenheiten'!$A:$A,$A15,'Abwesenheiten'!$F:$F,'Listen'!$B$4)) | F15: =IF($A15="","",$C15*$C15*$D15) | G15: =IF($A15="","",TODAY())
A16: Jordan Price | B16: Betrieb | C16: =IF($A16="","",COUNTIF('Abwesenheiten'!$A:$A,$A16)) | D16: =IF($A16="","",SUMIF('Abwesenheiten'!$A:$A,$A16,'Abwesenheiten'!$E:$E)) | E16: =IF($A16="","",COUNTIFS('Abwesenheiten'!$A:$A,$A16,'Abwesenheiten'!$F:$F,'Listen'!$B$4)) | F16: =IF($A16="","",$C16*$C16*$D16) | G16: =IF($A16="","",TODAY())
A17: Chris Doyle | B17: Betrieb | C17: =IF($A17="","",COUNTIF('Abwesenheiten'!$A:$A,$A17)) | D17: =IF($A17="","",SUMIF('Abwesenheiten'!$A:$A,$A17,'Abwesenheiten'!$E:$E)) | E17: =IF($A17="","",COUNTIFS('Abwesenheiten'!$A:$A,$A17,'Abwesenheiten'!$F:$F,'Listen'!$B$4)) | F17: =IF($A17="","",$C17*$C17*$D17) | G17: =IF($A17="","",TODAY())
C18: =IF($A18="","",COUNTIF('Abwesenheiten'!$A:$A,$A18)) | D18: =IF($A18="","",SUMIF('Abwesenheiten'!$A:$A,$A18,'Abwesenheiten'!$E:$E)) | E18: =IF($A18="","",COUNTIFS('Abwesenheiten'!$A:$A,$A18,'Abwesenheiten'!$F:$F,'Listen'!$B$4)) | F18: =IF($A18="","",$C18*$C18*$D18) | G18: =IF($A18="","",TODAY())
C19: =IF($A19="","",COUNTIF('Abwesenheiten'!$A:$A,$A19)) | D19: =IF($A19="","",SUMIF('Abwesenheiten'!$A:$A,$A19,'Abwesenheiten'!$E:$E)) | E19: =IF($A19="","",COUNTIFS('Abwesenheiten'!$A:$A,$A19,'Abwesenheiten'!$F:$F,'Listen'!$B$4)) | F19: =IF($A19="","",$C19*$C19*$D19) | G19: =IF($A19="","",TODAY())
C20: =IF($A20="","",COUNTIF('Abwesenheiten'!$A:$A,$A20)) | D20: =IF($A20="","",SUMIF('Abwesenheiten'!$A:$A,$A20,'Abwesenheiten'!$E:$E)) | E20: =IF($A20="","",COUNTIFS('Abwesenheiten'!$A:$A,$A20,'Abwesenheiten'!$F:$F,'Listen'!$B$4)) | F20: =IF($A20="","",$C20*$C20*$D20) | G20: =IF($A20="","",TODAY())
C21: =IF($A21="","",COUNTIF('Abwesenheiten'!$A:$A,$A21)) | D21: =IF($A21="","",SUMIF('Abwesenheiten'!$A:$A,$A21,'Abwesenheiten'!$E:$E)) | E21: =IF($A21="","",COUNTIFS('Abwesenheiten'!$A:$A,$A21,'Abwesenheiten'!$F:$F,'Listen'!$B$4)) | F21: =IF($A21="","",$C21*$C21*$D21) | G21: =IF($A21="","",TODAY())
C22: =IF($A22="","",COUNTIF('Abwesenheiten'!$A:$A,$A22)) | D22: =IF($A22="","",SUMIF('Abwesenheiten'!$A:$A,$A22,'Abwesenheiten'!$E:$E)) | E22: =IF($A22="","",COUNTIFS('Abwesenheiten'!$A:$A,$A22,'Abwesenheiten'!$F:$F,'Listen'!$B$4)) | F22: =IF($A22="","",$C22*$C22*$D22) | G22: =IF($A22="","",TODAY())
C23: =IF($A23="","",COUNTIF('Abwesenheiten'!$A:$A,$A23)) | D23: =IF($A23="","",SUMIF('Abwesenheiten'!$A:$A,$A23,'Abwesenheiten'!$E:$E)) | E23: =IF($A23="","",COUNTIFS('Abwesenheiten'!$A:$A,$A23,'Abwesenheiten'!$F:$F,'Listen'!$B$4)) | F23: =IF($A23="","",$C23*$C23*$D23) | G23: =IF($A23="","",TODAY())
C24: =IF($A24="","",COUNTIF('Abwesenheiten'!$A:$A,$A24)) | D24: =IF($A24="","",SUMIF('Abwesenheiten'!$A:$A,$A24,'Abwesenheiten'!$E:$E)) | E24: =IF($A24="","",COUNTIFS('Abwesenheiten'!$A:$A,$A24,'Abwesenheiten'!$F:$F,'Listen'!$B$4)) | F24: =IF($A24="","",$C24*$C24*$D24) | G24: =IF($A24="","",TODAY())
C25: =IF($A25="","",COUNTIF('Abwesenheiten'!$A:$A,$A25)) | D25: =IF($A25="","",SUMIF('Abwesenheiten'!$A:$A,$A25,'Abwesenheiten'!$E:$E)) | E25: =IF($A25="","",COUNTIFS('Abwesenheiten'!$A:$A,$A25,'Abwesenheiten'!$F:$F,'Listen'!$B$4)) | F25: =IF($A25="","",$C25*$C25*$D25) | G25: =IF($A25="","",TODAY())

Sheet Abwesenheiten
A1: ABSORA · Abwesenheitsliste | H1: sheetorial.com
A3: Abwesenheitsprotokoll
A4: Eine Zeile pro Abwesenheit. Tage zählt Kalendertage vom ersten bis zum letzten Tag, beide eingeschlossen.
A6: Abwesenheiten | B6: =COUNTA($A$10:$A$120) | C6: Ausfalltage | D6: =SUM($E$10:$E$120) | E6: Unentschuldigt | F6: =COUNTIF($F$10:$F$120,'Listen'!$B$4)
A9: Mitarbeiter/in | B9: Grund | C9: Erster Tag | D9: Letzter Tag | E9: Tage | F9: Genehmigt | G9: Rückkehrgespräch | H9: Notizen
A10: Lee Park | B10: Krank | C10: 46034 | D10: 46035 | E10: =IF(OR($C10="",$D10=""),"",$D10-$C10+1) | F10: Ja | G10: Ja
A11: Sam Ortiz | B11: Arzttermin | C11: 46049 | D11: 46049 | E11: =IF(OR($C11="",$D11=""),"",$D11-$C11+1) | F11: Ja | G11: Nein | H11: Halber Tag
A12: Jordan Price | B12: Krank | C12: 46062 | D12: 46064 | E12: =IF(OR($C12="",$D12=""),"",$D12-$C12+1) | F12: Ja | G12: Ja
A13: Lee Park | B13: Krank | C13: 46069 | D13: 46069 | E13: =IF(OR($C13="",$D13=""),"",$D13-$C13+1) | F13: Ja | G13: Nein
A14: Chris Doyle | B14: Unentschuldigt | C14: 46076 | D14: 46076 | E14: =IF(OR($C14="",$D14=""),"",$D14-$C14+1) | F14: Nein | G14: Ja
A15: Lee Park | B15: Krank | C15: 46083 | D15: 46083 | E15: =IF(OR($C15="",$D15=""),"",$D15-$C15+1) | F15: Ja | G15: Ja
A16: Maya Lane | B16: Familiärer Notfall | C16: 46099 | D16: 46100 | E16: =IF(OR($C16="",$D16=""),"",$D16-$C16+1) | F16: Ja | G16: Nein
A17: Chris Doyle | B17: Verspätung | C17: 46118 | D17: 46118 | E17: =IF(OR($C17="",$D17=""),"",$D17-$C17+1) | F17: Nein | G17: Nein | H17: Bahnstreik
A18: Dana Reed | B18: Krank | C18: 46132 | D18: 46136 | E18: =IF(OR($C18="",$D18=""),"",$D18-$C18+1) | F18: Ja | G18: Ja
A19: Lee Park | B19: Krank | C19: 46146 | D19: 46147 | E19: =IF(OR($C19="",$D19=""),"",$D19-$C19+1) | F19: Ja | G19: Ja
A20: Robin Vale | B20: Arzttermin | C20: 46156 | D20: 46156 | E20: =IF(OR($C20="",$D20=""),"",$D20-$C20+1) | F20: Ja | G20: Nein
A21: Chris Doyle | B21: Unentschuldigt | C21: 46167 | D21: 46168 | E21: =IF(OR($C21="",$D21=""),"",$D21-$C21+1) | F21: Nein | G21: Ja
A22: Alex Kim | B22: Krank | C22: 46181 | D22: 46182 | E22: =IF(OR($C22="",$D22=""),"",$D22-$C22+1) | F22: Ja | G22: Ja
A23: Lee Park | B23: Krank | C23: 46195 | D23: 46195 | E23: =IF(OR($C23="",$D23=""),"",$D23-$C23+1) | F23: Ja | G23: Nein
A24: Jordan Price | B24: Sonstiges | C24: 46202 | D24: 46202 | E24: =IF(OR($C24="",$D24=""),"",$D24-$C24+1) | F24: Ja | G24: Nein | H24: Schöffendienst
E25: =IF(OR($C25="",$D25=""),"",$D25-$C25+1)
E26: =IF(OR($C26="",$D26=""),"",$D26-$C26+1)
E27: =IF(OR($C27="",$D27=""),"",$D27-$C27+1)
E28: =IF(OR($C28="",$D28=""),"",$D28-$C28+1)
E29: =IF(OR($C29="",$D29=""),"",$D29-$C29+1)
E30: =IF(OR($C30="",$D30=""),"",$D30-$C30+1)
E31: =IF(OR($C31="",$D31=""),"",$D31-$C31+1)
E32: =IF(OR($C32="",$D32=""),"",$D32-$C32+1)
E33: =IF(OR($C33="",$D33=""),"",$D33-$C33+1)
E34: =IF(OR($C34="",$D34=""),"",$D34-$C34+1)
E35: =IF(OR($C35="",$D35=""),"",$D35-$C35+1)
E36: =IF(OR($C36="",$D36=""),"",$D36-$C36+1)
... E120: =IF(OR($C120="",$D120=""),"",$D120-$C120+1)

Sheet Monatlich
A1: ABSORA · Abwesenheitsliste | H1: sheetorial.com
A3: Ausfalltage je Monat
A4: Ersten Monat ändern, alle Spalten folgen. Jede Abwesenheit zählt im Monat ihres Beginns.
A6: Erster Monat | B6: 46023
A9: Grund | B9: Monat 1 | C9: Monat 2 | D9: Monat 3 | E9: Monat 4 | F9: Monat 5 | G9: Monat 6 | H9: Summe
A10: Monatsbeginn | B10: =DATE(YEAR($B$6),MONTH($B$6)+0,1) | C10: =DATE(YEAR($B$6),MONTH($B$6)+1,1) | D10: =DATE(YEAR($B$6),MONTH($B$6)+2,1) | E10: =DATE(YEAR($B$6),MONTH($B$6)+3,1) | F10: =DATE(YEAR($B$6),MONTH($B$6)+4,1) | G10: =DATE(YEAR($B$6),MONTH($B$6)+5,1)
A11: =IF('Listen'!$A3="","",'Listen'!$A3) | B11: =IF($A11="","",SUMIFS('Abwesenheiten'!$E:$E,'Abwesenheiten'!$B:$B,$A11,'Abwesenheiten'!$C:$C,">="&B$10,'Abwesenheiten'!$C:$C,"<"&DATE(YEAR(B$10),MONTH(B$10)+1,1))) | C11: =IF($A11="","",SUMIFS('Abwesenheiten'!$E:$E,'Abwesenheiten'!$B:$B,$A11,'Abwesenheiten'!$C:$C,">="&C$10,'Abwesenheiten'!$C:$C,"<"&DATE(YEAR(C$10),MONTH(C$10)+1,1))) | D11: =IF($A11="","",SUMIFS('Abwesenheiten'!$E:$E,'Abwesenheiten'!$B:$B,$A11,'Abwesenheiten'!$C:$C,">="&D$10,'Abwesenheiten'!$C:$C,"<"&DATE(YEAR(D$10),MONTH(D$10)+1,1))) | E11: =IF($A11="","",SUMIFS('Abwesenheiten'!$E:$E,'Abwesenheiten'!$B:$B,$A11,'Abwesenheiten'!$C:$C,">="&E$10,'Abwesenheiten'!$C:$C,"<"&DATE(YEAR(E$10),MONTH(E$10)+1,1))) | F11: =IF($A11="","",SUMIFS('Abwesenheiten'!$E:$E,'Abwesenheiten'!$B:$B,$A11,'Abwesenheiten'!$C:$C,">="&F$10,'Abwesenheiten'!$C:$C,"<"&DATE(YEAR(F$10),MONTH(F$10)+1,1))) | G11: =IF($A11="","",SUMIFS('Abwesenheiten'!$E:$E,'Abwesenheiten'!$B:$B,$A11,'Abwesenheiten'!$C:$C,">="&G$10,'Abwesenheiten'!$C:$C,"<"&DATE(YEAR(G$10),MONTH(G$10)+1,1))) | H11: =IF($A11="","",SUM($B11:$G11))
A12: =IF('Listen'!$A4="","",'Listen'!$A4) | B12: =IF($A12="","",SUMIFS('Abwesenheiten'!$E:$E,'Abwesenheiten'!$B:$B,$A12,'Abwesenheiten'!$C:$C,">="&B$10,'Abwesenheiten'!$C:$C,"<"&DATE(YEAR(B$10),MONTH(B$10)+1,1))) | C12: =IF($A12="","",SUMIFS('Abwesenheiten'!$E:$E,'Abwesenheiten'!$B:$B,$A12,'Abwesenheiten'!$C:$C,">="&C$10,'Abwesenheiten'!$C:$C,"<"&DATE(YEAR(C$10),MONTH(C$10)+1,1))) | D12: =IF($A12="","",SUMIFS('Abwesenheiten'!$E:$E,'Abwesenheiten'!$B:$B,$A12,'Abwesenheiten'!$C:$C,">="&D$10,'Abwesenheiten'!$C:$C,"<"&DATE(YEAR(D$10),MONTH(D$10)+1,1))) | E12: =IF($A12="","",SUMIFS('Abwesenheiten'!$E:$E,'Abwesenheiten'!$B:$B,$A12,'Abwesenheiten'!$C:$C,">="&E$10,'Abwesenheiten'!$C:$C,"<"&DATE(YEAR(E$10),MONTH(E$10)+1,1))) | F12: =IF($A12="","",SUMIFS('Abwesenheiten'!$E:$E,'Abwesenheiten'!$B:$B,$A12,'Abwesenheiten'!$C:$C,">="&F$10,'Abwesenheiten'!$C:$C,"<"&DATE(YEAR(F$10),MONTH(F$10)+1,1))) | G12: =IF($A12="","",SUMIFS('Abwesenheiten'!$E:$E,'Abwesenheiten'!$B:$B,$A12,'Abwesenheiten'!$C:$C,">="&G$10,'Abwesenheiten'!$C:$C,"<"&DATE(YEAR(G$10),MONTH(G$10)+1,1))) | H12: =IF($A12="","",SUM($B12:$G12))
A13: =IF('Listen'!$A5="","",'Listen'!$A5) | B13: =IF($A13="","",SUMIFS('Abwesenheiten'!$E:$E,'Abwesenheiten'!$B:$B,$A13,'Abwesenheiten'!$C:$C,">="&B$10,'Abwesenheiten'!$C:$C,"<"&DATE(YEAR(B$10),MONTH(B$10)+1,1))) | C13: =IF($A13="","",SUMIFS('Abwesenheiten'!$E:$E,'Abwesenheiten'!$B:$B,$A13,'Abwesenheiten'!$C:$C,">="&C$10,'Abwesenheiten'!$C:$C,"<"&DATE(YEAR(C$10),MONTH(C$10)+1,1))) | D13: =IF($A13="","",SUMIFS('Abwesenheiten'!$E:$E,'Abwesenheiten'!$B:$B,$A13,'Abwesenheiten'!$C:$C,">="&D$10,'Abwesenheiten'!$C:$C,"<"&DATE(YEAR(D$10),MONTH(D$10)+1,1))) | E13: =IF($A13="","",SUMIFS('Abwesenheiten'!$E:$E,'Abwesenheiten'!$B:$B,$A13,'Abwesenheiten'!$C:$C,">="&E$10,'Abwesenheiten'!$C:$C,"<"&DATE(YEAR(E$10),MONTH(E$10)+1,1))) | F13: =IF($A13="","",SUMIFS('Abwesenheiten'!$E:$E,'Abwesenheiten'!$B:$B,$A13,'Abwesenheiten'!$C:$C,">="&F$10,'Abwesenheiten'!$C:$C,"<"&DATE(YEAR(F$10),MONTH(F$10)+1,1))) | G13: =IF($A13="","",SUMIFS('Abwesenheiten'!$E:$E,'Abwesenheiten'!$B:$B,$A13,'Abwesenheiten'!$C:$C,">="&G$10,'Abwesenheiten'!$C:$C,"<"&DATE(YEAR(G$10),MONTH(G$10)+1,1))) | H13: =IF($A13="","",SUM($B13:$G13))
A14: =IF('Listen'!$A6="","",'Listen'!$A6) | B14: =IF($A14="","",SUMIFS('Abwesenheiten'!$E:$E,'Abwesenheiten'!$B:$B,$A14,'Abwesenheiten'!$C:$C,">="&B$10,'Abwesenheiten'!$C:$C,"<"&DATE(YEAR(B$10),MONTH(B$10)+1,1))) | C14: =IF($A14="","",SUMIFS('Abwesenheiten'!$E:$E,'Abwesenheiten'!$B:$B,$A14,'Abwesenheiten'!$C:$C,">="&C$10,'Abwesenheiten'!$C:$C,"<"&DATE(YEAR(C$10),MONTH(C$10)+1,1))) | D14: =IF($A14="","",SUMIFS('Abwesenheiten'!$E:$E,'Abwesenheiten'!$B:$B,$A14,'Abwesenheiten'!$C:$C,">="&D$10,'Abwesenheiten'!$C:$C,"<"&DATE(YEAR(D$10),MONTH(D$10)+1,1))) | E14: =IF($A14="","",SUMIFS('Abwesenheiten'!$E:$E,'Abwesenheiten'!$B:$B,$A14,'Abwesenheiten'!$C:$C,">="&E$10,'Abwesenheiten'!$C:$C,"<"&DATE(YEAR(E$10),MONTH(E$10)+1,1))) | F14: =IF($A14="","",SUMIFS('Abwesenheiten'!$E:$E,'Abwesenheiten'!$B:$B,$A14,'Abwesenheiten'!$C:$C,">="&F$10,'Abwesenheiten'!$C:$C,"<"&DATE(YEAR(F$10),MONTH(F$10)+1,1))) | G14: =IF($A14="","",SUMIFS('Abwesenheiten'!$E:$E,'Abwesenheiten'!$B:$B,$A14,'Abwesenheiten'!$C:$C,">="&G$10,'Abwesenheiten'!$C:$C,"<"&DATE(YEAR(G$10),MONTH(G$10)+1,1))) | H14: =IF($A14="","",SUM($B14:$G14))
A15: =IF('Listen'!$A7="","",'Listen'!$A7) | B15: =IF($A15="","",SUMIFS('Abwesenheiten'!$E:$E,'Abwesenheiten'!$B:$B,$A15,'Abwesenheiten'!$C:$C,">="&B$10,'Abwesenheiten'!$C:$C,"<"&DATE(YEAR(B$10),MONTH(B$10)+1,1))) | C15: =IF($A15="","",SUMIFS('Abwesenheiten'!$E:$E,'Abwesenheiten'!$B:$B,$A15,'Abwesenheiten'!$C:$C,">="&C$10,'Abwesenheiten'!$C:$C,"<"&DATE(YEAR(C$10),MONTH(C$10)+1,1))) | D15: =IF($A15="","",SUMIFS('Abwesenheiten'!$E:$E,'Abwesenheiten'!$B:$B,$A15,'Abwesenheiten'!$C:$C,">="&D$10,'Abwesenheiten'!$C:$C,"<"&DATE(YEAR(D$10),MONTH(D$10)+1,1))) | E15: =IF($A15="","",SUMIFS('Abwesenheiten'!$E:$E,'Abwesenheiten'!$B:$B,$A15,'Abwesenheiten'!$C:$C,">="&E$10,'Abwesenheiten'!$C:$C,"<"&DATE(YEAR(E$10),MONTH(E$10)+1,1))) | F15: =IF($A15="","",SUMIFS('Abwesenheiten'!$E:$E,'Abwesenheiten'!$B:$B,$A15,'Abwesenheiten'!$C:$C,">="&F$10,'Abwesenheiten'!$C:$C,"<"&DATE(YEAR(F$10),MONTH(F$10)+1,1))) | G15: =IF($A15="","",SUMIFS('Abwesenheiten'!$E:$E,'Abwesenheiten'!$B:$B,$A15,'Abwesenheiten'!$C:$C,">="&G$10,'Abwesenheiten'!$C:$C,"<"&DATE(YEAR(G$10),MONTH(G$10)+1,1))) | H15: =IF($A15="","",SUM($B15:$G15))
A16: =IF('Listen'!$A8="","",'Listen'!$A8) | B16: =IF($A16="","",SUMIFS('Abwesenheiten'!$E:$E,'Abwesenheiten'!$B:$B,$A16,'Abwesenheiten'!$C:$C,">="&B$10,'Abwesenheiten'!$C:$C,"<"&DATE(YEAR(B$10),MONTH(B$10)+1,1))) | C16: =IF($A16="","",SUMIFS('Abwesenheiten'!$E:$E,'Abwesenheiten'!$B:$B,$A16,'Abwesenheiten'!$C:$C,">="&C$10,'Abwesenheiten'!$C:$C,"<"&DATE(YEAR(C$10),MONTH(C$10)+1,1))) | D16: =IF($A16="","",SUMIFS('Abwesenheiten'!$E:$E,'Abwesenheiten'!$B:$B,$A16,'Abwesenheiten'!$C:$C,">="&D$10,'Abwesenheiten'!$C:$C,"<"&DATE(YEAR(D$10),MONTH(D$10)+1,1))) | E16: =IF($A16="","",SUMIFS('Abwesenheiten'!$E:$E,'Abwesenheiten'!$B:$B,$A16,'Abwesenheiten'!$C:$C,">="&E$10,'Abwesenheiten'!$C:$C,"<"&DATE(YEAR(E$10),MONTH(E$10)+1,1))) | F16: =IF($A16="","",SUMIFS('Abwesenheiten'!$E:$E,'Abwesenheiten'!$B:$B,$A16,'Abwesenheiten'!$C:$C,">="&F$10,'Abwesenheiten'!$C:$C,"<"&DATE(YEAR(F$10),MONTH(F$10)+1,1))) | G16: =IF($A16="","",SUMIFS('Abwesenheiten'!$E:$E,'Abwesenheiten'!$B:$B,$A16,'Abwesenheiten'!$C:$C,">="&G$10,'Abwesenheiten'!$C:$C,"<"&DATE(YEAR(G$10),MONTH(G$10)+1,1))) | H16: =IF($A16="","",SUM($B16:$G16))
A17: =IF('Listen'!$A9="","",'Listen'!$A9) | B17: =IF($A17="","",SUMIFS('Abwesenheiten'!$E:$E,'Abwesenheiten'!$B:$B,$A17,'Abwesenheiten'!$C:$C,">="&B$10,'Abwesenheiten'!$C:$C,"<"&DATE(YEAR(B$10),MONTH(B$10)+1,1))) | C17: =IF($A17="","",SUMIFS('Abwesenheiten'!$E:$E,'Abwesenheiten'!$B:$B,$A17,'Abwesenheiten'!$C:$C,">="&C$10,'Abwesenheiten'!$C:$C,"<"&DATE(YEAR(C$10),MONTH(C$10)+1,1))) | D17: =IF($A17="","",SUMIFS('Abwesenheiten'!$E:$E,'Abwesenheiten'!$B:$B,$A17,'Abwesenheiten'!$C:$C,">="&D$10,'Abwesenheiten'!$C:$C,"<"&DATE(YEAR(D$10),MONTH(D$10)+1,1))) | E17: =IF($A17="","",SUMIFS('Abwesenheiten'!$E:$E,'Abwesenheiten'!$B:$B,$A17,'Abwesenheiten'!$C:$C,">="&E$10,'Abwesenheiten'!$C:$C,"<"&DATE(YEAR(E$10),MONTH(E$10)+1,1))) | F17: =IF($A17="","",SUMIFS('Abwesenheiten'!$E:$E,'Abwesenheiten'!$B:$B,$A17,'Abwesenheiten'!$C:$C,">="&F$10,'Abwesenheiten'!$C:$C,"<"&DATE(YEAR(F$10),MONTH(F$10)+1,1))) | G17: =IF($A17="","",SUMIFS('Abwesenheiten'!$E:$E,'Abwesenheiten'!$B:$B,$A17,'Abwesenheiten'!$C:$C,">="&G$10,'Abwesenheiten'!$C:$C,"<"&DATE(YEAR(G$10),MONTH(G$10)+1,1))) | H17: =IF($A17="","",SUM($B17:$G17))
A18: =IF('Listen'!$A10="","",'Listen'!$A10) | B18: =IF($A18="","",SUMIFS('Abwesenheiten'!$E:$E,'Abwesenheiten'!$B:$B,$A18,'Abwesenheiten'!$C:$C,">="&B$10,'Abwesenheiten'!$C:$C,"<"&DATE(YEAR(B$10),MONTH(B$10)+1,1))) | C18: =IF($A18="","",SUMIFS('Abwesenheiten'!$E:$E,'Abwesenheiten'!$B:$B,$A18,'Abwesenheiten'!$C:$C,">="&C$10,'Abwesenheiten'!$C:$C,"<"&DATE(YEAR(C$10),MONTH(C$10)+1,1))) | D18: =IF($A18="","",SUMIFS('Abwesenheiten'!$E:$E,'Abwesenheiten'!$B:$B,$A18,'Abwesenheiten'!$C:$C,">="&D$10,'Abwesenheiten'!$C:$C,"<"&DATE(YEAR(D$10),MONTH(D$10)+1,1))) | E18: =IF($A18="","",SUMIFS('Abwesenheiten'!$E:$E,'Abwesenheiten'!$B:$B,$A18,'Abwesenheiten'!$C:$C,">="&E$10,'Abwesenheiten'!$C:$C,"<"&DATE(YEAR(E$10),MONTH(E$10)+1,1))) | F18: =IF($A18="","",SUMIFS('Abwesenheiten'!$E:$E,'Abwesenheiten'!$B:$B,$A18,'Abwesenheiten'!$C:$C,">="&F$10,'Abwesenheiten'!$C:$C,"<"&DATE(YEAR(F$10),MONTH(F$10)+1,1))) | G18: =IF($A18="","",SUMIFS('Abwesenheiten'!$E:$E,'Abwesenheiten'!$B:$B,$A18,'Abwesenheiten'!$C:$C,">="&G$10,'Abwesenheiten'!$C:$C,"<"&DATE(YEAR(G$10),MONTH(G$10)+1,1))) | H18: =IF($A18="","",SUM($B18:$G18))
A19: Summe | B19: =SUM(B11:B18) | C19: =SUM(C11:C18) | D19: =SUM(D11:D18) | E19: =SUM(E11:E18) | F19: =SUM(F11:F18) | G19: =SUM(G11:G18) | H19: =SUM(H11:H18)

Sheet Listen
A1: ABSORA · Abwesenheitsliste | D1: sheetorial.com
A2: Grund | B2: Genehmigt
A3: Krank | B3: Ja
A4: Arzttermin | B4: Nein
A5: Familiärer Notfall
A6: Verspätung
A7: Unentschuldigt
A8: Sonstiges
A10: Abwesenheitsgründe hier bearbeiten – das Grund-Dropdown und die Registerkarte Monatlich folgen dieser Liste.
