Workbook

Sheet Leads
A1: LEADORA · Lead-Tracker | K1: sheetorial.com
A3: Lead-Tracker
A4: Eine Zeile pro eingehendem Lead. Reaktionszeit wird berechnet, überfällige Wiedervorlagen werden gelb.
A6: Leads | B6: =COUNTA($A$10:$A$150) | C6: Offen | D6: =B6-COUNTIF($F$10:$F$150,'Listen'!$A$7)-COUNTIF($F$10:$F$150,'Listen'!$A$8) | E6: Gewonnener Wert | F6: =SUMIF($F$10:$F$150,'Listen'!$A$7,$H$10:$H$150) | G6: Ø Reaktionszeit (Tage) | H6: =IFERROR(AVERAGE($K$10:$K$150),"")
A9: Eingang | B9: Name | C9: Firma | D9: E-Mail | E9: Quelle | F9: Status | G9: Score (1-5) | H9: Gesch. Wert | I9: Erstkontakt | J9: Nächstes Follow-up | K9: Reaktion (Tage)
A10: 46174 | B10: Nora Blake | C10: Harbor Foods | D10: nora@example.com | E10: Webformular | F10: Gewonnen | G10: 5 | H10: 4800 | I10: 46174 | K10: =IF(OR($A10="",$I10=""),"",$I10-$A10)
A11: 46175 | B11: Ian Ross | C11: Pine & Co | D11: ian@example.com | E11: Empfehlung | F11: Angebot gesendet | G11: 4 | H11: 3200 | I11: 46176 | J11: 46213 | K11: =IF(OR($A11="",$I11=""),"",$I11-$A11)
A12: 46177 | B12: Eva Lund | C12: Brightline Ltd | D12: eva@example.com | E12: Messe | F12: Qualifiziert | G12: 4 | H12: 6500 | I12: 46179 | J12: 46211 | K12: =IF(OR($A12="",$I12=""),"",$I12-$A12)
A13: 46181 | B13: Omar Haddad | C13: Cedar Logistics | D13: omar@example.com | E13: Kaltakquise | F13: Kontaktiert | G13: 2 | H13: 1500 | I13: 46185 | J13: 46205 | K13: =IF(OR($A13="",$I13=""),"",$I13-$A13)
A14: 46184 | B14: Lucy Grant | C14: Maple Dental | D14: lucy@example.com | E14: Webformular | F14: Verloren | G14: 3 | H14: 2200 | I14: 46184 | K14: =IF(OR($A14="",$I14=""),"",$I14-$A14)
A15: 46188 | B15: Theo Martin | C15: Atlas Fitness | D15: theo@example.com | E15: Social Media | F15: Neu | G15: 3 | H15: 1800 | J15: 46190 | K15: =IF(OR($A15="",$I15=""),"",$I15-$A15)
A16: 46191 | B16: Mia Costa | C16: Redfern Studio | D16: mia@example.com | E16: Empfehlung | F16: Gewonnen | G16: 5 | H16: 5400 | I16: 46191 | K16: =IF(OR($A16="",$I16=""),"",$I16-$A16)
A17: 46195 | B17: Ben Ward | C17: Oakridge Clinic | D17: ben@example.com | E17: Bezahlte Anzeigen | F17: Kontaktiert | G17: 2 | H17: 1200 | I17: 46197 | J17: 46209 | K17: =IF(OR($A17="",$I17=""),"",$I17-$A17)
A18: 46198 | B18: Ana Ruiz | C18: Summit Retail | D18: ana@example.com | E18: Webformular | F18: Qualifiziert | G18: 4 | H18: 3900 | I18: 46198 | J18: 46212 | K18: =IF(OR($A18="",$I18=""),"",$I18-$A18)
A19: 46202 | B19: Sam Cole | C19: Northgate Labs | D19: sam@example.com | E19: Messe | F19: Neu | G19: 3 | H19: 2600 | J19: 46204 | K19: =IF(OR($A19="",$I19=""),"",$I19-$A19)
K20: =IF(OR($A20="",$I20=""),"",$I20-$A20)
K21: =IF(OR($A21="",$I21=""),"",$I21-$A21)
K22: =IF(OR($A22="",$I22=""),"",$I22-$A22)
K23: =IF(OR($A23="",$I23=""),"",$I23-$A23)
K24: =IF(OR($A24="",$I24=""),"",$I24-$A24)
K25: =IF(OR($A25="",$I25=""),"",$I25-$A25)
K26: =IF(OR($A26="",$I26=""),"",$I26-$A26)
K27: =IF(OR($A27="",$I27=""),"",$I27-$A27)
K28: =IF(OR($A28="",$I28=""),"",$I28-$A28)
K29: =IF(OR($A29="",$I29=""),"",$I29-$A29)
K30: =IF(OR($A30="",$I30=""),"",$I30-$A30)
K31: =IF(OR($A31="",$I31=""),"",$I31-$A31)
... K150: =IF(OR($A150="",$I150=""),"",$I150-$A150)

Sheet Quellen
A1: LEADORA · Lead-Tracker | G1: sheetorial.com
A3: Leads nach Quelle
A4: Welche Kanäle Leads bringen, die abschließen. Alles hier wird aus Leads berechnet.
A9: Quelle | B9: Leads | C9: Qualifiziert+ | D9: Gewonnen | E9: Abschlussquote | F9: Gewonnener Wert | G9: Ø Score
A10: ='Listen'!$B$3 | B10: =COUNTIF('Leads'!$E:$E,$A10) | C10: =COUNTIFS('Leads'!$E:$E,$A10,'Leads'!$F:$F,'Listen'!$A$5)+COUNTIFS('Leads'!$E:$E,$A10,'Leads'!$F:$F,'Listen'!$A$6)+COUNTIFS('Leads'!$E:$E,$A10,'Leads'!$F:$F,'Listen'!$A$7) | D10: =COUNTIFS('Leads'!$E:$E,$A10,'Leads'!$F:$F,'Listen'!$A$7) | E10: =IFERROR($D10/$B10,0) | F10: =SUMIFS('Leads'!$H:$H,'Leads'!$E:$E,$A10,'Leads'!$F:$F,'Listen'!$A$7) | G10: =IFERROR(AVERAGEIF('Leads'!$E:$E,$A10,'Leads'!$G:$G),"")
A11: ='Listen'!$B$4 | B11: =COUNTIF('Leads'!$E:$E,$A11) | C11: =COUNTIFS('Leads'!$E:$E,$A11,'Leads'!$F:$F,'Listen'!$A$5)+COUNTIFS('Leads'!$E:$E,$A11,'Leads'!$F:$F,'Listen'!$A$6)+COUNTIFS('Leads'!$E:$E,$A11,'Leads'!$F:$F,'Listen'!$A$7) | D11: =COUNTIFS('Leads'!$E:$E,$A11,'Leads'!$F:$F,'Listen'!$A$7) | E11: =IFERROR($D11/$B11,0) | F11: =SUMIFS('Leads'!$H:$H,'Leads'!$E:$E,$A11,'Leads'!$F:$F,'Listen'!$A$7) | G11: =IFERROR(AVERAGEIF('Leads'!$E:$E,$A11,'Leads'!$G:$G),"")
A12: ='Listen'!$B$5 | B12: =COUNTIF('Leads'!$E:$E,$A12) | C12: =COUNTIFS('Leads'!$E:$E,$A12,'Leads'!$F:$F,'Listen'!$A$5)+COUNTIFS('Leads'!$E:$E,$A12,'Leads'!$F:$F,'Listen'!$A$6)+COUNTIFS('Leads'!$E:$E,$A12,'Leads'!$F:$F,'Listen'!$A$7) | D12: =COUNTIFS('Leads'!$E:$E,$A12,'Leads'!$F:$F,'Listen'!$A$7) | E12: =IFERROR($D12/$B12,0) | F12: =SUMIFS('Leads'!$H:$H,'Leads'!$E:$E,$A12,'Leads'!$F:$F,'Listen'!$A$7) | G12: =IFERROR(AVERAGEIF('Leads'!$E:$E,$A12,'Leads'!$G:$G),"")
A13: ='Listen'!$B$6 | B13: =COUNTIF('Leads'!$E:$E,$A13) | C13: =COUNTIFS('Leads'!$E:$E,$A13,'Leads'!$F:$F,'Listen'!$A$5)+COUNTIFS('Leads'!$E:$E,$A13,'Leads'!$F:$F,'Listen'!$A$6)+COUNTIFS('Leads'!$E:$E,$A13,'Leads'!$F:$F,'Listen'!$A$7) | D13: =COUNTIFS('Leads'!$E:$E,$A13,'Leads'!$F:$F,'Listen'!$A$7) | E13: =IFERROR($D13/$B13,0) | F13: =SUMIFS('Leads'!$H:$H,'Leads'!$E:$E,$A13,'Leads'!$F:$F,'Listen'!$A$7) | G13: =IFERROR(AVERAGEIF('Leads'!$E:$E,$A13,'Leads'!$G:$G),"")
A14: ='Listen'!$B$7 | B14: =COUNTIF('Leads'!$E:$E,$A14) | C14: =COUNTIFS('Leads'!$E:$E,$A14,'Leads'!$F:$F,'Listen'!$A$5)+COUNTIFS('Leads'!$E:$E,$A14,'Leads'!$F:$F,'Listen'!$A$6)+COUNTIFS('Leads'!$E:$E,$A14,'Leads'!$F:$F,'Listen'!$A$7) | D14: =COUNTIFS('Leads'!$E:$E,$A14,'Leads'!$F:$F,'Listen'!$A$7) | E14: =IFERROR($D14/$B14,0) | F14: =SUMIFS('Leads'!$H:$H,'Leads'!$E:$E,$A14,'Leads'!$F:$F,'Listen'!$A$7) | G14: =IFERROR(AVERAGEIF('Leads'!$E:$E,$A14,'Leads'!$G:$G),"")
A15: ='Listen'!$B$8 | B15: =COUNTIF('Leads'!$E:$E,$A15) | C15: =COUNTIFS('Leads'!$E:$E,$A15,'Leads'!$F:$F,'Listen'!$A$5)+COUNTIFS('Leads'!$E:$E,$A15,'Leads'!$F:$F,'Listen'!$A$6)+COUNTIFS('Leads'!$E:$E,$A15,'Leads'!$F:$F,'Listen'!$A$7) | D15: =COUNTIFS('Leads'!$E:$E,$A15,'Leads'!$F:$F,'Listen'!$A$7) | E15: =IFERROR($D15/$B15,0) | F15: =SUMIFS('Leads'!$H:$H,'Leads'!$E:$E,$A15,'Leads'!$F:$F,'Listen'!$A$7) | G15: =IFERROR(AVERAGEIF('Leads'!$E:$E,$A15,'Leads'!$G:$G),"")

Sheet Listen
A1: LEADORA · Lead-Tracker | D1: sheetorial.com
A2: Status | B2: Quelle
A3: Neu | B3: Webformular
A4: Kontaktiert | B4: Empfehlung
A5: Qualifiziert | B5: Messe
A6: Angebot gesendet | B6: Kaltakquise
A7: Gewonnen | B7: Social Media
A8: Verloren | B8: Bezahlte Anzeigen
A10: Die Status behalten diese Reihenfolge (Gewonnen und Verloren schließen einen Lead). Quellen frei umbenennen.
