Workbook

Sheet Mitarbeitende
A1: OVERIX · Überstundenliste | H1: sheetorial.com
A3: Überstunden je Mitarbeitende
A4: Stunden und Lohn kommen aus dem Protokoll. Nur genehmigte Zeilen zählen, offene stehen separat.
A6: Genehmigte Stunden | B6: =SUM($D$10:$D$25) | C6: Überstundenlohn | D6: =SUM($F$10:$F$25) | E6: Offene Stunden | F6: =SUM($E$10:$E$25)
A9: Mitarbeiter/in | B9: Abteilung | C9: Stundensatz | D9: Genehmigte Stunden | E9: Offene Stunden | F9: Überstundenlohn | G9: Stundenkontingent | H9: % des Kontingents
A10: Dana Reed | B10: Lager | C10: 24.5 | D10: =IF($A10="","",SUMIFS('Protokoll'!$E:$E,'Protokoll'!$C:$C,$A10,'Protokoll'!$J:$J,'Listen'!$D$4)) | E10: =IF($A10="","",SUMIFS('Protokoll'!$E:$E,'Protokoll'!$C:$C,$A10,'Protokoll'!$J:$J,'Listen'!$D$3)) | F10: =IF($A10="","",SUMIFS('Protokoll'!$I:$I,'Protokoll'!$C:$C,$A10,'Protokoll'!$J:$J,'Listen'!$D$4)) | G10: 40 | H10: =IF(OR($A10="",$G10=""),"",IFERROR($D10/$G10,0))
A11: Lee Park | B11: Lager | C11: 22 | D11: =IF($A11="","",SUMIFS('Protokoll'!$E:$E,'Protokoll'!$C:$C,$A11,'Protokoll'!$J:$J,'Listen'!$D$4)) | E11: =IF($A11="","",SUMIFS('Protokoll'!$E:$E,'Protokoll'!$C:$C,$A11,'Protokoll'!$J:$J,'Listen'!$D$3)) | F11: =IF($A11="","",SUMIFS('Protokoll'!$I:$I,'Protokoll'!$C:$C,$A11,'Protokoll'!$J:$J,'Listen'!$D$4)) | G11: 40 | H11: =IF(OR($A11="",$G11=""),"",IFERROR($D11/$G11,0))
A12: Sam Ortiz | B12: Versand | C12: 26 | D12: =IF($A12="","",SUMIFS('Protokoll'!$E:$E,'Protokoll'!$C:$C,$A12,'Protokoll'!$J:$J,'Listen'!$D$4)) | E12: =IF($A12="","",SUMIFS('Protokoll'!$E:$E,'Protokoll'!$C:$C,$A12,'Protokoll'!$J:$J,'Listen'!$D$3)) | F12: =IF($A12="","",SUMIFS('Protokoll'!$I:$I,'Protokoll'!$C:$C,$A12,'Protokoll'!$J:$J,'Listen'!$D$4)) | G12: 30 | H12: =IF(OR($A12="",$G12=""),"",IFERROR($D12/$G12,0))
A13: Alex Kim | B13: Support | C13: 21.5 | D13: =IF($A13="","",SUMIFS('Protokoll'!$E:$E,'Protokoll'!$C:$C,$A13,'Protokoll'!$J:$J,'Listen'!$D$4)) | E13: =IF($A13="","",SUMIFS('Protokoll'!$E:$E,'Protokoll'!$C:$C,$A13,'Protokoll'!$J:$J,'Listen'!$D$3)) | F13: =IF($A13="","",SUMIFS('Protokoll'!$I:$I,'Protokoll'!$C:$C,$A13,'Protokoll'!$J:$J,'Listen'!$D$4)) | G13: 30 | H13: =IF(OR($A13="",$G13=""),"",IFERROR($D13/$G13,0))
A14: Robin Vale | B14: Support | C14: 21.5 | D14: =IF($A14="","",SUMIFS('Protokoll'!$E:$E,'Protokoll'!$C:$C,$A14,'Protokoll'!$J:$J,'Listen'!$D$4)) | E14: =IF($A14="","",SUMIFS('Protokoll'!$E:$E,'Protokoll'!$C:$C,$A14,'Protokoll'!$J:$J,'Listen'!$D$3)) | F14: =IF($A14="","",SUMIFS('Protokoll'!$I:$I,'Protokoll'!$C:$C,$A14,'Protokoll'!$J:$J,'Listen'!$D$4)) | G14: 30 | H14: =IF(OR($A14="",$G14=""),"",IFERROR($D14/$G14,0))
A15: Jordan Price | B15: Instandhaltung | C15: 28 | D15: =IF($A15="","",SUMIFS('Protokoll'!$E:$E,'Protokoll'!$C:$C,$A15,'Protokoll'!$J:$J,'Listen'!$D$4)) | E15: =IF($A15="","",SUMIFS('Protokoll'!$E:$E,'Protokoll'!$C:$C,$A15,'Protokoll'!$J:$J,'Listen'!$D$3)) | F15: =IF($A15="","",SUMIFS('Protokoll'!$I:$I,'Protokoll'!$C:$C,$A15,'Protokoll'!$J:$J,'Listen'!$D$4)) | G15: 24 | H15: =IF(OR($A15="",$G15=""),"",IFERROR($D15/$G15,0))
D16: =IF($A16="","",SUMIFS('Protokoll'!$E:$E,'Protokoll'!$C:$C,$A16,'Protokoll'!$J:$J,'Listen'!$D$4)) | E16: =IF($A16="","",SUMIFS('Protokoll'!$E:$E,'Protokoll'!$C:$C,$A16,'Protokoll'!$J:$J,'Listen'!$D$3)) | F16: =IF($A16="","",SUMIFS('Protokoll'!$I:$I,'Protokoll'!$C:$C,$A16,'Protokoll'!$J:$J,'Listen'!$D$4)) | H16: =IF(OR($A16="",$G16=""),"",IFERROR($D16/$G16,0))
D17: =IF($A17="","",SUMIFS('Protokoll'!$E:$E,'Protokoll'!$C:$C,$A17,'Protokoll'!$J:$J,'Listen'!$D$4)) | E17: =IF($A17="","",SUMIFS('Protokoll'!$E:$E,'Protokoll'!$C:$C,$A17,'Protokoll'!$J:$J,'Listen'!$D$3)) | F17: =IF($A17="","",SUMIFS('Protokoll'!$I:$I,'Protokoll'!$C:$C,$A17,'Protokoll'!$J:$J,'Listen'!$D$4)) | H17: =IF(OR($A17="",$G17=""),"",IFERROR($D17/$G17,0))
D18: =IF($A18="","",SUMIFS('Protokoll'!$E:$E,'Protokoll'!$C:$C,$A18,'Protokoll'!$J:$J,'Listen'!$D$4)) | E18: =IF($A18="","",SUMIFS('Protokoll'!$E:$E,'Protokoll'!$C:$C,$A18,'Protokoll'!$J:$J,'Listen'!$D$3)) | F18: =IF($A18="","",SUMIFS('Protokoll'!$I:$I,'Protokoll'!$C:$C,$A18,'Protokoll'!$J:$J,'Listen'!$D$4)) | H18: =IF(OR($A18="",$G18=""),"",IFERROR($D18/$G18,0))
D19: =IF($A19="","",SUMIFS('Protokoll'!$E:$E,'Protokoll'!$C:$C,$A19,'Protokoll'!$J:$J,'Listen'!$D$4)) | E19: =IF($A19="","",SUMIFS('Protokoll'!$E:$E,'Protokoll'!$C:$C,$A19,'Protokoll'!$J:$J,'Listen'!$D$3)) | F19: =IF($A19="","",SUMIFS('Protokoll'!$I:$I,'Protokoll'!$C:$C,$A19,'Protokoll'!$J:$J,'Listen'!$D$4)) | H19: =IF(OR($A19="",$G19=""),"",IFERROR($D19/$G19,0))
D20: =IF($A20="","",SUMIFS('Protokoll'!$E:$E,'Protokoll'!$C:$C,$A20,'Protokoll'!$J:$J,'Listen'!$D$4)) | E20: =IF($A20="","",SUMIFS('Protokoll'!$E:$E,'Protokoll'!$C:$C,$A20,'Protokoll'!$J:$J,'Listen'!$D$3)) | F20: =IF($A20="","",SUMIFS('Protokoll'!$I:$I,'Protokoll'!$C:$C,$A20,'Protokoll'!$J:$J,'Listen'!$D$4)) | H20: =IF(OR($A20="",$G20=""),"",IFERROR($D20/$G20,0))
D21: =IF($A21="","",SUMIFS('Protokoll'!$E:$E,'Protokoll'!$C:$C,$A21,'Protokoll'!$J:$J,'Listen'!$D$4)) | E21: =IF($A21="","",SUMIFS('Protokoll'!$E:$E,'Protokoll'!$C:$C,$A21,'Protokoll'!$J:$J,'Listen'!$D$3)) | F21: =IF($A21="","",SUMIFS('Protokoll'!$I:$I,'Protokoll'!$C:$C,$A21,'Protokoll'!$J:$J,'Listen'!$D$4)) | H21: =IF(OR($A21="",$G21=""),"",IFERROR($D21/$G21,0))
D22: =IF($A22="","",SUMIFS('Protokoll'!$E:$E,'Protokoll'!$C:$C,$A22,'Protokoll'!$J:$J,'Listen'!$D$4)) | E22: =IF($A22="","",SUMIFS('Protokoll'!$E:$E,'Protokoll'!$C:$C,$A22,'Protokoll'!$J:$J,'Listen'!$D$3)) | F22: =IF($A22="","",SUMIFS('Protokoll'!$I:$I,'Protokoll'!$C:$C,$A22,'Protokoll'!$J:$J,'Listen'!$D$4)) | H22: =IF(OR($A22="",$G22=""),"",IFERROR($D22/$G22,0))
D23: =IF($A23="","",SUMIFS('Protokoll'!$E:$E,'Protokoll'!$C:$C,$A23,'Protokoll'!$J:$J,'Listen'!$D$4)) | E23: =IF($A23="","",SUMIFS('Protokoll'!$E:$E,'Protokoll'!$C:$C,$A23,'Protokoll'!$J:$J,'Listen'!$D$3)) | F23: =IF($A23="","",SUMIFS('Protokoll'!$I:$I,'Protokoll'!$C:$C,$A23,'Protokoll'!$J:$J,'Listen'!$D$4)) | H23: =IF(OR($A23="",$G23=""),"",IFERROR($D23/$G23,0))
D24: =IF($A24="","",SUMIFS('Protokoll'!$E:$E,'Protokoll'!$C:$C,$A24,'Protokoll'!$J:$J,'Listen'!$D$4)) | E24: =IF($A24="","",SUMIFS('Protokoll'!$E:$E,'Protokoll'!$C:$C,$A24,'Protokoll'!$J:$J,'Listen'!$D$3)) | F24: =IF($A24="","",SUMIFS('Protokoll'!$I:$I,'Protokoll'!$C:$C,$A24,'Protokoll'!$J:$J,'Listen'!$D$4)) | H24: =IF(OR($A24="",$G24=""),"",IFERROR($D24/$G24,0))
D25: =IF($A25="","",SUMIFS('Protokoll'!$E:$E,'Protokoll'!$C:$C,$A25,'Protokoll'!$J:$J,'Listen'!$D$4)) | E25: =IF($A25="","",SUMIFS('Protokoll'!$E:$E,'Protokoll'!$C:$C,$A25,'Protokoll'!$J:$J,'Listen'!$D$3)) | F25: =IF($A25="","",SUMIFS('Protokoll'!$I:$I,'Protokoll'!$C:$C,$A25,'Protokoll'!$J:$J,'Listen'!$D$4)) | H25: =IF(OR($A25="",$G25=""),"",IFERROR($D25/$G25,0))

Sheet Protokoll
A1: OVERIX · Überstundenliste | K1: sheetorial.com
A3: Überstundenprotokoll
A4: Eine Zeile pro Überstundenblock. Lohn = Stunden x Stundensatz x Faktor der Zuschlagsart.
A6: Einträge | B6: =COUNTA($A$10:$A$150) | C6: Erfasste Stunden | D6: =SUM($E$10:$E$150) | E6: Warten auf Freigabe | F6: =COUNTIF($J$10:$J$150,'Listen'!$D$3)
A9: Datum | B9: Woche ab | C9: Mitarbeiter/in | D9: Grund | E9: Stunden | F9: Zuschlagsart | G9: Faktor | H9: Stundensatz | I9: Lohn | J9: Status | K9: Genehmigt von
A10: 46266 | B10: =IF($A10="","",$A10-WEEKDAY($A10,2)+1) | C10: Dana Reed | D10: Auftragsspitze | E10: 2.5 | F10: Zuschlag 50 % | G10: =IF($F10="","",IFERROR(VLOOKUP($F10,'Listen'!$A$3:$B$8,2,FALSE),"")) | H10: =IF($C10="","",IFERROR(VLOOKUP($C10,'Mitarbeitende'!$A$10:$C$25,3,FALSE),"")) | I10: =IF(OR($E10="",$G10="",$H10=""),"",$E10*$G10*$H10) | J10: Genehmigt | K10: R. Holt
A11: 46267 | B11: =IF($A11="","",$A11-WEEKDAY($A11,2)+1) | C11: Lee Park | D11: Auftragsspitze | E11: 2 | F11: Zuschlag 50 % | G11: =IF($F11="","",IFERROR(VLOOKUP($F11,'Listen'!$A$3:$B$8,2,FALSE),"")) | H11: =IF($C11="","",IFERROR(VLOOKUP($C11,'Mitarbeitende'!$A$10:$C$25,3,FALSE),"")) | I11: =IF(OR($E11="",$G11="",$H11=""),"",$E11*$G11*$H11) | J11: Genehmigt | K11: R. Holt
A12: 46270 | B12: =IF($A12="","",$A12-WEEKDAY($A12,2)+1) | C12: Sam Ortiz | D12: Termin | E12: 4 | F12: Zuschlag 50 % | G12: =IF($F12="","",IFERROR(VLOOKUP($F12,'Listen'!$A$3:$B$8,2,FALSE),"")) | H12: =IF($C12="","",IFERROR(VLOOKUP($C12,'Mitarbeitende'!$A$10:$C$25,3,FALSE),"")) | I12: =IF(OR($E12="",$G12="",$H12=""),"",$E12*$G12*$H12) | J12: Genehmigt | K12: R. Holt
A13: 46274 | B13: =IF($A13="","",$A13-WEEKDAY($A13,2)+1) | C13: Alex Kim | D13: Vertretung | E13: 3 | F13: Zuschlag 50 % | G13: =IF($F13="","",IFERROR(VLOOKUP($F13,'Listen'!$A$3:$B$8,2,FALSE),"")) | H13: =IF($C13="","",IFERROR(VLOOKUP($C13,'Mitarbeitende'!$A$10:$C$25,3,FALSE),"")) | I13: =IF(OR($E13="",$G13="",$H13=""),"",$E13*$G13*$H13) | J13: Genehmigt | K13: M. Grant
A14: 46278 | B14: =IF($A14="","",$A14-WEEKDAY($A14,2)+1) | C14: Jordan Price | D14: Notfall | E14: 5 | F14: Zuschlag 100 % | G14: =IF($F14="","",IFERROR(VLOOKUP($F14,'Listen'!$A$3:$B$8,2,FALSE),"")) | H14: =IF($C14="","",IFERROR(VLOOKUP($C14,'Mitarbeitende'!$A$10:$C$25,3,FALSE),"")) | I14: =IF(OR($E14="",$G14="",$H14=""),"",$E14*$G14*$H14) | J14: Genehmigt | K14: R. Holt
A15: 46281 | B15: =IF($A15="","",$A15-WEEKDAY($A15,2)+1) | C15: Dana Reed | D15: Auftragsspitze | E15: 3 | F15: Zuschlag 50 % | G15: =IF($F15="","",IFERROR(VLOOKUP($F15,'Listen'!$A$3:$B$8,2,FALSE),"")) | H15: =IF($C15="","",IFERROR(VLOOKUP($C15,'Mitarbeitende'!$A$10:$C$25,3,FALSE),"")) | I15: =IF(OR($E15="",$G15="",$H15=""),"",$E15*$G15*$H15) | J15: Genehmigt | K15: R. Holt
A16: 46283 | B16: =IF($A16="","",$A16-WEEKDAY($A16,2)+1) | C16: Robin Vale | D16: Vertretung | E16: 2 | F16: Zuschlag 50 % | G16: =IF($F16="","",IFERROR(VLOOKUP($F16,'Listen'!$A$3:$B$8,2,FALSE),"")) | H16: =IF($C16="","",IFERROR(VLOOKUP($C16,'Mitarbeitende'!$A$10:$C$25,3,FALSE),"")) | I16: =IF(OR($E16="",$G16="",$H16=""),"",$E16*$G16*$H16) | J16: Abgelehnt | K16: M. Grant
A17: 46287 | B17: =IF($A17="","",$A17-WEEKDAY($A17,2)+1) | C17: Lee Park | D17: Termin | E17: 1.5 | F17: Ohne Zuschlag | G17: =IF($F17="","",IFERROR(VLOOKUP($F17,'Listen'!$A$3:$B$8,2,FALSE),"")) | H17: =IF($C17="","",IFERROR(VLOOKUP($C17,'Mitarbeitende'!$A$10:$C$25,3,FALSE),"")) | I17: =IF(OR($E17="",$G17="",$H17=""),"",$E17*$G17*$H17) | J17: Genehmigt | K17: R. Holt
A18: 46289 | B18: =IF($A18="","",$A18-WEEKDAY($A18,2)+1) | C18: Sam Ortiz | D18: Auftragsspitze | E18: 3.5 | F18: Zuschlag 50 % | G18: =IF($F18="","",IFERROR(VLOOKUP($F18,'Listen'!$A$3:$B$8,2,FALSE),"")) | H18: =IF($C18="","",IFERROR(VLOOKUP($C18,'Mitarbeitende'!$A$10:$C$25,3,FALSE),"")) | I18: =IF(OR($E18="",$G18="",$H18=""),"",$E18*$G18*$H18) | J18: Genehmigt | K18: R. Holt
A19: 46292 | B19: =IF($A19="","",$A19-WEEKDAY($A19,2)+1) | C19: Jordan Price | D19: Notfall | E19: 4 | F19: Zuschlag 100 % | G19: =IF($F19="","",IFERROR(VLOOKUP($F19,'Listen'!$A$3:$B$8,2,FALSE),"")) | H19: =IF($C19="","",IFERROR(VLOOKUP($C19,'Mitarbeitende'!$A$10:$C$25,3,FALSE),"")) | I19: =IF(OR($E19="",$G19="",$H19=""),"",$E19*$G19*$H19) | J19: Genehmigt | K19: R. Holt
A20: 46295 | B20: =IF($A20="","",$A20-WEEKDAY($A20,2)+1) | C20: Dana Reed | D20: Termin | E20: 2 | F20: Zuschlag 50 % | G20: =IF($F20="","",IFERROR(VLOOKUP($F20,'Listen'!$A$3:$B$8,2,FALSE),"")) | H20: =IF($C20="","",IFERROR(VLOOKUP($C20,'Mitarbeitende'!$A$10:$C$25,3,FALSE),"")) | I20: =IF(OR($E20="",$G20="",$H20=""),"",$E20*$G20*$H20) | J20: Offen
A21: 46296 | B21: =IF($A21="","",$A21-WEEKDAY($A21,2)+1) | C21: Alex Kim | D21: Auftragsspitze | E21: 2.5 | F21: Zuschlag 50 % | G21: =IF($F21="","",IFERROR(VLOOKUP($F21,'Listen'!$A$3:$B$8,2,FALSE),"")) | H21: =IF($C21="","",IFERROR(VLOOKUP($C21,'Mitarbeitende'!$A$10:$C$25,3,FALSE),"")) | I21: =IF(OR($E21="",$G21="",$H21=""),"",$E21*$G21*$H21) | J21: Offen
A22: 46297 | B22: =IF($A22="","",$A22-WEEKDAY($A22,2)+1) | C22: Lee Park | D22: Vertretung | E22: 3 | F22: Zuschlag 50 % | G22: =IF($F22="","",IFERROR(VLOOKUP($F22,'Listen'!$A$3:$B$8,2,FALSE),"")) | H22: =IF($C22="","",IFERROR(VLOOKUP($C22,'Mitarbeitende'!$A$10:$C$25,3,FALSE),"")) | I22: =IF(OR($E22="",$G22="",$H22=""),"",$E22*$G22*$H22) | J22: Offen
B23: =IF($A23="","",$A23-WEEKDAY($A23,2)+1) | G23: =IF($F23="","",IFERROR(VLOOKUP($F23,'Listen'!$A$3:$B$8,2,FALSE),"")) | H23: =IF($C23="","",IFERROR(VLOOKUP($C23,'Mitarbeitende'!$A$10:$C$25,3,FALSE),"")) | I23: =IF(OR($E23="",$G23="",$H23=""),"",$E23*$G23*$H23)
B24: =IF($A24="","",$A24-WEEKDAY($A24,2)+1) | G24: =IF($F24="","",IFERROR(VLOOKUP($F24,'Listen'!$A$3:$B$8,2,FALSE),"")) | H24: =IF($C24="","",IFERROR(VLOOKUP($C24,'Mitarbeitende'!$A$10:$C$25,3,FALSE),"")) | I24: =IF(OR($E24="",$G24="",$H24=""),"",$E24*$G24*$H24)
B25: =IF($A25="","",$A25-WEEKDAY($A25,2)+1) | G25: =IF($F25="","",IFERROR(VLOOKUP($F25,'Listen'!$A$3:$B$8,2,FALSE),"")) | H25: =IF($C25="","",IFERROR(VLOOKUP($C25,'Mitarbeitende'!$A$10:$C$25,3,FALSE),"")) | I25: =IF(OR($E25="",$G25="",$H25=""),"",$E25*$G25*$H25)
B26: =IF($A26="","",$A26-WEEKDAY($A26,2)+1) | G26: =IF($F26="","",IFERROR(VLOOKUP($F26,'Listen'!$A$3:$B$8,2,FALSE),"")) | H26: =IF($C26="","",IFERROR(VLOOKUP($C26,'Mitarbeitende'!$A$10:$C$25,3,FALSE),"")) | I26: =IF(OR($E26="",$G26="",$H26=""),"",$E26*$G26*$H26)
B27: =IF($A27="","",$A27-WEEKDAY($A27,2)+1) | G27: =IF($F27="","",IFERROR(VLOOKUP($F27,'Listen'!$A$3:$B$8,2,FALSE),"")) | H27: =IF($C27="","",IFERROR(VLOOKUP($C27,'Mitarbeitende'!$A$10:$C$25,3,FALSE),"")) | I27: =IF(OR($E27="",$G27="",$H27=""),"",$E27*$G27*$H27)
B28: =IF($A28="","",$A28-WEEKDAY($A28,2)+1) | G28: =IF($F28="","",IFERROR(VLOOKUP($F28,'Listen'!$A$3:$B$8,2,FALSE),"")) | H28: =IF($C28="","",IFERROR(VLOOKUP($C28,'Mitarbeitende'!$A$10:$C$25,3,FALSE),"")) | I28: =IF(OR($E28="",$G28="",$H28=""),"",$E28*$G28*$H28)
B29: =IF($A29="","",$A29-WEEKDAY($A29,2)+1) | G29: =IF($F29="","",IFERROR(VLOOKUP($F29,'Listen'!$A$3:$B$8,2,FALSE),"")) | H29: =IF($C29="","",IFERROR(VLOOKUP($C29,'Mitarbeitende'!$A$10:$C$25,3,FALSE),"")) | I29: =IF(OR($E29="",$G29="",$H29=""),"",$E29*$G29*$H29)
B30: =IF($A30="","",$A30-WEEKDAY($A30,2)+1) | G30: =IF($F30="","",IFERROR(VLOOKUP($F30,'Listen'!$A$3:$B$8,2,FALSE),"")) | H30: =IF($C30="","",IFERROR(VLOOKUP($C30,'Mitarbeitende'!$A$10:$C$25,3,FALSE),"")) | I30: =IF(OR($E30="",$G30="",$H30=""),"",$E30*$G30*$H30)
B31: =IF($A31="","",$A31-WEEKDAY($A31,2)+1) | G31: =IF($F31="","",IFERROR(VLOOKUP($F31,'Listen'!$A$3:$B$8,2,FALSE),"")) | H31: =IF($C31="","",IFERROR(VLOOKUP($C31,'Mitarbeitende'!$A$10:$C$25,3,FALSE),"")) | I31: =IF(OR($E31="",$G31="",$H31=""),"",$E31*$G31*$H31)
B32: =IF($A32="","",$A32-WEEKDAY($A32,2)+1) | G32: =IF($F32="","",IFERROR(VLOOKUP($F32,'Listen'!$A$3:$B$8,2,FALSE),"")) | H32: =IF($C32="","",IFERROR(VLOOKUP($C32,'Mitarbeitende'!$A$10:$C$25,3,FALSE),"")) | I32: =IF(OR($E32="",$G32="",$H32=""),"",$E32*$G32*$H32)
B33: =IF($A33="","",$A33-WEEKDAY($A33,2)+1) | G33: =IF($F33="","",IFERROR(VLOOKUP($F33,'Listen'!$A$3:$B$8,2,FALSE),"")) | H33: =IF($C33="","",IFERROR(VLOOKUP($C33,'Mitarbeitende'!$A$10:$C$25,3,FALSE),"")) | I33: =IF(OR($E33="",$G33="",$H33=""),"",$E33*$G33*$H33)
B34: =IF($A34="","",$A34-WEEKDAY($A34,2)+1) | G34: =IF($F34="","",IFERROR(VLOOKUP($F34,'Listen'!$A$3:$B$8,2,FALSE),"")) | H34: =IF($C34="","",IFERROR(VLOOKUP($C34,'Mitarbeitende'!$A$10:$C$25,3,FALSE),"")) | I34: =IF(OR($E34="",$G34="",$H34=""),"",$E34*$G34*$H34)
... B150: =IF($A150="","",$A150-WEEKDAY($A150,2)+1) | G150: =IF($F150="","",IFERROR(VLOOKUP($F150,'Listen'!$A$3:$B$8,2,FALSE),"")) | H150: =IF($C150="","",IFERROR(VLOOKUP($C150,'Mitarbeitende'!$A$10:$C$25,3,FALSE),"")) | I150: =IF(OR($E150="",$G150="",$H150=""),"",$E150*$G150*$H150)

Sheet Wöchentlich
A1: OVERIX · Überstundenliste | J1: sheetorial.com
A3: Genehmigte Stunden je Woche
A4: Montag der ersten Woche eintragen, die acht Spalten folgen. Nur genehmigte Zeilen.
A6: Erste Woche | B6: 46265
A9: Mitarbeiter/in | B9: Woche 1 | C9: Woche 2 | D9: Woche 3 | E9: Woche 4 | F9: Woche 5 | G9: Woche 6 | H9: Woche 7 | I9: Woche 8 | J9: Summe
A10: Wochenbeginn | B10: =$B$6+0 | C10: =$B$6+7 | D10: =$B$6+14 | E10: =$B$6+21 | F10: =$B$6+28 | G10: =$B$6+35 | H10: =$B$6+42 | I10: =$B$6+49
A11: =IF('Mitarbeitende'!$A10="","",'Mitarbeitende'!$A10) | B11: =IF($A11="","",SUMIFS('Protokoll'!$E:$E,'Protokoll'!$C:$C,$A11,'Protokoll'!$B:$B,B$10,'Protokoll'!$J:$J,'Listen'!$D$4)) | C11: =IF($A11="","",SUMIFS('Protokoll'!$E:$E,'Protokoll'!$C:$C,$A11,'Protokoll'!$B:$B,C$10,'Protokoll'!$J:$J,'Listen'!$D$4)) | D11: =IF($A11="","",SUMIFS('Protokoll'!$E:$E,'Protokoll'!$C:$C,$A11,'Protokoll'!$B:$B,D$10,'Protokoll'!$J:$J,'Listen'!$D$4)) | E11: =IF($A11="","",SUMIFS('Protokoll'!$E:$E,'Protokoll'!$C:$C,$A11,'Protokoll'!$B:$B,E$10,'Protokoll'!$J:$J,'Listen'!$D$4)) | F11: =IF($A11="","",SUMIFS('Protokoll'!$E:$E,'Protokoll'!$C:$C,$A11,'Protokoll'!$B:$B,F$10,'Protokoll'!$J:$J,'Listen'!$D$4)) | G11: =IF($A11="","",SUMIFS('Protokoll'!$E:$E,'Protokoll'!$C:$C,$A11,'Protokoll'!$B:$B,G$10,'Protokoll'!$J:$J,'Listen'!$D$4)) | H11: =IF($A11="","",SUMIFS('Protokoll'!$E:$E,'Protokoll'!$C:$C,$A11,'Protokoll'!$B:$B,H$10,'Protokoll'!$J:$J,'Listen'!$D$4)) | I11: =IF($A11="","",SUMIFS('Protokoll'!$E:$E,'Protokoll'!$C:$C,$A11,'Protokoll'!$B:$B,I$10,'Protokoll'!$J:$J,'Listen'!$D$4)) | J11: =IF($A11="","",SUM($B11:$I11))
A12: =IF('Mitarbeitende'!$A11="","",'Mitarbeitende'!$A11) | B12: =IF($A12="","",SUMIFS('Protokoll'!$E:$E,'Protokoll'!$C:$C,$A12,'Protokoll'!$B:$B,B$10,'Protokoll'!$J:$J,'Listen'!$D$4)) | C12: =IF($A12="","",SUMIFS('Protokoll'!$E:$E,'Protokoll'!$C:$C,$A12,'Protokoll'!$B:$B,C$10,'Protokoll'!$J:$J,'Listen'!$D$4)) | D12: =IF($A12="","",SUMIFS('Protokoll'!$E:$E,'Protokoll'!$C:$C,$A12,'Protokoll'!$B:$B,D$10,'Protokoll'!$J:$J,'Listen'!$D$4)) | E12: =IF($A12="","",SUMIFS('Protokoll'!$E:$E,'Protokoll'!$C:$C,$A12,'Protokoll'!$B:$B,E$10,'Protokoll'!$J:$J,'Listen'!$D$4)) | F12: =IF($A12="","",SUMIFS('Protokoll'!$E:$E,'Protokoll'!$C:$C,$A12,'Protokoll'!$B:$B,F$10,'Protokoll'!$J:$J,'Listen'!$D$4)) | G12: =IF($A12="","",SUMIFS('Protokoll'!$E:$E,'Protokoll'!$C:$C,$A12,'Protokoll'!$B:$B,G$10,'Protokoll'!$J:$J,'Listen'!$D$4)) | H12: =IF($A12="","",SUMIFS('Protokoll'!$E:$E,'Protokoll'!$C:$C,$A12,'Protokoll'!$B:$B,H$10,'Protokoll'!$J:$J,'Listen'!$D$4)) | I12: =IF($A12="","",SUMIFS('Protokoll'!$E:$E,'Protokoll'!$C:$C,$A12,'Protokoll'!$B:$B,I$10,'Protokoll'!$J:$J,'Listen'!$D$4)) | J12: =IF($A12="","",SUM($B12:$I12))
A13: =IF('Mitarbeitende'!$A12="","",'Mitarbeitende'!$A12) | B13: =IF($A13="","",SUMIFS('Protokoll'!$E:$E,'Protokoll'!$C:$C,$A13,'Protokoll'!$B:$B,B$10,'Protokoll'!$J:$J,'Listen'!$D$4)) | C13: =IF($A13="","",SUMIFS('Protokoll'!$E:$E,'Protokoll'!$C:$C,$A13,'Protokoll'!$B:$B,C$10,'Protokoll'!$J:$J,'Listen'!$D$4)) | D13: =IF($A13="","",SUMIFS('Protokoll'!$E:$E,'Protokoll'!$C:$C,$A13,'Protokoll'!$B:$B,D$10,'Protokoll'!$J:$J,'Listen'!$D$4)) | E13: =IF($A13="","",SUMIFS('Protokoll'!$E:$E,'Protokoll'!$C:$C,$A13,'Protokoll'!$B:$B,E$10,'Protokoll'!$J:$J,'Listen'!$D$4)) | F13: =IF($A13="","",SUMIFS('Protokoll'!$E:$E,'Protokoll'!$C:$C,$A13,'Protokoll'!$B:$B,F$10,'Protokoll'!$J:$J,'Listen'!$D$4)) | G13: =IF($A13="","",SUMIFS('Protokoll'!$E:$E,'Protokoll'!$C:$C,$A13,'Protokoll'!$B:$B,G$10,'Protokoll'!$J:$J,'Listen'!$D$4)) | H13: =IF($A13="","",SUMIFS('Protokoll'!$E:$E,'Protokoll'!$C:$C,$A13,'Protokoll'!$B:$B,H$10,'Protokoll'!$J:$J,'Listen'!$D$4)) | I13: =IF($A13="","",SUMIFS('Protokoll'!$E:$E,'Protokoll'!$C:$C,$A13,'Protokoll'!$B:$B,I$10,'Protokoll'!$J:$J,'Listen'!$D$4)) | J13: =IF($A13="","",SUM($B13:$I13))
A14: =IF('Mitarbeitende'!$A13="","",'Mitarbeitende'!$A13) | B14: =IF($A14="","",SUMIFS('Protokoll'!$E:$E,'Protokoll'!$C:$C,$A14,'Protokoll'!$B:$B,B$10,'Protokoll'!$J:$J,'Listen'!$D$4)) | C14: =IF($A14="","",SUMIFS('Protokoll'!$E:$E,'Protokoll'!$C:$C,$A14,'Protokoll'!$B:$B,C$10,'Protokoll'!$J:$J,'Listen'!$D$4)) | D14: =IF($A14="","",SUMIFS('Protokoll'!$E:$E,'Protokoll'!$C:$C,$A14,'Protokoll'!$B:$B,D$10,'Protokoll'!$J:$J,'Listen'!$D$4)) | E14: =IF($A14="","",SUMIFS('Protokoll'!$E:$E,'Protokoll'!$C:$C,$A14,'Protokoll'!$B:$B,E$10,'Protokoll'!$J:$J,'Listen'!$D$4)) | F14: =IF($A14="","",SUMIFS('Protokoll'!$E:$E,'Protokoll'!$C:$C,$A14,'Protokoll'!$B:$B,F$10,'Protokoll'!$J:$J,'Listen'!$D$4)) | G14: =IF($A14="","",SUMIFS('Protokoll'!$E:$E,'Protokoll'!$C:$C,$A14,'Protokoll'!$B:$B,G$10,'Protokoll'!$J:$J,'Listen'!$D$4)) | H14: =IF($A14="","",SUMIFS('Protokoll'!$E:$E,'Protokoll'!$C:$C,$A14,'Protokoll'!$B:$B,H$10,'Protokoll'!$J:$J,'Listen'!$D$4)) | I14: =IF($A14="","",SUMIFS('Protokoll'!$E:$E,'Protokoll'!$C:$C,$A14,'Protokoll'!$B:$B,I$10,'Protokoll'!$J:$J,'Listen'!$D$4)) | J14: =IF($A14="","",SUM($B14:$I14))
A15: =IF('Mitarbeitende'!$A14="","",'Mitarbeitende'!$A14) | B15: =IF($A15="","",SUMIFS('Protokoll'!$E:$E,'Protokoll'!$C:$C,$A15,'Protokoll'!$B:$B,B$10,'Protokoll'!$J:$J,'Listen'!$D$4)) | C15: =IF($A15="","",SUMIFS('Protokoll'!$E:$E,'Protokoll'!$C:$C,$A15,'Protokoll'!$B:$B,C$10,'Protokoll'!$J:$J,'Listen'!$D$4)) | D15: =IF($A15="","",SUMIFS('Protokoll'!$E:$E,'Protokoll'!$C:$C,$A15,'Protokoll'!$B:$B,D$10,'Protokoll'!$J:$J,'Listen'!$D$4)) | E15: =IF($A15="","",SUMIFS('Protokoll'!$E:$E,'Protokoll'!$C:$C,$A15,'Protokoll'!$B:$B,E$10,'Protokoll'!$J:$J,'Listen'!$D$4)) | F15: =IF($A15="","",SUMIFS('Protokoll'!$E:$E,'Protokoll'!$C:$C,$A15,'Protokoll'!$B:$B,F$10,'Protokoll'!$J:$J,'Listen'!$D$4)) | G15: =IF($A15="","",SUMIFS('Protokoll'!$E:$E,'Protokoll'!$C:$C,$A15,'Protokoll'!$B:$B,G$10,'Protokoll'!$J:$J,'Listen'!$D$4)) | H15: =IF($A15="","",SUMIFS('Protokoll'!$E:$E,'Protokoll'!$C:$C,$A15,'Protokoll'!$B:$B,H$10,'Protokoll'!$J:$J,'Listen'!$D$4)) | I15: =IF($A15="","",SUMIFS('Protokoll'!$E:$E,'Protokoll'!$C:$C,$A15,'Protokoll'!$B:$B,I$10,'Protokoll'!$J:$J,'Listen'!$D$4)) | J15: =IF($A15="","",SUM($B15:$I15))
A16: =IF('Mitarbeitende'!$A15="","",'Mitarbeitende'!$A15) | B16: =IF($A16="","",SUMIFS('Protokoll'!$E:$E,'Protokoll'!$C:$C,$A16,'Protokoll'!$B:$B,B$10,'Protokoll'!$J:$J,'Listen'!$D$4)) | C16: =IF($A16="","",SUMIFS('Protokoll'!$E:$E,'Protokoll'!$C:$C,$A16,'Protokoll'!$B:$B,C$10,'Protokoll'!$J:$J,'Listen'!$D$4)) | D16: =IF($A16="","",SUMIFS('Protokoll'!$E:$E,'Protokoll'!$C:$C,$A16,'Protokoll'!$B:$B,D$10,'Protokoll'!$J:$J,'Listen'!$D$4)) | E16: =IF($A16="","",SUMIFS('Protokoll'!$E:$E,'Protokoll'!$C:$C,$A16,'Protokoll'!$B:$B,E$10,'Protokoll'!$J:$J,'Listen'!$D$4)) | F16: =IF($A16="","",SUMIFS('Protokoll'!$E:$E,'Protokoll'!$C:$C,$A16,'Protokoll'!$B:$B,F$10,'Protokoll'!$J:$J,'Listen'!$D$4)) | G16: =IF($A16="","",SUMIFS('Protokoll'!$E:$E,'Protokoll'!$C:$C,$A16,'Protokoll'!$B:$B,G$10,'Protokoll'!$J:$J,'Listen'!$D$4)) | H16: =IF($A16="","",SUMIFS('Protokoll'!$E:$E,'Protokoll'!$C:$C,$A16,'Protokoll'!$B:$B,H$10,'Protokoll'!$J:$J,'Listen'!$D$4)) | I16: =IF($A16="","",SUMIFS('Protokoll'!$E:$E,'Protokoll'!$C:$C,$A16,'Protokoll'!$B:$B,I$10,'Protokoll'!$J:$J,'Listen'!$D$4)) | J16: =IF($A16="","",SUM($B16:$I16))
A17: =IF('Mitarbeitende'!$A16="","",'Mitarbeitende'!$A16) | B17: =IF($A17="","",SUMIFS('Protokoll'!$E:$E,'Protokoll'!$C:$C,$A17,'Protokoll'!$B:$B,B$10,'Protokoll'!$J:$J,'Listen'!$D$4)) | C17: =IF($A17="","",SUMIFS('Protokoll'!$E:$E,'Protokoll'!$C:$C,$A17,'Protokoll'!$B:$B,C$10,'Protokoll'!$J:$J,'Listen'!$D$4)) | D17: =IF($A17="","",SUMIFS('Protokoll'!$E:$E,'Protokoll'!$C:$C,$A17,'Protokoll'!$B:$B,D$10,'Protokoll'!$J:$J,'Listen'!$D$4)) | E17: =IF($A17="","",SUMIFS('Protokoll'!$E:$E,'Protokoll'!$C:$C,$A17,'Protokoll'!$B:$B,E$10,'Protokoll'!$J:$J,'Listen'!$D$4)) | F17: =IF($A17="","",SUMIFS('Protokoll'!$E:$E,'Protokoll'!$C:$C,$A17,'Protokoll'!$B:$B,F$10,'Protokoll'!$J:$J,'Listen'!$D$4)) | G17: =IF($A17="","",SUMIFS('Protokoll'!$E:$E,'Protokoll'!$C:$C,$A17,'Protokoll'!$B:$B,G$10,'Protokoll'!$J:$J,'Listen'!$D$4)) | H17: =IF($A17="","",SUMIFS('Protokoll'!$E:$E,'Protokoll'!$C:$C,$A17,'Protokoll'!$B:$B,H$10,'Protokoll'!$J:$J,'Listen'!$D$4)) | I17: =IF($A17="","",SUMIFS('Protokoll'!$E:$E,'Protokoll'!$C:$C,$A17,'Protokoll'!$B:$B,I$10,'Protokoll'!$J:$J,'Listen'!$D$4)) | J17: =IF($A17="","",SUM($B17:$I17))
A18: =IF('Mitarbeitende'!$A17="","",'Mitarbeitende'!$A17) | B18: =IF($A18="","",SUMIFS('Protokoll'!$E:$E,'Protokoll'!$C:$C,$A18,'Protokoll'!$B:$B,B$10,'Protokoll'!$J:$J,'Listen'!$D$4)) | C18: =IF($A18="","",SUMIFS('Protokoll'!$E:$E,'Protokoll'!$C:$C,$A18,'Protokoll'!$B:$B,C$10,'Protokoll'!$J:$J,'Listen'!$D$4)) | D18: =IF($A18="","",SUMIFS('Protokoll'!$E:$E,'Protokoll'!$C:$C,$A18,'Protokoll'!$B:$B,D$10,'Protokoll'!$J:$J,'Listen'!$D$4)) | E18: =IF($A18="","",SUMIFS('Protokoll'!$E:$E,'Protokoll'!$C:$C,$A18,'Protokoll'!$B:$B,E$10,'Protokoll'!$J:$J,'Listen'!$D$4)) | F18: =IF($A18="","",SUMIFS('Protokoll'!$E:$E,'Protokoll'!$C:$C,$A18,'Protokoll'!$B:$B,F$10,'Protokoll'!$J:$J,'Listen'!$D$4)) | G18: =IF($A18="","",SUMIFS('Protokoll'!$E:$E,'Protokoll'!$C:$C,$A18,'Protokoll'!$B:$B,G$10,'Protokoll'!$J:$J,'Listen'!$D$4)) | H18: =IF($A18="","",SUMIFS('Protokoll'!$E:$E,'Protokoll'!$C:$C,$A18,'Protokoll'!$B:$B,H$10,'Protokoll'!$J:$J,'Listen'!$D$4)) | I18: =IF($A18="","",SUMIFS('Protokoll'!$E:$E,'Protokoll'!$C:$C,$A18,'Protokoll'!$B:$B,I$10,'Protokoll'!$J:$J,'Listen'!$D$4)) | J18: =IF($A18="","",SUM($B18:$I18))
A19: =IF('Mitarbeitende'!$A18="","",'Mitarbeitende'!$A18) | B19: =IF($A19="","",SUMIFS('Protokoll'!$E:$E,'Protokoll'!$C:$C,$A19,'Protokoll'!$B:$B,B$10,'Protokoll'!$J:$J,'Listen'!$D$4)) | C19: =IF($A19="","",SUMIFS('Protokoll'!$E:$E,'Protokoll'!$C:$C,$A19,'Protokoll'!$B:$B,C$10,'Protokoll'!$J:$J,'Listen'!$D$4)) | D19: =IF($A19="","",SUMIFS('Protokoll'!$E:$E,'Protokoll'!$C:$C,$A19,'Protokoll'!$B:$B,D$10,'Protokoll'!$J:$J,'Listen'!$D$4)) | E19: =IF($A19="","",SUMIFS('Protokoll'!$E:$E,'Protokoll'!$C:$C,$A19,'Protokoll'!$B:$B,E$10,'Protokoll'!$J:$J,'Listen'!$D$4)) | F19: =IF($A19="","",SUMIFS('Protokoll'!$E:$E,'Protokoll'!$C:$C,$A19,'Protokoll'!$B:$B,F$10,'Protokoll'!$J:$J,'Listen'!$D$4)) | G19: =IF($A19="","",SUMIFS('Protokoll'!$E:$E,'Protokoll'!$C:$C,$A19,'Protokoll'!$B:$B,G$10,'Protokoll'!$J:$J,'Listen'!$D$4)) | H19: =IF($A19="","",SUMIFS('Protokoll'!$E:$E,'Protokoll'!$C:$C,$A19,'Protokoll'!$B:$B,H$10,'Protokoll'!$J:$J,'Listen'!$D$4)) | I19: =IF($A19="","",SUMIFS('Protokoll'!$E:$E,'Protokoll'!$C:$C,$A19,'Protokoll'!$B:$B,I$10,'Protokoll'!$J:$J,'Listen'!$D$4)) | J19: =IF($A19="","",SUM($B19:$I19))
A20: =IF('Mitarbeitende'!$A19="","",'Mitarbeitende'!$A19) | B20: =IF($A20="","",SUMIFS('Protokoll'!$E:$E,'Protokoll'!$C:$C,$A20,'Protokoll'!$B:$B,B$10,'Protokoll'!$J:$J,'Listen'!$D$4)) | C20: =IF($A20="","",SUMIFS('Protokoll'!$E:$E,'Protokoll'!$C:$C,$A20,'Protokoll'!$B:$B,C$10,'Protokoll'!$J:$J,'Listen'!$D$4)) | D20: =IF($A20="","",SUMIFS('Protokoll'!$E:$E,'Protokoll'!$C:$C,$A20,'Protokoll'!$B:$B,D$10,'Protokoll'!$J:$J,'Listen'!$D$4)) | E20: =IF($A20="","",SUMIFS('Protokoll'!$E:$E,'Protokoll'!$C:$C,$A20,'Protokoll'!$B:$B,E$10,'Protokoll'!$J:$J,'Listen'!$D$4)) | F20: =IF($A20="","",SUMIFS('Protokoll'!$E:$E,'Protokoll'!$C:$C,$A20,'Protokoll'!$B:$B,F$10,'Protokoll'!$J:$J,'Listen'!$D$4)) | G20: =IF($A20="","",SUMIFS('Protokoll'!$E:$E,'Protokoll'!$C:$C,$A20,'Protokoll'!$B:$B,G$10,'Protokoll'!$J:$J,'Listen'!$D$4)) | H20: =IF($A20="","",SUMIFS('Protokoll'!$E:$E,'Protokoll'!$C:$C,$A20,'Protokoll'!$B:$B,H$10,'Protokoll'!$J:$J,'Listen'!$D$4)) | I20: =IF($A20="","",SUMIFS('Protokoll'!$E:$E,'Protokoll'!$C:$C,$A20,'Protokoll'!$B:$B,I$10,'Protokoll'!$J:$J,'Listen'!$D$4)) | J20: =IF($A20="","",SUM($B20:$I20))
A21: =IF('Mitarbeitende'!$A20="","",'Mitarbeitende'!$A20) | B21: =IF($A21="","",SUMIFS('Protokoll'!$E:$E,'Protokoll'!$C:$C,$A21,'Protokoll'!$B:$B,B$10,'Protokoll'!$J:$J,'Listen'!$D$4)) | C21: =IF($A21="","",SUMIFS('Protokoll'!$E:$E,'Protokoll'!$C:$C,$A21,'Protokoll'!$B:$B,C$10,'Protokoll'!$J:$J,'Listen'!$D$4)) | D21: =IF($A21="","",SUMIFS('Protokoll'!$E:$E,'Protokoll'!$C:$C,$A21,'Protokoll'!$B:$B,D$10,'Protokoll'!$J:$J,'Listen'!$D$4)) | E21: =IF($A21="","",SUMIFS('Protokoll'!$E:$E,'Protokoll'!$C:$C,$A21,'Protokoll'!$B:$B,E$10,'Protokoll'!$J:$J,'Listen'!$D$4)) | F21: =IF($A21="","",SUMIFS('Protokoll'!$E:$E,'Protokoll'!$C:$C,$A21,'Protokoll'!$B:$B,F$10,'Protokoll'!$J:$J,'Listen'!$D$4)) | G21: =IF($A21="","",SUMIFS('Protokoll'!$E:$E,'Protokoll'!$C:$C,$A21,'Protokoll'!$B:$B,G$10,'Protokoll'!$J:$J,'Listen'!$D$4)) | H21: =IF($A21="","",SUMIFS('Protokoll'!$E:$E,'Protokoll'!$C:$C,$A21,'Protokoll'!$B:$B,H$10,'Protokoll'!$J:$J,'Listen'!$D$4)) | I21: =IF($A21="","",SUMIFS('Protokoll'!$E:$E,'Protokoll'!$C:$C,$A21,'Protokoll'!$B:$B,I$10,'Protokoll'!$J:$J,'Listen'!$D$4)) | J21: =IF($A21="","",SUM($B21:$I21))
A22: =IF('Mitarbeitende'!$A21="","",'Mitarbeitende'!$A21) | B22: =IF($A22="","",SUMIFS('Protokoll'!$E:$E,'Protokoll'!$C:$C,$A22,'Protokoll'!$B:$B,B$10,'Protokoll'!$J:$J,'Listen'!$D$4)) | C22: =IF($A22="","",SUMIFS('Protokoll'!$E:$E,'Protokoll'!$C:$C,$A22,'Protokoll'!$B:$B,C$10,'Protokoll'!$J:$J,'Listen'!$D$4)) | D22: =IF($A22="","",SUMIFS('Protokoll'!$E:$E,'Protokoll'!$C:$C,$A22,'Protokoll'!$B:$B,D$10,'Protokoll'!$J:$J,'Listen'!$D$4)) | E22: =IF($A22="","",SUMIFS('Protokoll'!$E:$E,'Protokoll'!$C:$C,$A22,'Protokoll'!$B:$B,E$10,'Protokoll'!$J:$J,'Listen'!$D$4)) | F22: =IF($A22="","",SUMIFS('Protokoll'!$E:$E,'Protokoll'!$C:$C,$A22,'Protokoll'!$B:$B,F$10,'Protokoll'!$J:$J,'Listen'!$D$4)) | G22: =IF($A22="","",SUMIFS('Protokoll'!$E:$E,'Protokoll'!$C:$C,$A22,'Protokoll'!$B:$B,G$10,'Protokoll'!$J:$J,'Listen'!$D$4)) | H22: =IF($A22="","",SUMIFS('Protokoll'!$E:$E,'Protokoll'!$C:$C,$A22,'Protokoll'!$B:$B,H$10,'Protokoll'!$J:$J,'Listen'!$D$4)) | I22: =IF($A22="","",SUMIFS('Protokoll'!$E:$E,'Protokoll'!$C:$C,$A22,'Protokoll'!$B:$B,I$10,'Protokoll'!$J:$J,'Listen'!$D$4)) | J22: =IF($A22="","",SUM($B22:$I22))
... A26: =IF('Mitarbeitende'!$A25="","",'Mitarbeitende'!$A25) | B26: =IF($A26="","",SUMIFS('Protokoll'!$E:$E,'Protokoll'!$C:$C,$A26,'Protokoll'!$B:$B,B$10,'Protokoll'!$J:$J,'Listen'!$D$4)) | C26: =IF($A26="","",SUMIFS('Protokoll'!$E:$E,'Protokoll'!$C:$C,$A26,'Protokoll'!$B:$B,C$10,'Protokoll'!$J:$J,'Listen'!$D$4)) | D26: =IF($A26="","",SUMIFS('Protokoll'!$E:$E,'Protokoll'!$C:$C,$A26,'Protokoll'!$B:$B,D$10,'Protokoll'!$J:$J,'Listen'!$D$4)) | E26: =IF($A26="","",SUMIFS('Protokoll'!$E:$E,'Protokoll'!$C:$C,$A26,'Protokoll'!$B:$B,E$10,'Protokoll'!$J:$J,'Listen'!$D$4)) | F26: =IF($A26="","",SUMIFS('Protokoll'!$E:$E,'Protokoll'!$C:$C,$A26,'Protokoll'!$B:$B,F$10,'Protokoll'!$J:$J,'Listen'!$D$4)) | G26: =IF($A26="","",SUMIFS('Protokoll'!$E:$E,'Protokoll'!$C:$C,$A26,'Protokoll'!$B:$B,G$10,'Protokoll'!$J:$J,'Listen'!$D$4)) | H26: =IF($A26="","",SUMIFS('Protokoll'!$E:$E,'Protokoll'!$C:$C,$A26,'Protokoll'!$B:$B,H$10,'Protokoll'!$J:$J,'Listen'!$D$4)) | I26: =IF($A26="","",SUMIFS('Protokoll'!$E:$E,'Protokoll'!$C:$C,$A26,'Protokoll'!$B:$B,I$10,'Protokoll'!$J:$J,'Listen'!$D$4)) | J26: =IF($A26="","",SUM($B26:$I26))

Sheet Listen
A1: OVERIX · Überstundenliste | D1: sheetorial.com
A2: Zuschlagsart | B2: Faktor | C2: Grund | D2: Status
A3: Zuschlag 50 % | B3: 1.5 | C3: Termin | D3: Offen
A4: Zuschlag 100 % | B4: 2 | C4: Vertretung | D4: Genehmigt
A5: Ohne Zuschlag | B5: 1 | C5: Auftragsspitze | D5: Abgelehnt
C6: Notfall
C7: Sonstiges
A9: Faktoren laut Verträgen oder geltenden Regeln eintragen – alle Beträge folgen ihnen.
