Workbook

Sheet Woche
A1: WEEKORA · Stundenzettel | G1: sheetorial.com
A3: Wöchentlicher Stundenzettel
A4: Montag der Woche eintragen. Tage und Projekte summieren sich aus der Registerkarte Einträge.
A6: Wochenbeginn | B6: 46300 | C6: Stunden gesamt | D6: =$B$17 | E6: Abrechenbarer Anteil | F6: =IFERROR($C$17/$B$17,0)
E7: Abrechenbarer Betrag | F7: =$E$17
A9: Tag | B9: Stunden | C9: Abrechenbare Stunden | D9: Abrechenbar % | E9: Betrag
A10: =$B$6+0 | B10: =SUMIF('Einträge'!$A:$A,$A10,'Einträge'!$G:$G) | C10: =SUMIFS('Einträge'!$G:$G,'Einträge'!$A:$A,$A10,'Einträge'!$H:$H,'Projekte'!$E$3) | D10: =IFERROR($C10/$B10,0) | E10: =SUMIF('Einträge'!$A:$A,$A10,'Einträge'!$I:$I)
A11: =$B$6+1 | B11: =SUMIF('Einträge'!$A:$A,$A11,'Einträge'!$G:$G) | C11: =SUMIFS('Einträge'!$G:$G,'Einträge'!$A:$A,$A11,'Einträge'!$H:$H,'Projekte'!$E$3) | D11: =IFERROR($C11/$B11,0) | E11: =SUMIF('Einträge'!$A:$A,$A11,'Einträge'!$I:$I)
A12: =$B$6+2 | B12: =SUMIF('Einträge'!$A:$A,$A12,'Einträge'!$G:$G) | C12: =SUMIFS('Einträge'!$G:$G,'Einträge'!$A:$A,$A12,'Einträge'!$H:$H,'Projekte'!$E$3) | D12: =IFERROR($C12/$B12,0) | E12: =SUMIF('Einträge'!$A:$A,$A12,'Einträge'!$I:$I)
A13: =$B$6+3 | B13: =SUMIF('Einträge'!$A:$A,$A13,'Einträge'!$G:$G) | C13: =SUMIFS('Einträge'!$G:$G,'Einträge'!$A:$A,$A13,'Einträge'!$H:$H,'Projekte'!$E$3) | D13: =IFERROR($C13/$B13,0) | E13: =SUMIF('Einträge'!$A:$A,$A13,'Einträge'!$I:$I)
A14: =$B$6+4 | B14: =SUMIF('Einträge'!$A:$A,$A14,'Einträge'!$G:$G) | C14: =SUMIFS('Einträge'!$G:$G,'Einträge'!$A:$A,$A14,'Einträge'!$H:$H,'Projekte'!$E$3) | D14: =IFERROR($C14/$B14,0) | E14: =SUMIF('Einträge'!$A:$A,$A14,'Einträge'!$I:$I)
A15: =$B$6+5 | B15: =SUMIF('Einträge'!$A:$A,$A15,'Einträge'!$G:$G) | C15: =SUMIFS('Einträge'!$G:$G,'Einträge'!$A:$A,$A15,'Einträge'!$H:$H,'Projekte'!$E$3) | D15: =IFERROR($C15/$B15,0) | E15: =SUMIF('Einträge'!$A:$A,$A15,'Einträge'!$I:$I)
A16: =$B$6+6 | B16: =SUMIF('Einträge'!$A:$A,$A16,'Einträge'!$G:$G) | C16: =SUMIFS('Einträge'!$G:$G,'Einträge'!$A:$A,$A16,'Einträge'!$H:$H,'Projekte'!$E$3) | D16: =IFERROR($C16/$B16,0) | E16: =SUMIF('Einträge'!$A:$A,$A16,'Einträge'!$I:$I)
A17: Summe | B17: =SUM($B$10:$B$16) | C17: =SUM($C$10:$C$16) | D17: =IFERROR($C$17/$B$17,0) | E17: =SUM($E$10:$E$16)
A19: Diese Woche nach Projekt
A20: Projekt | B20: Kunde | C20: Stunden | D20: Abrechenbare Stunden | E20: Betrag
A21: =IF('Projekte'!$A3="","",'Projekte'!$A3) | B21: =IF($A21="","",'Projekte'!$B3) | C21: =IF($A21="","",SUMIFS('Einträge'!$G:$G,'Einträge'!$B:$B,$A21,'Einträge'!$A:$A,">="&$B$6,'Einträge'!$A:$A,"<"&($B$6+7))) | D21: =IF($A21="","",SUMIFS('Einträge'!$G:$G,'Einträge'!$B:$B,$A21,'Einträge'!$H:$H,'Projekte'!$E$3,'Einträge'!$A:$A,">="&$B$6,'Einträge'!$A:$A,"<"&($B$6+7))) | E21: =IF($A21="","",SUMIFS('Einträge'!$I:$I,'Einträge'!$B:$B,$A21,'Einträge'!$A:$A,">="&$B$6,'Einträge'!$A:$A,"<"&($B$6+7)))
A22: =IF('Projekte'!$A4="","",'Projekte'!$A4) | B22: =IF($A22="","",'Projekte'!$B4) | C22: =IF($A22="","",SUMIFS('Einträge'!$G:$G,'Einträge'!$B:$B,$A22,'Einträge'!$A:$A,">="&$B$6,'Einträge'!$A:$A,"<"&($B$6+7))) | D22: =IF($A22="","",SUMIFS('Einträge'!$G:$G,'Einträge'!$B:$B,$A22,'Einträge'!$H:$H,'Projekte'!$E$3,'Einträge'!$A:$A,">="&$B$6,'Einträge'!$A:$A,"<"&($B$6+7))) | E22: =IF($A22="","",SUMIFS('Einträge'!$I:$I,'Einträge'!$B:$B,$A22,'Einträge'!$A:$A,">="&$B$6,'Einträge'!$A:$A,"<"&($B$6+7)))
A23: =IF('Projekte'!$A5="","",'Projekte'!$A5) | B23: =IF($A23="","",'Projekte'!$B5) | C23: =IF($A23="","",SUMIFS('Einträge'!$G:$G,'Einträge'!$B:$B,$A23,'Einträge'!$A:$A,">="&$B$6,'Einträge'!$A:$A,"<"&($B$6+7))) | D23: =IF($A23="","",SUMIFS('Einträge'!$G:$G,'Einträge'!$B:$B,$A23,'Einträge'!$H:$H,'Projekte'!$E$3,'Einträge'!$A:$A,">="&$B$6,'Einträge'!$A:$A,"<"&($B$6+7))) | E23: =IF($A23="","",SUMIFS('Einträge'!$I:$I,'Einträge'!$B:$B,$A23,'Einträge'!$A:$A,">="&$B$6,'Einträge'!$A:$A,"<"&($B$6+7)))
A24: =IF('Projekte'!$A6="","",'Projekte'!$A6) | B24: =IF($A24="","",'Projekte'!$B6) | C24: =IF($A24="","",SUMIFS('Einträge'!$G:$G,'Einträge'!$B:$B,$A24,'Einträge'!$A:$A,">="&$B$6,'Einträge'!$A:$A,"<"&($B$6+7))) | D24: =IF($A24="","",SUMIFS('Einträge'!$G:$G,'Einträge'!$B:$B,$A24,'Einträge'!$H:$H,'Projekte'!$E$3,'Einträge'!$A:$A,">="&$B$6,'Einträge'!$A:$A,"<"&($B$6+7))) | E24: =IF($A24="","",SUMIFS('Einträge'!$I:$I,'Einträge'!$B:$B,$A24,'Einträge'!$A:$A,">="&$B$6,'Einträge'!$A:$A,"<"&($B$6+7)))
A25: =IF('Projekte'!$A7="","",'Projekte'!$A7) | B25: =IF($A25="","",'Projekte'!$B7) | C25: =IF($A25="","",SUMIFS('Einträge'!$G:$G,'Einträge'!$B:$B,$A25,'Einträge'!$A:$A,">="&$B$6,'Einträge'!$A:$A,"<"&($B$6+7))) | D25: =IF($A25="","",SUMIFS('Einträge'!$G:$G,'Einträge'!$B:$B,$A25,'Einträge'!$H:$H,'Projekte'!$E$3,'Einträge'!$A:$A,">="&$B$6,'Einträge'!$A:$A,"<"&($B$6+7))) | E25: =IF($A25="","",SUMIFS('Einträge'!$I:$I,'Einträge'!$B:$B,$A25,'Einträge'!$A:$A,">="&$B$6,'Einträge'!$A:$A,"<"&($B$6+7)))
A26: =IF('Projekte'!$A8="","",'Projekte'!$A8) | B26: =IF($A26="","",'Projekte'!$B8) | C26: =IF($A26="","",SUMIFS('Einträge'!$G:$G,'Einträge'!$B:$B,$A26,'Einträge'!$A:$A,">="&$B$6,'Einträge'!$A:$A,"<"&($B$6+7))) | D26: =IF($A26="","",SUMIFS('Einträge'!$G:$G,'Einträge'!$B:$B,$A26,'Einträge'!$H:$H,'Projekte'!$E$3,'Einträge'!$A:$A,">="&$B$6,'Einträge'!$A:$A,"<"&($B$6+7))) | E26: =IF($A26="","",SUMIFS('Einträge'!$I:$I,'Einträge'!$B:$B,$A26,'Einträge'!$A:$A,">="&$B$6,'Einträge'!$A:$A,"<"&($B$6+7)))
A27: =IF('Projekte'!$A9="","",'Projekte'!$A9) | B27: =IF($A27="","",'Projekte'!$B9) | C27: =IF($A27="","",SUMIFS('Einträge'!$G:$G,'Einträge'!$B:$B,$A27,'Einträge'!$A:$A,">="&$B$6,'Einträge'!$A:$A,"<"&($B$6+7))) | D27: =IF($A27="","",SUMIFS('Einträge'!$G:$G,'Einträge'!$B:$B,$A27,'Einträge'!$H:$H,'Projekte'!$E$3,'Einträge'!$A:$A,">="&$B$6,'Einträge'!$A:$A,"<"&($B$6+7))) | E27: =IF($A27="","",SUMIFS('Einträge'!$I:$I,'Einträge'!$B:$B,$A27,'Einträge'!$A:$A,">="&$B$6,'Einträge'!$A:$A,"<"&($B$6+7)))
A28: =IF('Projekte'!$A10="","",'Projekte'!$A10) | B28: =IF($A28="","",'Projekte'!$B10) | C28: =IF($A28="","",SUMIFS('Einträge'!$G:$G,'Einträge'!$B:$B,$A28,'Einträge'!$A:$A,">="&$B$6,'Einträge'!$A:$A,"<"&($B$6+7))) | D28: =IF($A28="","",SUMIFS('Einträge'!$G:$G,'Einträge'!$B:$B,$A28,'Einträge'!$H:$H,'Projekte'!$E$3,'Einträge'!$A:$A,">="&$B$6,'Einträge'!$A:$A,"<"&($B$6+7))) | E28: =IF($A28="","",SUMIFS('Einträge'!$I:$I,'Einträge'!$B:$B,$A28,'Einträge'!$A:$A,">="&$B$6,'Einträge'!$A:$A,"<"&($B$6+7)))
A29: =IF('Projekte'!$A11="","",'Projekte'!$A11) | B29: =IF($A29="","",'Projekte'!$B11) | C29: =IF($A29="","",SUMIFS('Einträge'!$G:$G,'Einträge'!$B:$B,$A29,'Einträge'!$A:$A,">="&$B$6,'Einträge'!$A:$A,"<"&($B$6+7))) | D29: =IF($A29="","",SUMIFS('Einträge'!$G:$G,'Einträge'!$B:$B,$A29,'Einträge'!$H:$H,'Projekte'!$E$3,'Einträge'!$A:$A,">="&$B$6,'Einträge'!$A:$A,"<"&($B$6+7))) | E29: =IF($A29="","",SUMIFS('Einträge'!$I:$I,'Einträge'!$B:$B,$A29,'Einträge'!$A:$A,">="&$B$6,'Einträge'!$A:$A,"<"&($B$6+7)))
A30: =IF('Projekte'!$A12="","",'Projekte'!$A12) | B30: =IF($A30="","",'Projekte'!$B12) | C30: =IF($A30="","",SUMIFS('Einträge'!$G:$G,'Einträge'!$B:$B,$A30,'Einträge'!$A:$A,">="&$B$6,'Einträge'!$A:$A,"<"&($B$6+7))) | D30: =IF($A30="","",SUMIFS('Einträge'!$G:$G,'Einträge'!$B:$B,$A30,'Einträge'!$H:$H,'Projekte'!$E$3,'Einträge'!$A:$A,">="&$B$6,'Einträge'!$A:$A,"<"&($B$6+7))) | E30: =IF($A30="","",SUMIFS('Einträge'!$I:$I,'Einträge'!$B:$B,$A30,'Einträge'!$A:$A,">="&$B$6,'Einträge'!$A:$A,"<"&($B$6+7)))

Sheet Einträge
A1: WEEKORA · Stundenzettel | J1: sheetorial.com
A3: Zeiteinträge
A4: Eine Zeile pro Arbeitsblock. Stunden aus Beginn, Ende und Pause; abrechenbare Zeilen nutzen den Projektsatz.
A6: Einträge | B6: =COUNTA($A$10:$A$200) | C6: Stunden | D6: =SUM($G$10:$G$200) | E6: Abrechenbarer Betrag | F6: =SUM($I$10:$I$200)
A9: Datum | B9: Projekt | C9: Aufgabe | D9: Beginn | E9: Ende | F9: Pause (Min.) | G9: Stunden | H9: Abrechenbar | I9: Betrag | J9: Notizen
A10: 46295 | B10: Brand guide | C10: Farbpalette | D10: 0.375 | E10: 0.52083333 | F10: 0 | G10: =IF(OR($D10="",$E10=""),0,ROUND(MOD($E10-$D10,1)*24-N($F10)/60,2)) | H10: Ja | I10: =IF(OR($B10="",$H10<>'Projekte'!$E$3),0,$G10*IFERROR(VLOOKUP($B10,'Projekte'!$A$3:$C$12,3,FALSE),0))
A11: 46297 | B11: Intern | C11: Rechnungsstellung | D11: 0.625 | E11: 0.66666667 | F11: 0 | G11: =IF(OR($D11="",$E11=""),0,ROUND(MOD($E11-$D11,1)*24-N($F11)/60,2)) | H11: Nein | I11: =IF(OR($B11="",$H11<>'Projekte'!$E$3),0,$G11*IFERROR(VLOOKUP($B11,'Projekte'!$A$3:$C$12,3,FALSE),0))
A12: 46300 | B12: Website-Relaunch | C12: Kick-off-Call | D12: 0.375 | E12: 0.41666667 | F12: 0 | G12: =IF(OR($D12="",$E12=""),0,ROUND(MOD($E12-$D12,1)*24-N($F12)/60,2)) | H12: Ja | I12: =IF(OR($B12="",$H12<>'Projekte'!$E$3),0,$G12*IFERROR(VLOOKUP($B12,'Projekte'!$A$3:$C$12,3,FALSE),0))
A13: 46300 | B13: Website-Relaunch | C13: Sitemap und Wireframes | D13: 0.42708333 | E13: 0.54166667 | F13: 0 | G13: =IF(OR($D13="",$E13=""),0,ROUND(MOD($E13-$D13,1)*24-N($F13)/60,2)) | H13: Ja | I13: =IF(OR($B13="",$H13<>'Projekte'!$E$3),0,$G13*IFERROR(VLOOKUP($B13,'Projekte'!$A$3:$C$12,3,FALSE),0))
A14: 46300 | B14: Intern | C14: E-Mails und Verwaltung | D14: 0.58333333 | E14: 0.625 | F14: 0 | G14: =IF(OR($D14="",$E14=""),0,ROUND(MOD($E14-$D14,1)*24-N($F14)/60,2)) | H14: Nein | I14: =IF(OR($B14="",$H14<>'Projekte'!$E$3),0,$G14*IFERROR(VLOOKUP($B14,'Projekte'!$A$3:$C$12,3,FALSE),0))
A15: 46301 | B15: Brand guide | C15: Seite zur Logo-Nutzung | D15: 0.375 | E15: 0.5 | F15: 0 | G15: =IF(OR($D15="",$E15=""),0,ROUND(MOD($E15-$D15,1)*24-N($F15)/60,2)) | H15: Ja | I15: =IF(OR($B15="",$H15<>'Projekte'!$E$3),0,$G15*IFERROR(VLOOKUP($B15,'Projekte'!$A$3:$C$12,3,FALSE),0))
A16: 46301 | B16: Support-Pauschale | C16: Buchungsformular reparieren | D16: 0.54166667 | E16: 0.60416667 | F16: 0 | G16: =IF(OR($D16="",$E16=""),0,ROUND(MOD($E16-$D16,1)*24-N($F16)/60,2)) | H16: Ja | I16: =IF(OR($B16="",$H16<>'Projekte'!$E$3),0,$G16*IFERROR(VLOOKUP($B16,'Projekte'!$A$3:$C$12,3,FALSE),0))
A17: 46302 | B17: Website-Relaunch | C17: Layout der Startseite | D17: 0.375 | E17: 0.5625 | F17: 30 | G17: =IF(OR($D17="",$E17=""),0,ROUND(MOD($E17-$D17,1)*24-N($F17)/60,2)) | H17: Ja | I17: =IF(OR($B17="",$H17<>'Projekte'!$E$3),0,$G17*IFERROR(VLOOKUP($B17,'Projekte'!$A$3:$C$12,3,FALSE),0))
A18: 46302 | B18: Intern | C18: Teammeeting | D18: 0.625 | E18: 0.66666667 | F18: 0 | G18: =IF(OR($D18="",$E18=""),0,ROUND(MOD($E18-$D18,1)*24-N($F18)/60,2)) | H18: Nein | I18: =IF(OR($B18="",$H18<>'Projekte'!$E$3),0,$G18*IFERROR(VLOOKUP($B18,'Projekte'!$A$3:$C$12,3,FALSE),0))
A19: 46303 | B19: Support-Pauschale | C19: Monatsbericht | D19: 0.39583333 | E19: 0.45833333 | F19: 0 | G19: =IF(OR($D19="",$E19=""),0,ROUND(MOD($E19-$D19,1)*24-N($F19)/60,2)) | H19: Ja | I19: =IF(OR($B19="",$H19<>'Projekte'!$E$3),0,$G19*IFERROR(VLOOKUP($B19,'Projekte'!$A$3:$C$12,3,FALSE),0))
A20: 46303 | B20: Brand guide | C20: Kundenabstimmung | D20: 0.47916667 | E20: 0.52083333 | F20: 0 | G20: =IF(OR($D20="",$E20=""),0,ROUND(MOD($E20-$D20,1)*24-N($F20)/60,2)) | H20: Ja | I20: =IF(OR($B20="",$H20<>'Projekte'!$E$3),0,$G20*IFERROR(VLOOKUP($B20,'Projekte'!$A$3:$C$12,3,FALSE),0)) | J20: Änderungen vereinbart
A21: 46303 | B21: Website-Relaunch | C21: Kontaktseite | D21: 0.5625 | E21: 0.70833333 | F21: 15 | G21: =IF(OR($D21="",$E21=""),0,ROUND(MOD($E21-$D21,1)*24-N($F21)/60,2)) | H21: Ja | I21: =IF(OR($B21="",$H21<>'Projekte'!$E$3),0,$G21*IFERROR(VLOOKUP($B21,'Projekte'!$A$3:$C$12,3,FALSE),0))
A22: 46304 | B22: Website-Relaunch | C22: Korrekturrunde 1 | D22: 0.375 | E22: 0.5 | F22: 0 | G22: =IF(OR($D22="",$E22=""),0,ROUND(MOD($E22-$D22,1)*24-N($F22)/60,2)) | H22: Ja | I22: =IF(OR($B22="",$H22<>'Projekte'!$E$3),0,$G22*IFERROR(VLOOKUP($B22,'Projekte'!$A$3:$C$12,3,FALSE),0))
A23: 46304 | B23: Intern | C23: Portfolio aktualisieren | D23: 0.54166667 | E23: 0.625 | F23: 0 | G23: =IF(OR($D23="",$E23=""),0,ROUND(MOD($E23-$D23,1)*24-N($F23)/60,2)) | H23: Nein | I23: =IF(OR($B23="",$H23<>'Projekte'!$E$3),0,$G23*IFERROR(VLOOKUP($B23,'Projekte'!$A$3:$C$12,3,FALSE),0))
G24: =IF(OR($D24="",$E24=""),0,ROUND(MOD($E24-$D24,1)*24-N($F24)/60,2)) | I24: =IF(OR($B24="",$H24<>'Projekte'!$E$3),0,$G24*IFERROR(VLOOKUP($B24,'Projekte'!$A$3:$C$12,3,FALSE),0))
G25: =IF(OR($D25="",$E25=""),0,ROUND(MOD($E25-$D25,1)*24-N($F25)/60,2)) | I25: =IF(OR($B25="",$H25<>'Projekte'!$E$3),0,$G25*IFERROR(VLOOKUP($B25,'Projekte'!$A$3:$C$12,3,FALSE),0))
G26: =IF(OR($D26="",$E26=""),0,ROUND(MOD($E26-$D26,1)*24-N($F26)/60,2)) | I26: =IF(OR($B26="",$H26<>'Projekte'!$E$3),0,$G26*IFERROR(VLOOKUP($B26,'Projekte'!$A$3:$C$12,3,FALSE),0))
G27: =IF(OR($D27="",$E27=""),0,ROUND(MOD($E27-$D27,1)*24-N($F27)/60,2)) | I27: =IF(OR($B27="",$H27<>'Projekte'!$E$3),0,$G27*IFERROR(VLOOKUP($B27,'Projekte'!$A$3:$C$12,3,FALSE),0))
G28: =IF(OR($D28="",$E28=""),0,ROUND(MOD($E28-$D28,1)*24-N($F28)/60,2)) | I28: =IF(OR($B28="",$H28<>'Projekte'!$E$3),0,$G28*IFERROR(VLOOKUP($B28,'Projekte'!$A$3:$C$12,3,FALSE),0))
G29: =IF(OR($D29="",$E29=""),0,ROUND(MOD($E29-$D29,1)*24-N($F29)/60,2)) | I29: =IF(OR($B29="",$H29<>'Projekte'!$E$3),0,$G29*IFERROR(VLOOKUP($B29,'Projekte'!$A$3:$C$12,3,FALSE),0))
G30: =IF(OR($D30="",$E30=""),0,ROUND(MOD($E30-$D30,1)*24-N($F30)/60,2)) | I30: =IF(OR($B30="",$H30<>'Projekte'!$E$3),0,$G30*IFERROR(VLOOKUP($B30,'Projekte'!$A$3:$C$12,3,FALSE),0))
G31: =IF(OR($D31="",$E31=""),0,ROUND(MOD($E31-$D31,1)*24-N($F31)/60,2)) | I31: =IF(OR($B31="",$H31<>'Projekte'!$E$3),0,$G31*IFERROR(VLOOKUP($B31,'Projekte'!$A$3:$C$12,3,FALSE),0))
G32: =IF(OR($D32="",$E32=""),0,ROUND(MOD($E32-$D32,1)*24-N($F32)/60,2)) | I32: =IF(OR($B32="",$H32<>'Projekte'!$E$3),0,$G32*IFERROR(VLOOKUP($B32,'Projekte'!$A$3:$C$12,3,FALSE),0))
G33: =IF(OR($D33="",$E33=""),0,ROUND(MOD($E33-$D33,1)*24-N($F33)/60,2)) | I33: =IF(OR($B33="",$H33<>'Projekte'!$E$3),0,$G33*IFERROR(VLOOKUP($B33,'Projekte'!$A$3:$C$12,3,FALSE),0))
G34: =IF(OR($D34="",$E34=""),0,ROUND(MOD($E34-$D34,1)*24-N($F34)/60,2)) | I34: =IF(OR($B34="",$H34<>'Projekte'!$E$3),0,$G34*IFERROR(VLOOKUP($B34,'Projekte'!$A$3:$C$12,3,FALSE),0))
G35: =IF(OR($D35="",$E35=""),0,ROUND(MOD($E35-$D35,1)*24-N($F35)/60,2)) | I35: =IF(OR($B35="",$H35<>'Projekte'!$E$3),0,$G35*IFERROR(VLOOKUP($B35,'Projekte'!$A$3:$C$12,3,FALSE),0))
... G200: =IF(OR($D200="",$E200=""),0,ROUND(MOD($E200-$D200,1)*24-N($F200)/60,2)) | I200: =IF(OR($B200="",$H200<>'Projekte'!$E$3),0,$G200*IFERROR(VLOOKUP($B200,'Projekte'!$A$3:$C$12,3,FALSE),0))

Sheet Projekte
A1: WEEKORA · Stundenzettel | E1: sheetorial.com
A2: Projekt | B2: Kunde | C2: Stundensatz | E2: Abrechenbar
A3: Website-Relaunch | B3: Harbor Foods | C3: 85 | E3: Ja
A4: Brand guide | B4: Pine & Co | C4: 75 | E4: Nein
A5: Support-Pauschale | B5: Oakridge Clinic | C5: 60
A6: Intern | B6: — | C6: 0
A14: Projekte und Stundensätze hier eintragen – das Projekt-Dropdown und die Registerkarte Woche folgen dieser Liste.
