Workbook

Sheet Reps
A1: COMMORA · Commission Tracker | I1: sheetorial.com
A3: Commission plan by rep
A4: Base rate up to quota, accelerator rate on sales above quota. Totals compute from Sales.
A6: Total sales | B6: =SUM($E$10:$E$25) | C6: Commission earned | D6: =SUM($F$10:$F$25) | E6: Still owed | F6: =SUM($H$10:$H$25)
A9: Rep | B9: Quota | C9: Base rate | D9: Accelerator | E9: Sales | F9: Commission | G9: Paid | H9: Owed | I9: % of quota
A10: Dana Reed | B10: 60000 | C10: 0.08 | D10: 0.12 | E10: =SUMIF(Sales!$B:$B,$A10,Sales!$F:$F) | F10: =IF($A10="","",MIN($E10,$B10)*$C10+MAX(0,$E10-$B10)*$D10) | G10: =IF($A10="","",IFERROR($F10*SUMIFS(Sales!$F:$F,Sales!$B:$B,$A10,Sales!$H:$H,Lists!$A$4)/$E10,0)) | H10: =IF($A10="","",$F10-$G10) | I10: =IF($A10="","",IFERROR($E10/$B10,0))
A11: Lee Park | B11: 50000 | C11: 0.08 | D11: 0.12 | E11: =SUMIF(Sales!$B:$B,$A11,Sales!$F:$F) | F11: =IF($A11="","",MIN($E11,$B11)*$C11+MAX(0,$E11-$B11)*$D11) | G11: =IF($A11="","",IFERROR($F11*SUMIFS(Sales!$F:$F,Sales!$B:$B,$A11,Sales!$H:$H,Lists!$A$4)/$E11,0)) | H11: =IF($A11="","",$F11-$G11) | I11: =IF($A11="","",IFERROR($E11/$B11,0))
A12: Sam Ortiz | B12: 45000 | C12: 0.07 | D12: 0.1 | E12: =SUMIF(Sales!$B:$B,$A12,Sales!$F:$F) | F12: =IF($A12="","",MIN($E12,$B12)*$C12+MAX(0,$E12-$B12)*$D12) | G12: =IF($A12="","",IFERROR($F12*SUMIFS(Sales!$F:$F,Sales!$B:$B,$A12,Sales!$H:$H,Lists!$A$4)/$E12,0)) | H12: =IF($A12="","",$F12-$G12) | I12: =IF($A12="","",IFERROR($E12/$B12,0))
A13: Alex Kim | B13: 40000 | C13: 0.07 | D13: 0.1 | E13: =SUMIF(Sales!$B:$B,$A13,Sales!$F:$F) | F13: =IF($A13="","",MIN($E13,$B13)*$C13+MAX(0,$E13-$B13)*$D13) | G13: =IF($A13="","",IFERROR($F13*SUMIFS(Sales!$F:$F,Sales!$B:$B,$A13,Sales!$H:$H,Lists!$A$4)/$E13,0)) | H13: =IF($A13="","",$F13-$G13) | I13: =IF($A13="","",IFERROR($E13/$B13,0))
A14: Maya Lane | B14: 40000 | C14: 0.06 | D14: 0.09 | E14: =SUMIF(Sales!$B:$B,$A14,Sales!$F:$F) | F14: =IF($A14="","",MIN($E14,$B14)*$C14+MAX(0,$E14-$B14)*$D14) | G14: =IF($A14="","",IFERROR($F14*SUMIFS(Sales!$F:$F,Sales!$B:$B,$A14,Sales!$H:$H,Lists!$A$4)/$E14,0)) | H14: =IF($A14="","",$F14-$G14) | I14: =IF($A14="","",IFERROR($E14/$B14,0))
E15: =SUMIF(Sales!$B:$B,$A15,Sales!$F:$F) | F15: =IF($A15="","",MIN($E15,$B15)*$C15+MAX(0,$E15-$B15)*$D15) | G15: =IF($A15="","",IFERROR($F15*SUMIFS(Sales!$F:$F,Sales!$B:$B,$A15,Sales!$H:$H,Lists!$A$4)/$E15,0)) | H15: =IF($A15="","",$F15-$G15) | I15: =IF($A15="","",IFERROR($E15/$B15,0))
E16: =SUMIF(Sales!$B:$B,$A16,Sales!$F:$F) | F16: =IF($A16="","",MIN($E16,$B16)*$C16+MAX(0,$E16-$B16)*$D16) | G16: =IF($A16="","",IFERROR($F16*SUMIFS(Sales!$F:$F,Sales!$B:$B,$A16,Sales!$H:$H,Lists!$A$4)/$E16,0)) | H16: =IF($A16="","",$F16-$G16) | I16: =IF($A16="","",IFERROR($E16/$B16,0))
E17: =SUMIF(Sales!$B:$B,$A17,Sales!$F:$F) | F17: =IF($A17="","",MIN($E17,$B17)*$C17+MAX(0,$E17-$B17)*$D17) | G17: =IF($A17="","",IFERROR($F17*SUMIFS(Sales!$F:$F,Sales!$B:$B,$A17,Sales!$H:$H,Lists!$A$4)/$E17,0)) | H17: =IF($A17="","",$F17-$G17) | I17: =IF($A17="","",IFERROR($E17/$B17,0))
E18: =SUMIF(Sales!$B:$B,$A18,Sales!$F:$F) | F18: =IF($A18="","",MIN($E18,$B18)*$C18+MAX(0,$E18-$B18)*$D18) | G18: =IF($A18="","",IFERROR($F18*SUMIFS(Sales!$F:$F,Sales!$B:$B,$A18,Sales!$H:$H,Lists!$A$4)/$E18,0)) | H18: =IF($A18="","",$F18-$G18) | I18: =IF($A18="","",IFERROR($E18/$B18,0))
E19: =SUMIF(Sales!$B:$B,$A19,Sales!$F:$F) | F19: =IF($A19="","",MIN($E19,$B19)*$C19+MAX(0,$E19-$B19)*$D19) | G19: =IF($A19="","",IFERROR($F19*SUMIFS(Sales!$F:$F,Sales!$B:$B,$A19,Sales!$H:$H,Lists!$A$4)/$E19,0)) | H19: =IF($A19="","",$F19-$G19) | I19: =IF($A19="","",IFERROR($E19/$B19,0))
E20: =SUMIF(Sales!$B:$B,$A20,Sales!$F:$F) | F20: =IF($A20="","",MIN($E20,$B20)*$C20+MAX(0,$E20-$B20)*$D20) | G20: =IF($A20="","",IFERROR($F20*SUMIFS(Sales!$F:$F,Sales!$B:$B,$A20,Sales!$H:$H,Lists!$A$4)/$E20,0)) | H20: =IF($A20="","",$F20-$G20) | I20: =IF($A20="","",IFERROR($E20/$B20,0))
E21: =SUMIF(Sales!$B:$B,$A21,Sales!$F:$F) | F21: =IF($A21="","",MIN($E21,$B21)*$C21+MAX(0,$E21-$B21)*$D21) | G21: =IF($A21="","",IFERROR($F21*SUMIFS(Sales!$F:$F,Sales!$B:$B,$A21,Sales!$H:$H,Lists!$A$4)/$E21,0)) | H21: =IF($A21="","",$F21-$G21) | I21: =IF($A21="","",IFERROR($E21/$B21,0))
E22: =SUMIF(Sales!$B:$B,$A22,Sales!$F:$F) | F22: =IF($A22="","",MIN($E22,$B22)*$C22+MAX(0,$E22-$B22)*$D22) | G22: =IF($A22="","",IFERROR($F22*SUMIFS(Sales!$F:$F,Sales!$B:$B,$A22,Sales!$H:$H,Lists!$A$4)/$E22,0)) | H22: =IF($A22="","",$F22-$G22) | I22: =IF($A22="","",IFERROR($E22/$B22,0))
E23: =SUMIF(Sales!$B:$B,$A23,Sales!$F:$F) | F23: =IF($A23="","",MIN($E23,$B23)*$C23+MAX(0,$E23-$B23)*$D23) | G23: =IF($A23="","",IFERROR($F23*SUMIFS(Sales!$F:$F,Sales!$B:$B,$A23,Sales!$H:$H,Lists!$A$4)/$E23,0)) | H23: =IF($A23="","",$F23-$G23) | I23: =IF($A23="","",IFERROR($E23/$B23,0))
E24: =SUMIF(Sales!$B:$B,$A24,Sales!$F:$F) | F24: =IF($A24="","",MIN($E24,$B24)*$C24+MAX(0,$E24-$B24)*$D24) | G24: =IF($A24="","",IFERROR($F24*SUMIFS(Sales!$F:$F,Sales!$B:$B,$A24,Sales!$H:$H,Lists!$A$4)/$E24,0)) | H24: =IF($A24="","",$F24-$G24) | I24: =IF($A24="","",IFERROR($E24/$B24,0))
E25: =SUMIF(Sales!$B:$B,$A25,Sales!$F:$F) | F25: =IF($A25="","",MIN($E25,$B25)*$C25+MAX(0,$E25-$B25)*$D25) | G25: =IF($A25="","",IFERROR($F25*SUMIFS(Sales!$F:$F,Sales!$B:$B,$A25,Sales!$H:$H,Lists!$A$4)/$E25,0)) | H25: =IF($A25="","",$F25-$G25) | I25: =IF($A25="","",IFERROR($E25/$B25,0))

Sheet Sales
A1: COMMORA · Commission Tracker | I1: sheetorial.com
A3: Closed sales
A4: One row per closed deal. Est. commission uses the rep base rate; Reps applies the accelerator.
A6: Deals | B6: =COUNTA($A$10:$A$120) | C6: Sales value | D6: =SUM($F$10:$F$120) | E6: Unpaid deals | F6: =COUNTIF($H$10:$H$120,Lists!$A$3)
A9: Close date | B9: Rep | C9: Client | D9: Region | E9: Product | F9: Sale amount | G9: Est. commission | H9: Payout status | I9: Notes
A10: 46031 | B10: Dana Reed | C10: Harbor Foods | D10: North | E10: Annual plan | F10: 14200 | G10: =IF(OR($B10="",$F10=""),"",$F10*IFERROR(VLOOKUP($B10,Reps!$A$10:$C$25,3,FALSE),0)) | H10: Paid
A11: 46043 | B11: Lee Park | C11: Pine & Co | D11: West | E11: Setup package | F11: 6800 | G11: =IF(OR($B11="",$F11=""),"",$F11*IFERROR(VLOOKUP($B11,Reps!$A$10:$C$25,3,FALSE),0)) | H11: Paid
A12: 46057 | B12: Sam Ortiz | C12: Brightline Ltd | D12: South | E12: Annual plan | F12: 11500 | G12: =IF(OR($B12="",$F12=""),"",$F12*IFERROR(VLOOKUP($B12,Reps!$A$10:$C$25,3,FALSE),0)) | H12: Paid
A13: 46071 | B13: Alex Kim | C13: Oakridge Clinic | D13: East | E13: Support add-on | F13: 3900 | G13: =IF(OR($B13="",$F13=""),"",$F13*IFERROR(VLOOKUP($B13,Reps!$A$10:$C$25,3,FALSE),0)) | H13: Paid
A14: 46084 | B14: Dana Reed | C14: Summit Retail | D14: North | E14: Annual plan | F14: 18600 | G14: =IF(OR($B14="",$F14=""),"",$F14*IFERROR(VLOOKUP($B14,Reps!$A$10:$C$25,3,FALSE),0)) | H14: Paid | I14: Multi-year
A15: 46098 | B15: Maya Lane | C15: Bluewater Inc | D15: Online | E15: Setup package | F15: 5200 | G15: =IF(OR($B15="",$F15=""),"",$F15*IFERROR(VLOOKUP($B15,Reps!$A$10:$C$25,3,FALSE),0)) | H15: Paid
A16: 46120 | B16: Lee Park | C16: Cedar Logistics | D16: West | E16: Annual plan | F16: 16400 | G16: =IF(OR($B16="",$F16=""),"",$F16*IFERROR(VLOOKUP($B16,Reps!$A$10:$C$25,3,FALSE),0)) | H16: Unpaid
A17: 46134 | B17: Dana Reed | C17: Northgate Labs | D17: North | E17: Annual plan | F17: 21800 | G17: =IF(OR($B17="",$F17=""),"",$F17*IFERROR(VLOOKUP($B17,Reps!$A$10:$C$25,3,FALSE),0)) | H17: Unpaid
A18: 46148 | B18: Sam Ortiz | C18: Redfern Studio | D18: South | E18: Support add-on | F18: 4100 | G18: =IF(OR($B18="",$F18=""),"",$F18*IFERROR(VLOOKUP($B18,Reps!$A$10:$C$25,3,FALSE),0)) | H18: On hold | I18: Awaiting payment
A19: 46161 | B19: Alex Kim | C19: Maple Dental | D19: East | E19: Annual plan | F19: 12700 | G19: =IF(OR($B19="",$F19=""),"",$F19*IFERROR(VLOOKUP($B19,Reps!$A$10:$C$25,3,FALSE),0)) | H19: Unpaid
A20: 46175 | B20: Maya Lane | C20: Atlas Fitness | D20: Online | E20: Annual plan | F20: 9800 | G20: =IF(OR($B20="",$F20=""),"",$F20*IFERROR(VLOOKUP($B20,Reps!$A$10:$C$25,3,FALSE),0)) | H20: Unpaid
A21: 46188 | B21: Dana Reed | C21: Riverbend Co | D21: North | E21: Setup package | F21: 7400 | G21: =IF(OR($B21="",$F21=""),"",$F21*IFERROR(VLOOKUP($B21,Reps!$A$10:$C$25,3,FALSE),0)) | H21: Unpaid
G22: =IF(OR($B22="",$F22=""),"",$F22*IFERROR(VLOOKUP($B22,Reps!$A$10:$C$25,3,FALSE),0))
G23: =IF(OR($B23="",$F23=""),"",$F23*IFERROR(VLOOKUP($B23,Reps!$A$10:$C$25,3,FALSE),0))
G24: =IF(OR($B24="",$F24=""),"",$F24*IFERROR(VLOOKUP($B24,Reps!$A$10:$C$25,3,FALSE),0))
G25: =IF(OR($B25="",$F25=""),"",$F25*IFERROR(VLOOKUP($B25,Reps!$A$10:$C$25,3,FALSE),0))
G26: =IF(OR($B26="",$F26=""),"",$F26*IFERROR(VLOOKUP($B26,Reps!$A$10:$C$25,3,FALSE),0))
G27: =IF(OR($B27="",$F27=""),"",$F27*IFERROR(VLOOKUP($B27,Reps!$A$10:$C$25,3,FALSE),0))
G28: =IF(OR($B28="",$F28=""),"",$F28*IFERROR(VLOOKUP($B28,Reps!$A$10:$C$25,3,FALSE),0))
G29: =IF(OR($B29="",$F29=""),"",$F29*IFERROR(VLOOKUP($B29,Reps!$A$10:$C$25,3,FALSE),0))
G30: =IF(OR($B30="",$F30=""),"",$F30*IFERROR(VLOOKUP($B30,Reps!$A$10:$C$25,3,FALSE),0))
G31: =IF(OR($B31="",$F31=""),"",$F31*IFERROR(VLOOKUP($B31,Reps!$A$10:$C$25,3,FALSE),0))
G32: =IF(OR($B32="",$F32=""),"",$F32*IFERROR(VLOOKUP($B32,Reps!$A$10:$C$25,3,FALSE),0))
G33: =IF(OR($B33="",$F33=""),"",$F33*IFERROR(VLOOKUP($B33,Reps!$A$10:$C$25,3,FALSE),0))
... G120: =IF(OR($B120="",$F120=""),"",$F120*IFERROR(VLOOKUP($B120,Reps!$A$10:$C$25,3,FALSE),0))

Sheet Monthly
A1: COMMORA · Commission Tracker | H1: sheetorial.com
A3: Sales by month
A4: Change the first month and every column follows. Values come from Sales.
A6: First month | B6: 46023
A9: Rep | B9: Month 1 | C9: Month 2 | D9: Month 3 | E9: Month 4 | F9: Month 5 | G9: Month 6 | H9: Total
A10: Month starting | B10: =DATE(YEAR($B$6),MONTH($B$6)+0,1) | C10: =DATE(YEAR($B$6),MONTH($B$6)+1,1) | D10: =DATE(YEAR($B$6),MONTH($B$6)+2,1) | E10: =DATE(YEAR($B$6),MONTH($B$6)+3,1) | F10: =DATE(YEAR($B$6),MONTH($B$6)+4,1) | G10: =DATE(YEAR($B$6),MONTH($B$6)+5,1)
A11: =IF(Reps!$A10="","",Reps!$A10) | B11: =IF($A11="","",SUMIFS(Sales!$F:$F,Sales!$B:$B,$A11,Sales!$A:$A,">="&B$10,Sales!$A:$A,"<"&DATE(YEAR(B$10),MONTH(B$10)+1,1))) | C11: =IF($A11="","",SUMIFS(Sales!$F:$F,Sales!$B:$B,$A11,Sales!$A:$A,">="&C$10,Sales!$A:$A,"<"&DATE(YEAR(C$10),MONTH(C$10)+1,1))) | D11: =IF($A11="","",SUMIFS(Sales!$F:$F,Sales!$B:$B,$A11,Sales!$A:$A,">="&D$10,Sales!$A:$A,"<"&DATE(YEAR(D$10),MONTH(D$10)+1,1))) | E11: =IF($A11="","",SUMIFS(Sales!$F:$F,Sales!$B:$B,$A11,Sales!$A:$A,">="&E$10,Sales!$A:$A,"<"&DATE(YEAR(E$10),MONTH(E$10)+1,1))) | F11: =IF($A11="","",SUMIFS(Sales!$F:$F,Sales!$B:$B,$A11,Sales!$A:$A,">="&F$10,Sales!$A:$A,"<"&DATE(YEAR(F$10),MONTH(F$10)+1,1))) | G11: =IF($A11="","",SUMIFS(Sales!$F:$F,Sales!$B:$B,$A11,Sales!$A:$A,">="&G$10,Sales!$A:$A,"<"&DATE(YEAR(G$10),MONTH(G$10)+1,1))) | H11: =IF($A11="","",SUM($B11:$G11))
A12: =IF(Reps!$A11="","",Reps!$A11) | B12: =IF($A12="","",SUMIFS(Sales!$F:$F,Sales!$B:$B,$A12,Sales!$A:$A,">="&B$10,Sales!$A:$A,"<"&DATE(YEAR(B$10),MONTH(B$10)+1,1))) | C12: =IF($A12="","",SUMIFS(Sales!$F:$F,Sales!$B:$B,$A12,Sales!$A:$A,">="&C$10,Sales!$A:$A,"<"&DATE(YEAR(C$10),MONTH(C$10)+1,1))) | D12: =IF($A12="","",SUMIFS(Sales!$F:$F,Sales!$B:$B,$A12,Sales!$A:$A,">="&D$10,Sales!$A:$A,"<"&DATE(YEAR(D$10),MONTH(D$10)+1,1))) | E12: =IF($A12="","",SUMIFS(Sales!$F:$F,Sales!$B:$B,$A12,Sales!$A:$A,">="&E$10,Sales!$A:$A,"<"&DATE(YEAR(E$10),MONTH(E$10)+1,1))) | F12: =IF($A12="","",SUMIFS(Sales!$F:$F,Sales!$B:$B,$A12,Sales!$A:$A,">="&F$10,Sales!$A:$A,"<"&DATE(YEAR(F$10),MONTH(F$10)+1,1))) | G12: =IF($A12="","",SUMIFS(Sales!$F:$F,Sales!$B:$B,$A12,Sales!$A:$A,">="&G$10,Sales!$A:$A,"<"&DATE(YEAR(G$10),MONTH(G$10)+1,1))) | H12: =IF($A12="","",SUM($B12:$G12))
A13: =IF(Reps!$A12="","",Reps!$A12) | B13: =IF($A13="","",SUMIFS(Sales!$F:$F,Sales!$B:$B,$A13,Sales!$A:$A,">="&B$10,Sales!$A:$A,"<"&DATE(YEAR(B$10),MONTH(B$10)+1,1))) | C13: =IF($A13="","",SUMIFS(Sales!$F:$F,Sales!$B:$B,$A13,Sales!$A:$A,">="&C$10,Sales!$A:$A,"<"&DATE(YEAR(C$10),MONTH(C$10)+1,1))) | D13: =IF($A13="","",SUMIFS(Sales!$F:$F,Sales!$B:$B,$A13,Sales!$A:$A,">="&D$10,Sales!$A:$A,"<"&DATE(YEAR(D$10),MONTH(D$10)+1,1))) | E13: =IF($A13="","",SUMIFS(Sales!$F:$F,Sales!$B:$B,$A13,Sales!$A:$A,">="&E$10,Sales!$A:$A,"<"&DATE(YEAR(E$10),MONTH(E$10)+1,1))) | F13: =IF($A13="","",SUMIFS(Sales!$F:$F,Sales!$B:$B,$A13,Sales!$A:$A,">="&F$10,Sales!$A:$A,"<"&DATE(YEAR(F$10),MONTH(F$10)+1,1))) | G13: =IF($A13="","",SUMIFS(Sales!$F:$F,Sales!$B:$B,$A13,Sales!$A:$A,">="&G$10,Sales!$A:$A,"<"&DATE(YEAR(G$10),MONTH(G$10)+1,1))) | H13: =IF($A13="","",SUM($B13:$G13))
A14: =IF(Reps!$A13="","",Reps!$A13) | B14: =IF($A14="","",SUMIFS(Sales!$F:$F,Sales!$B:$B,$A14,Sales!$A:$A,">="&B$10,Sales!$A:$A,"<"&DATE(YEAR(B$10),MONTH(B$10)+1,1))) | C14: =IF($A14="","",SUMIFS(Sales!$F:$F,Sales!$B:$B,$A14,Sales!$A:$A,">="&C$10,Sales!$A:$A,"<"&DATE(YEAR(C$10),MONTH(C$10)+1,1))) | D14: =IF($A14="","",SUMIFS(Sales!$F:$F,Sales!$B:$B,$A14,Sales!$A:$A,">="&D$10,Sales!$A:$A,"<"&DATE(YEAR(D$10),MONTH(D$10)+1,1))) | E14: =IF($A14="","",SUMIFS(Sales!$F:$F,Sales!$B:$B,$A14,Sales!$A:$A,">="&E$10,Sales!$A:$A,"<"&DATE(YEAR(E$10),MONTH(E$10)+1,1))) | F14: =IF($A14="","",SUMIFS(Sales!$F:$F,Sales!$B:$B,$A14,Sales!$A:$A,">="&F$10,Sales!$A:$A,"<"&DATE(YEAR(F$10),MONTH(F$10)+1,1))) | G14: =IF($A14="","",SUMIFS(Sales!$F:$F,Sales!$B:$B,$A14,Sales!$A:$A,">="&G$10,Sales!$A:$A,"<"&DATE(YEAR(G$10),MONTH(G$10)+1,1))) | H14: =IF($A14="","",SUM($B14:$G14))
A15: =IF(Reps!$A14="","",Reps!$A14) | B15: =IF($A15="","",SUMIFS(Sales!$F:$F,Sales!$B:$B,$A15,Sales!$A:$A,">="&B$10,Sales!$A:$A,"<"&DATE(YEAR(B$10),MONTH(B$10)+1,1))) | C15: =IF($A15="","",SUMIFS(Sales!$F:$F,Sales!$B:$B,$A15,Sales!$A:$A,">="&C$10,Sales!$A:$A,"<"&DATE(YEAR(C$10),MONTH(C$10)+1,1))) | D15: =IF($A15="","",SUMIFS(Sales!$F:$F,Sales!$B:$B,$A15,Sales!$A:$A,">="&D$10,Sales!$A:$A,"<"&DATE(YEAR(D$10),MONTH(D$10)+1,1))) | E15: =IF($A15="","",SUMIFS(Sales!$F:$F,Sales!$B:$B,$A15,Sales!$A:$A,">="&E$10,Sales!$A:$A,"<"&DATE(YEAR(E$10),MONTH(E$10)+1,1))) | F15: =IF($A15="","",SUMIFS(Sales!$F:$F,Sales!$B:$B,$A15,Sales!$A:$A,">="&F$10,Sales!$A:$A,"<"&DATE(YEAR(F$10),MONTH(F$10)+1,1))) | G15: =IF($A15="","",SUMIFS(Sales!$F:$F,Sales!$B:$B,$A15,Sales!$A:$A,">="&G$10,Sales!$A:$A,"<"&DATE(YEAR(G$10),MONTH(G$10)+1,1))) | H15: =IF($A15="","",SUM($B15:$G15))
A16: =IF(Reps!$A15="","",Reps!$A15) | B16: =IF($A16="","",SUMIFS(Sales!$F:$F,Sales!$B:$B,$A16,Sales!$A:$A,">="&B$10,Sales!$A:$A,"<"&DATE(YEAR(B$10),MONTH(B$10)+1,1))) | C16: =IF($A16="","",SUMIFS(Sales!$F:$F,Sales!$B:$B,$A16,Sales!$A:$A,">="&C$10,Sales!$A:$A,"<"&DATE(YEAR(C$10),MONTH(C$10)+1,1))) | D16: =IF($A16="","",SUMIFS(Sales!$F:$F,Sales!$B:$B,$A16,Sales!$A:$A,">="&D$10,Sales!$A:$A,"<"&DATE(YEAR(D$10),MONTH(D$10)+1,1))) | E16: =IF($A16="","",SUMIFS(Sales!$F:$F,Sales!$B:$B,$A16,Sales!$A:$A,">="&E$10,Sales!$A:$A,"<"&DATE(YEAR(E$10),MONTH(E$10)+1,1))) | F16: =IF($A16="","",SUMIFS(Sales!$F:$F,Sales!$B:$B,$A16,Sales!$A:$A,">="&F$10,Sales!$A:$A,"<"&DATE(YEAR(F$10),MONTH(F$10)+1,1))) | G16: =IF($A16="","",SUMIFS(Sales!$F:$F,Sales!$B:$B,$A16,Sales!$A:$A,">="&G$10,Sales!$A:$A,"<"&DATE(YEAR(G$10),MONTH(G$10)+1,1))) | H16: =IF($A16="","",SUM($B16:$G16))
A17: =IF(Reps!$A16="","",Reps!$A16) | B17: =IF($A17="","",SUMIFS(Sales!$F:$F,Sales!$B:$B,$A17,Sales!$A:$A,">="&B$10,Sales!$A:$A,"<"&DATE(YEAR(B$10),MONTH(B$10)+1,1))) | C17: =IF($A17="","",SUMIFS(Sales!$F:$F,Sales!$B:$B,$A17,Sales!$A:$A,">="&C$10,Sales!$A:$A,"<"&DATE(YEAR(C$10),MONTH(C$10)+1,1))) | D17: =IF($A17="","",SUMIFS(Sales!$F:$F,Sales!$B:$B,$A17,Sales!$A:$A,">="&D$10,Sales!$A:$A,"<"&DATE(YEAR(D$10),MONTH(D$10)+1,1))) | E17: =IF($A17="","",SUMIFS(Sales!$F:$F,Sales!$B:$B,$A17,Sales!$A:$A,">="&E$10,Sales!$A:$A,"<"&DATE(YEAR(E$10),MONTH(E$10)+1,1))) | F17: =IF($A17="","",SUMIFS(Sales!$F:$F,Sales!$B:$B,$A17,Sales!$A:$A,">="&F$10,Sales!$A:$A,"<"&DATE(YEAR(F$10),MONTH(F$10)+1,1))) | G17: =IF($A17="","",SUMIFS(Sales!$F:$F,Sales!$B:$B,$A17,Sales!$A:$A,">="&G$10,Sales!$A:$A,"<"&DATE(YEAR(G$10),MONTH(G$10)+1,1))) | H17: =IF($A17="","",SUM($B17:$G17))
A18: =IF(Reps!$A17="","",Reps!$A17) | B18: =IF($A18="","",SUMIFS(Sales!$F:$F,Sales!$B:$B,$A18,Sales!$A:$A,">="&B$10,Sales!$A:$A,"<"&DATE(YEAR(B$10),MONTH(B$10)+1,1))) | C18: =IF($A18="","",SUMIFS(Sales!$F:$F,Sales!$B:$B,$A18,Sales!$A:$A,">="&C$10,Sales!$A:$A,"<"&DATE(YEAR(C$10),MONTH(C$10)+1,1))) | D18: =IF($A18="","",SUMIFS(Sales!$F:$F,Sales!$B:$B,$A18,Sales!$A:$A,">="&D$10,Sales!$A:$A,"<"&DATE(YEAR(D$10),MONTH(D$10)+1,1))) | E18: =IF($A18="","",SUMIFS(Sales!$F:$F,Sales!$B:$B,$A18,Sales!$A:$A,">="&E$10,Sales!$A:$A,"<"&DATE(YEAR(E$10),MONTH(E$10)+1,1))) | F18: =IF($A18="","",SUMIFS(Sales!$F:$F,Sales!$B:$B,$A18,Sales!$A:$A,">="&F$10,Sales!$A:$A,"<"&DATE(YEAR(F$10),MONTH(F$10)+1,1))) | G18: =IF($A18="","",SUMIFS(Sales!$F:$F,Sales!$B:$B,$A18,Sales!$A:$A,">="&G$10,Sales!$A:$A,"<"&DATE(YEAR(G$10),MONTH(G$10)+1,1))) | H18: =IF($A18="","",SUM($B18:$G18))
A19: =IF(Reps!$A18="","",Reps!$A18) | B19: =IF($A19="","",SUMIFS(Sales!$F:$F,Sales!$B:$B,$A19,Sales!$A:$A,">="&B$10,Sales!$A:$A,"<"&DATE(YEAR(B$10),MONTH(B$10)+1,1))) | C19: =IF($A19="","",SUMIFS(Sales!$F:$F,Sales!$B:$B,$A19,Sales!$A:$A,">="&C$10,Sales!$A:$A,"<"&DATE(YEAR(C$10),MONTH(C$10)+1,1))) | D19: =IF($A19="","",SUMIFS(Sales!$F:$F,Sales!$B:$B,$A19,Sales!$A:$A,">="&D$10,Sales!$A:$A,"<"&DATE(YEAR(D$10),MONTH(D$10)+1,1))) | E19: =IF($A19="","",SUMIFS(Sales!$F:$F,Sales!$B:$B,$A19,Sales!$A:$A,">="&E$10,Sales!$A:$A,"<"&DATE(YEAR(E$10),MONTH(E$10)+1,1))) | F19: =IF($A19="","",SUMIFS(Sales!$F:$F,Sales!$B:$B,$A19,Sales!$A:$A,">="&F$10,Sales!$A:$A,"<"&DATE(YEAR(F$10),MONTH(F$10)+1,1))) | G19: =IF($A19="","",SUMIFS(Sales!$F:$F,Sales!$B:$B,$A19,Sales!$A:$A,">="&G$10,Sales!$A:$A,"<"&DATE(YEAR(G$10),MONTH(G$10)+1,1))) | H19: =IF($A19="","",SUM($B19:$G19))
A20: =IF(Reps!$A19="","",Reps!$A19) | B20: =IF($A20="","",SUMIFS(Sales!$F:$F,Sales!$B:$B,$A20,Sales!$A:$A,">="&B$10,Sales!$A:$A,"<"&DATE(YEAR(B$10),MONTH(B$10)+1,1))) | C20: =IF($A20="","",SUMIFS(Sales!$F:$F,Sales!$B:$B,$A20,Sales!$A:$A,">="&C$10,Sales!$A:$A,"<"&DATE(YEAR(C$10),MONTH(C$10)+1,1))) | D20: =IF($A20="","",SUMIFS(Sales!$F:$F,Sales!$B:$B,$A20,Sales!$A:$A,">="&D$10,Sales!$A:$A,"<"&DATE(YEAR(D$10),MONTH(D$10)+1,1))) | E20: =IF($A20="","",SUMIFS(Sales!$F:$F,Sales!$B:$B,$A20,Sales!$A:$A,">="&E$10,Sales!$A:$A,"<"&DATE(YEAR(E$10),MONTH(E$10)+1,1))) | F20: =IF($A20="","",SUMIFS(Sales!$F:$F,Sales!$B:$B,$A20,Sales!$A:$A,">="&F$10,Sales!$A:$A,"<"&DATE(YEAR(F$10),MONTH(F$10)+1,1))) | G20: =IF($A20="","",SUMIFS(Sales!$F:$F,Sales!$B:$B,$A20,Sales!$A:$A,">="&G$10,Sales!$A:$A,"<"&DATE(YEAR(G$10),MONTH(G$10)+1,1))) | H20: =IF($A20="","",SUM($B20:$G20))
A21: =IF(Reps!$A20="","",Reps!$A20) | B21: =IF($A21="","",SUMIFS(Sales!$F:$F,Sales!$B:$B,$A21,Sales!$A:$A,">="&B$10,Sales!$A:$A,"<"&DATE(YEAR(B$10),MONTH(B$10)+1,1))) | C21: =IF($A21="","",SUMIFS(Sales!$F:$F,Sales!$B:$B,$A21,Sales!$A:$A,">="&C$10,Sales!$A:$A,"<"&DATE(YEAR(C$10),MONTH(C$10)+1,1))) | D21: =IF($A21="","",SUMIFS(Sales!$F:$F,Sales!$B:$B,$A21,Sales!$A:$A,">="&D$10,Sales!$A:$A,"<"&DATE(YEAR(D$10),MONTH(D$10)+1,1))) | E21: =IF($A21="","",SUMIFS(Sales!$F:$F,Sales!$B:$B,$A21,Sales!$A:$A,">="&E$10,Sales!$A:$A,"<"&DATE(YEAR(E$10),MONTH(E$10)+1,1))) | F21: =IF($A21="","",SUMIFS(Sales!$F:$F,Sales!$B:$B,$A21,Sales!$A:$A,">="&F$10,Sales!$A:$A,"<"&DATE(YEAR(F$10),MONTH(F$10)+1,1))) | G21: =IF($A21="","",SUMIFS(Sales!$F:$F,Sales!$B:$B,$A21,Sales!$A:$A,">="&G$10,Sales!$A:$A,"<"&DATE(YEAR(G$10),MONTH(G$10)+1,1))) | H21: =IF($A21="","",SUM($B21:$G21))
A22: =IF(Reps!$A21="","",Reps!$A21) | B22: =IF($A22="","",SUMIFS(Sales!$F:$F,Sales!$B:$B,$A22,Sales!$A:$A,">="&B$10,Sales!$A:$A,"<"&DATE(YEAR(B$10),MONTH(B$10)+1,1))) | C22: =IF($A22="","",SUMIFS(Sales!$F:$F,Sales!$B:$B,$A22,Sales!$A:$A,">="&C$10,Sales!$A:$A,"<"&DATE(YEAR(C$10),MONTH(C$10)+1,1))) | D22: =IF($A22="","",SUMIFS(Sales!$F:$F,Sales!$B:$B,$A22,Sales!$A:$A,">="&D$10,Sales!$A:$A,"<"&DATE(YEAR(D$10),MONTH(D$10)+1,1))) | E22: =IF($A22="","",SUMIFS(Sales!$F:$F,Sales!$B:$B,$A22,Sales!$A:$A,">="&E$10,Sales!$A:$A,"<"&DATE(YEAR(E$10),MONTH(E$10)+1,1))) | F22: =IF($A22="","",SUMIFS(Sales!$F:$F,Sales!$B:$B,$A22,Sales!$A:$A,">="&F$10,Sales!$A:$A,"<"&DATE(YEAR(F$10),MONTH(F$10)+1,1))) | G22: =IF($A22="","",SUMIFS(Sales!$F:$F,Sales!$B:$B,$A22,Sales!$A:$A,">="&G$10,Sales!$A:$A,"<"&DATE(YEAR(G$10),MONTH(G$10)+1,1))) | H22: =IF($A22="","",SUM($B22:$G22))
... A26: =IF(Reps!$A25="","",Reps!$A25) | B26: =IF($A26="","",SUMIFS(Sales!$F:$F,Sales!$B:$B,$A26,Sales!$A:$A,">="&B$10,Sales!$A:$A,"<"&DATE(YEAR(B$10),MONTH(B$10)+1,1))) | C26: =IF($A26="","",SUMIFS(Sales!$F:$F,Sales!$B:$B,$A26,Sales!$A:$A,">="&C$10,Sales!$A:$A,"<"&DATE(YEAR(C$10),MONTH(C$10)+1,1))) | D26: =IF($A26="","",SUMIFS(Sales!$F:$F,Sales!$B:$B,$A26,Sales!$A:$A,">="&D$10,Sales!$A:$A,"<"&DATE(YEAR(D$10),MONTH(D$10)+1,1))) | E26: =IF($A26="","",SUMIFS(Sales!$F:$F,Sales!$B:$B,$A26,Sales!$A:$A,">="&E$10,Sales!$A:$A,"<"&DATE(YEAR(E$10),MONTH(E$10)+1,1))) | F26: =IF($A26="","",SUMIFS(Sales!$F:$F,Sales!$B:$B,$A26,Sales!$A:$A,">="&F$10,Sales!$A:$A,"<"&DATE(YEAR(F$10),MONTH(F$10)+1,1))) | G26: =IF($A26="","",SUMIFS(Sales!$F:$F,Sales!$B:$B,$A26,Sales!$A:$A,">="&G$10,Sales!$A:$A,"<"&DATE(YEAR(G$10),MONTH(G$10)+1,1))) | H26: =IF($A26="","",SUM($B26:$G26))

Sheet Lists
A1: COMMORA · Commission Tracker | D1: sheetorial.com
A2: Payout status | B2: Region
A3: Unpaid | B3: North
A4: Paid | B4: South
A5: On hold | B5: East
B6: West
B7: Online
A9: Edit payout statuses and regions here — the dropdowns follow these lists.
