Workbook

Sheet Semana
A1: WEEKORA · Hoja de horas | G1: sheetorial.com
A3: Hoja de horas semanal
A4: Escribe el lunes de la semana. Días y proyectos se suman desde la pestaña Registros.
A6: Semana que empieza | B6: 46300 | C6: Horas totales | D6: =$B$17 | E6: Parte facturable | F6: =IFERROR($C$17/$B$17,0)
E7: Importe facturable | F7: =$E$17
A9: Día | B9: Horas | C9: Horas facturables | D9: % facturable | E9: Importe
A10: =$B$6+0 | B10: =SUMIF('Registros'!$A:$A,$A10,'Registros'!$G:$G) | C10: =SUMIFS('Registros'!$G:$G,'Registros'!$A:$A,$A10,'Registros'!$H:$H,'Proyectos'!$E$3) | D10: =IFERROR($C10/$B10,0) | E10: =SUMIF('Registros'!$A:$A,$A10,'Registros'!$I:$I)
A11: =$B$6+1 | B11: =SUMIF('Registros'!$A:$A,$A11,'Registros'!$G:$G) | C11: =SUMIFS('Registros'!$G:$G,'Registros'!$A:$A,$A11,'Registros'!$H:$H,'Proyectos'!$E$3) | D11: =IFERROR($C11/$B11,0) | E11: =SUMIF('Registros'!$A:$A,$A11,'Registros'!$I:$I)
A12: =$B$6+2 | B12: =SUMIF('Registros'!$A:$A,$A12,'Registros'!$G:$G) | C12: =SUMIFS('Registros'!$G:$G,'Registros'!$A:$A,$A12,'Registros'!$H:$H,'Proyectos'!$E$3) | D12: =IFERROR($C12/$B12,0) | E12: =SUMIF('Registros'!$A:$A,$A12,'Registros'!$I:$I)
A13: =$B$6+3 | B13: =SUMIF('Registros'!$A:$A,$A13,'Registros'!$G:$G) | C13: =SUMIFS('Registros'!$G:$G,'Registros'!$A:$A,$A13,'Registros'!$H:$H,'Proyectos'!$E$3) | D13: =IFERROR($C13/$B13,0) | E13: =SUMIF('Registros'!$A:$A,$A13,'Registros'!$I:$I)
A14: =$B$6+4 | B14: =SUMIF('Registros'!$A:$A,$A14,'Registros'!$G:$G) | C14: =SUMIFS('Registros'!$G:$G,'Registros'!$A:$A,$A14,'Registros'!$H:$H,'Proyectos'!$E$3) | D14: =IFERROR($C14/$B14,0) | E14: =SUMIF('Registros'!$A:$A,$A14,'Registros'!$I:$I)
A15: =$B$6+5 | B15: =SUMIF('Registros'!$A:$A,$A15,'Registros'!$G:$G) | C15: =SUMIFS('Registros'!$G:$G,'Registros'!$A:$A,$A15,'Registros'!$H:$H,'Proyectos'!$E$3) | D15: =IFERROR($C15/$B15,0) | E15: =SUMIF('Registros'!$A:$A,$A15,'Registros'!$I:$I)
A16: =$B$6+6 | B16: =SUMIF('Registros'!$A:$A,$A16,'Registros'!$G:$G) | C16: =SUMIFS('Registros'!$G:$G,'Registros'!$A:$A,$A16,'Registros'!$H:$H,'Proyectos'!$E$3) | D16: =IFERROR($C16/$B16,0) | E16: =SUMIF('Registros'!$A:$A,$A16,'Registros'!$I:$I)
A17: Total | B17: =SUM($B$10:$B$16) | C17: =SUM($C$10:$C$16) | D17: =IFERROR($C$17/$B$17,0) | E17: =SUM($E$10:$E$16)
A19: Esta semana por proyecto
A20: Proyecto | B20: Cliente | C20: Horas | D20: Horas facturables | E20: Importe
A21: =IF('Proyectos'!$A3="","",'Proyectos'!$A3) | B21: =IF($A21="","",'Proyectos'!$B3) | C21: =IF($A21="","",SUMIFS('Registros'!$G:$G,'Registros'!$B:$B,$A21,'Registros'!$A:$A,">="&$B$6,'Registros'!$A:$A,"<"&($B$6+7))) | D21: =IF($A21="","",SUMIFS('Registros'!$G:$G,'Registros'!$B:$B,$A21,'Registros'!$H:$H,'Proyectos'!$E$3,'Registros'!$A:$A,">="&$B$6,'Registros'!$A:$A,"<"&($B$6+7))) | E21: =IF($A21="","",SUMIFS('Registros'!$I:$I,'Registros'!$B:$B,$A21,'Registros'!$A:$A,">="&$B$6,'Registros'!$A:$A,"<"&($B$6+7)))
A22: =IF('Proyectos'!$A4="","",'Proyectos'!$A4) | B22: =IF($A22="","",'Proyectos'!$B4) | C22: =IF($A22="","",SUMIFS('Registros'!$G:$G,'Registros'!$B:$B,$A22,'Registros'!$A:$A,">="&$B$6,'Registros'!$A:$A,"<"&($B$6+7))) | D22: =IF($A22="","",SUMIFS('Registros'!$G:$G,'Registros'!$B:$B,$A22,'Registros'!$H:$H,'Proyectos'!$E$3,'Registros'!$A:$A,">="&$B$6,'Registros'!$A:$A,"<"&($B$6+7))) | E22: =IF($A22="","",SUMIFS('Registros'!$I:$I,'Registros'!$B:$B,$A22,'Registros'!$A:$A,">="&$B$6,'Registros'!$A:$A,"<"&($B$6+7)))
A23: =IF('Proyectos'!$A5="","",'Proyectos'!$A5) | B23: =IF($A23="","",'Proyectos'!$B5) | C23: =IF($A23="","",SUMIFS('Registros'!$G:$G,'Registros'!$B:$B,$A23,'Registros'!$A:$A,">="&$B$6,'Registros'!$A:$A,"<"&($B$6+7))) | D23: =IF($A23="","",SUMIFS('Registros'!$G:$G,'Registros'!$B:$B,$A23,'Registros'!$H:$H,'Proyectos'!$E$3,'Registros'!$A:$A,">="&$B$6,'Registros'!$A:$A,"<"&($B$6+7))) | E23: =IF($A23="","",SUMIFS('Registros'!$I:$I,'Registros'!$B:$B,$A23,'Registros'!$A:$A,">="&$B$6,'Registros'!$A:$A,"<"&($B$6+7)))
A24: =IF('Proyectos'!$A6="","",'Proyectos'!$A6) | B24: =IF($A24="","",'Proyectos'!$B6) | C24: =IF($A24="","",SUMIFS('Registros'!$G:$G,'Registros'!$B:$B,$A24,'Registros'!$A:$A,">="&$B$6,'Registros'!$A:$A,"<"&($B$6+7))) | D24: =IF($A24="","",SUMIFS('Registros'!$G:$G,'Registros'!$B:$B,$A24,'Registros'!$H:$H,'Proyectos'!$E$3,'Registros'!$A:$A,">="&$B$6,'Registros'!$A:$A,"<"&($B$6+7))) | E24: =IF($A24="","",SUMIFS('Registros'!$I:$I,'Registros'!$B:$B,$A24,'Registros'!$A:$A,">="&$B$6,'Registros'!$A:$A,"<"&($B$6+7)))
A25: =IF('Proyectos'!$A7="","",'Proyectos'!$A7) | B25: =IF($A25="","",'Proyectos'!$B7) | C25: =IF($A25="","",SUMIFS('Registros'!$G:$G,'Registros'!$B:$B,$A25,'Registros'!$A:$A,">="&$B$6,'Registros'!$A:$A,"<"&($B$6+7))) | D25: =IF($A25="","",SUMIFS('Registros'!$G:$G,'Registros'!$B:$B,$A25,'Registros'!$H:$H,'Proyectos'!$E$3,'Registros'!$A:$A,">="&$B$6,'Registros'!$A:$A,"<"&($B$6+7))) | E25: =IF($A25="","",SUMIFS('Registros'!$I:$I,'Registros'!$B:$B,$A25,'Registros'!$A:$A,">="&$B$6,'Registros'!$A:$A,"<"&($B$6+7)))
A26: =IF('Proyectos'!$A8="","",'Proyectos'!$A8) | B26: =IF($A26="","",'Proyectos'!$B8) | C26: =IF($A26="","",SUMIFS('Registros'!$G:$G,'Registros'!$B:$B,$A26,'Registros'!$A:$A,">="&$B$6,'Registros'!$A:$A,"<"&($B$6+7))) | D26: =IF($A26="","",SUMIFS('Registros'!$G:$G,'Registros'!$B:$B,$A26,'Registros'!$H:$H,'Proyectos'!$E$3,'Registros'!$A:$A,">="&$B$6,'Registros'!$A:$A,"<"&($B$6+7))) | E26: =IF($A26="","",SUMIFS('Registros'!$I:$I,'Registros'!$B:$B,$A26,'Registros'!$A:$A,">="&$B$6,'Registros'!$A:$A,"<"&($B$6+7)))
A27: =IF('Proyectos'!$A9="","",'Proyectos'!$A9) | B27: =IF($A27="","",'Proyectos'!$B9) | C27: =IF($A27="","",SUMIFS('Registros'!$G:$G,'Registros'!$B:$B,$A27,'Registros'!$A:$A,">="&$B$6,'Registros'!$A:$A,"<"&($B$6+7))) | D27: =IF($A27="","",SUMIFS('Registros'!$G:$G,'Registros'!$B:$B,$A27,'Registros'!$H:$H,'Proyectos'!$E$3,'Registros'!$A:$A,">="&$B$6,'Registros'!$A:$A,"<"&($B$6+7))) | E27: =IF($A27="","",SUMIFS('Registros'!$I:$I,'Registros'!$B:$B,$A27,'Registros'!$A:$A,">="&$B$6,'Registros'!$A:$A,"<"&($B$6+7)))
A28: =IF('Proyectos'!$A10="","",'Proyectos'!$A10) | B28: =IF($A28="","",'Proyectos'!$B10) | C28: =IF($A28="","",SUMIFS('Registros'!$G:$G,'Registros'!$B:$B,$A28,'Registros'!$A:$A,">="&$B$6,'Registros'!$A:$A,"<"&($B$6+7))) | D28: =IF($A28="","",SUMIFS('Registros'!$G:$G,'Registros'!$B:$B,$A28,'Registros'!$H:$H,'Proyectos'!$E$3,'Registros'!$A:$A,">="&$B$6,'Registros'!$A:$A,"<"&($B$6+7))) | E28: =IF($A28="","",SUMIFS('Registros'!$I:$I,'Registros'!$B:$B,$A28,'Registros'!$A:$A,">="&$B$6,'Registros'!$A:$A,"<"&($B$6+7)))
A29: =IF('Proyectos'!$A11="","",'Proyectos'!$A11) | B29: =IF($A29="","",'Proyectos'!$B11) | C29: =IF($A29="","",SUMIFS('Registros'!$G:$G,'Registros'!$B:$B,$A29,'Registros'!$A:$A,">="&$B$6,'Registros'!$A:$A,"<"&($B$6+7))) | D29: =IF($A29="","",SUMIFS('Registros'!$G:$G,'Registros'!$B:$B,$A29,'Registros'!$H:$H,'Proyectos'!$E$3,'Registros'!$A:$A,">="&$B$6,'Registros'!$A:$A,"<"&($B$6+7))) | E29: =IF($A29="","",SUMIFS('Registros'!$I:$I,'Registros'!$B:$B,$A29,'Registros'!$A:$A,">="&$B$6,'Registros'!$A:$A,"<"&($B$6+7)))
A30: =IF('Proyectos'!$A12="","",'Proyectos'!$A12) | B30: =IF($A30="","",'Proyectos'!$B12) | C30: =IF($A30="","",SUMIFS('Registros'!$G:$G,'Registros'!$B:$B,$A30,'Registros'!$A:$A,">="&$B$6,'Registros'!$A:$A,"<"&($B$6+7))) | D30: =IF($A30="","",SUMIFS('Registros'!$G:$G,'Registros'!$B:$B,$A30,'Registros'!$H:$H,'Proyectos'!$E$3,'Registros'!$A:$A,">="&$B$6,'Registros'!$A:$A,"<"&($B$6+7))) | E30: =IF($A30="","",SUMIFS('Registros'!$I:$I,'Registros'!$B:$B,$A30,'Registros'!$A:$A,">="&$B$6,'Registros'!$A:$A,"<"&($B$6+7)))

Sheet Registros
A1: WEEKORA · Hoja de horas | J1: sheetorial.com
A3: Registros de tiempo
A4: Una fila por bloque de trabajo. Las horas salen de inicio, fin y descanso; las filas facturables aplican la tarifa del proyecto.
A6: Registros | B6: =COUNTA($A$10:$A$200) | C6: Horas | D6: =SUM($G$10:$G$200) | E6: Importe facturable | F6: =SUM($I$10:$I$200)
A9: Fecha | B9: Proyecto | C9: Tarea | D9: Inicio | E9: Fin | F9: Descanso (min) | G9: Horas | H9: Facturable | I9: Importe | J9: Notas
A10: 46295 | B10: Brand guide | C10: Paleta de colores | D10: 0.375 | E10: 0.52083333 | F10: 0 | G10: =IF(OR($D10="",$E10=""),0,ROUND(MOD($E10-$D10,1)*24-N($F10)/60,2)) | H10: Sí | I10: =IF(OR($B10="",$H10<>'Proyectos'!$E$3),0,$G10*IFERROR(VLOOKUP($B10,'Proyectos'!$A$3:$C$12,3,FALSE),0))
A11: 46297 | B11: Interno | C11: Facturación | D11: 0.625 | E11: 0.66666667 | F11: 0 | G11: =IF(OR($D11="",$E11=""),0,ROUND(MOD($E11-$D11,1)*24-N($F11)/60,2)) | H11: No | I11: =IF(OR($B11="",$H11<>'Proyectos'!$E$3),0,$G11*IFERROR(VLOOKUP($B11,'Proyectos'!$A$3:$C$12,3,FALSE),0))
A12: 46300 | B12: Website refresh | C12: Llamada de arranque | D12: 0.375 | E12: 0.41666667 | F12: 0 | G12: =IF(OR($D12="",$E12=""),0,ROUND(MOD($E12-$D12,1)*24-N($F12)/60,2)) | H12: Sí | I12: =IF(OR($B12="",$H12<>'Proyectos'!$E$3),0,$G12*IFERROR(VLOOKUP($B12,'Proyectos'!$A$3:$C$12,3,FALSE),0))
A13: 46300 | B13: Website refresh | C13: Mapa del sitio y wireframes | D13: 0.42708333 | E13: 0.54166667 | F13: 0 | G13: =IF(OR($D13="",$E13=""),0,ROUND(MOD($E13-$D13,1)*24-N($F13)/60,2)) | H13: Sí | I13: =IF(OR($B13="",$H13<>'Proyectos'!$E$3),0,$G13*IFERROR(VLOOKUP($B13,'Proyectos'!$A$3:$C$12,3,FALSE),0))
A14: 46300 | B14: Interno | C14: Correo y gestiones | D14: 0.58333333 | E14: 0.625 | F14: 0 | G14: =IF(OR($D14="",$E14=""),0,ROUND(MOD($E14-$D14,1)*24-N($F14)/60,2)) | H14: No | I14: =IF(OR($B14="",$H14<>'Proyectos'!$E$3),0,$G14*IFERROR(VLOOKUP($B14,'Proyectos'!$A$3:$C$12,3,FALSE),0))
A15: 46301 | B15: Brand guide | C15: Página de uso del logo | D15: 0.375 | E15: 0.5 | F15: 0 | G15: =IF(OR($D15="",$E15=""),0,ROUND(MOD($E15-$D15,1)*24-N($F15)/60,2)) | H15: Sí | I15: =IF(OR($B15="",$H15<>'Proyectos'!$E$3),0,$G15*IFERROR(VLOOKUP($B15,'Proyectos'!$A$3:$C$12,3,FALSE),0))
A16: 46301 | B16: Soporte mensual | C16: Arreglo del formulario de reservas | D16: 0.54166667 | E16: 0.60416667 | F16: 0 | G16: =IF(OR($D16="",$E16=""),0,ROUND(MOD($E16-$D16,1)*24-N($F16)/60,2)) | H16: Sí | I16: =IF(OR($B16="",$H16<>'Proyectos'!$E$3),0,$G16*IFERROR(VLOOKUP($B16,'Proyectos'!$A$3:$C$12,3,FALSE),0))
A17: 46302 | B17: Website refresh | C17: Maqueta de la portada | D17: 0.375 | E17: 0.5625 | F17: 30 | G17: =IF(OR($D17="",$E17=""),0,ROUND(MOD($E17-$D17,1)*24-N($F17)/60,2)) | H17: Sí | I17: =IF(OR($B17="",$H17<>'Proyectos'!$E$3),0,$G17*IFERROR(VLOOKUP($B17,'Proyectos'!$A$3:$C$12,3,FALSE),0))
A18: 46302 | B18: Interno | C18: Reunión de equipo | D18: 0.625 | E18: 0.66666667 | F18: 0 | G18: =IF(OR($D18="",$E18=""),0,ROUND(MOD($E18-$D18,1)*24-N($F18)/60,2)) | H18: No | I18: =IF(OR($B18="",$H18<>'Proyectos'!$E$3),0,$G18*IFERROR(VLOOKUP($B18,'Proyectos'!$A$3:$C$12,3,FALSE),0))
A19: 46303 | B19: Soporte mensual | C19: Informe mensual | D19: 0.39583333 | E19: 0.45833333 | F19: 0 | G19: =IF(OR($D19="",$E19=""),0,ROUND(MOD($E19-$D19,1)*24-N($F19)/60,2)) | H19: Sí | I19: =IF(OR($B19="",$H19<>'Proyectos'!$E$3),0,$G19*IFERROR(VLOOKUP($B19,'Proyectos'!$A$3:$C$12,3,FALSE),0))
A20: 46303 | B20: Brand guide | C20: Revisión con el cliente | D20: 0.47916667 | E20: 0.52083333 | F20: 0 | G20: =IF(OR($D20="",$E20=""),0,ROUND(MOD($E20-$D20,1)*24-N($F20)/60,2)) | H20: Sí | I20: =IF(OR($B20="",$H20<>'Proyectos'!$E$3),0,$G20*IFERROR(VLOOKUP($B20,'Proyectos'!$A$3:$C$12,3,FALSE),0)) | J20: Cambios acordados
A21: 46303 | B21: Website refresh | C21: Página de contacto | D21: 0.5625 | E21: 0.70833333 | F21: 15 | G21: =IF(OR($D21="",$E21=""),0,ROUND(MOD($E21-$D21,1)*24-N($F21)/60,2)) | H21: Sí | I21: =IF(OR($B21="",$H21<>'Proyectos'!$E$3),0,$G21*IFERROR(VLOOKUP($B21,'Proyectos'!$A$3:$C$12,3,FALSE),0))
A22: 46304 | B22: Website refresh | C22: Primera ronda de cambios | D22: 0.375 | E22: 0.5 | F22: 0 | G22: =IF(OR($D22="",$E22=""),0,ROUND(MOD($E22-$D22,1)*24-N($F22)/60,2)) | H22: Sí | I22: =IF(OR($B22="",$H22<>'Proyectos'!$E$3),0,$G22*IFERROR(VLOOKUP($B22,'Proyectos'!$A$3:$C$12,3,FALSE),0))
A23: 46304 | B23: Interno | C23: Actualizar el portafolio | D23: 0.54166667 | E23: 0.625 | F23: 0 | G23: =IF(OR($D23="",$E23=""),0,ROUND(MOD($E23-$D23,1)*24-N($F23)/60,2)) | H23: No | I23: =IF(OR($B23="",$H23<>'Proyectos'!$E$3),0,$G23*IFERROR(VLOOKUP($B23,'Proyectos'!$A$3:$C$12,3,FALSE),0))
G24: =IF(OR($D24="",$E24=""),0,ROUND(MOD($E24-$D24,1)*24-N($F24)/60,2)) | I24: =IF(OR($B24="",$H24<>'Proyectos'!$E$3),0,$G24*IFERROR(VLOOKUP($B24,'Proyectos'!$A$3:$C$12,3,FALSE),0))
G25: =IF(OR($D25="",$E25=""),0,ROUND(MOD($E25-$D25,1)*24-N($F25)/60,2)) | I25: =IF(OR($B25="",$H25<>'Proyectos'!$E$3),0,$G25*IFERROR(VLOOKUP($B25,'Proyectos'!$A$3:$C$12,3,FALSE),0))
G26: =IF(OR($D26="",$E26=""),0,ROUND(MOD($E26-$D26,1)*24-N($F26)/60,2)) | I26: =IF(OR($B26="",$H26<>'Proyectos'!$E$3),0,$G26*IFERROR(VLOOKUP($B26,'Proyectos'!$A$3:$C$12,3,FALSE),0))
G27: =IF(OR($D27="",$E27=""),0,ROUND(MOD($E27-$D27,1)*24-N($F27)/60,2)) | I27: =IF(OR($B27="",$H27<>'Proyectos'!$E$3),0,$G27*IFERROR(VLOOKUP($B27,'Proyectos'!$A$3:$C$12,3,FALSE),0))
G28: =IF(OR($D28="",$E28=""),0,ROUND(MOD($E28-$D28,1)*24-N($F28)/60,2)) | I28: =IF(OR($B28="",$H28<>'Proyectos'!$E$3),0,$G28*IFERROR(VLOOKUP($B28,'Proyectos'!$A$3:$C$12,3,FALSE),0))
G29: =IF(OR($D29="",$E29=""),0,ROUND(MOD($E29-$D29,1)*24-N($F29)/60,2)) | I29: =IF(OR($B29="",$H29<>'Proyectos'!$E$3),0,$G29*IFERROR(VLOOKUP($B29,'Proyectos'!$A$3:$C$12,3,FALSE),0))
G30: =IF(OR($D30="",$E30=""),0,ROUND(MOD($E30-$D30,1)*24-N($F30)/60,2)) | I30: =IF(OR($B30="",$H30<>'Proyectos'!$E$3),0,$G30*IFERROR(VLOOKUP($B30,'Proyectos'!$A$3:$C$12,3,FALSE),0))
G31: =IF(OR($D31="",$E31=""),0,ROUND(MOD($E31-$D31,1)*24-N($F31)/60,2)) | I31: =IF(OR($B31="",$H31<>'Proyectos'!$E$3),0,$G31*IFERROR(VLOOKUP($B31,'Proyectos'!$A$3:$C$12,3,FALSE),0))
G32: =IF(OR($D32="",$E32=""),0,ROUND(MOD($E32-$D32,1)*24-N($F32)/60,2)) | I32: =IF(OR($B32="",$H32<>'Proyectos'!$E$3),0,$G32*IFERROR(VLOOKUP($B32,'Proyectos'!$A$3:$C$12,3,FALSE),0))
G33: =IF(OR($D33="",$E33=""),0,ROUND(MOD($E33-$D33,1)*24-N($F33)/60,2)) | I33: =IF(OR($B33="",$H33<>'Proyectos'!$E$3),0,$G33*IFERROR(VLOOKUP($B33,'Proyectos'!$A$3:$C$12,3,FALSE),0))
G34: =IF(OR($D34="",$E34=""),0,ROUND(MOD($E34-$D34,1)*24-N($F34)/60,2)) | I34: =IF(OR($B34="",$H34<>'Proyectos'!$E$3),0,$G34*IFERROR(VLOOKUP($B34,'Proyectos'!$A$3:$C$12,3,FALSE),0))
G35: =IF(OR($D35="",$E35=""),0,ROUND(MOD($E35-$D35,1)*24-N($F35)/60,2)) | I35: =IF(OR($B35="",$H35<>'Proyectos'!$E$3),0,$G35*IFERROR(VLOOKUP($B35,'Proyectos'!$A$3:$C$12,3,FALSE),0))
... G200: =IF(OR($D200="",$E200=""),0,ROUND(MOD($E200-$D200,1)*24-N($F200)/60,2)) | I200: =IF(OR($B200="",$H200<>'Proyectos'!$E$3),0,$G200*IFERROR(VLOOKUP($B200,'Proyectos'!$A$3:$C$12,3,FALSE),0))

Sheet Proyectos
A1: WEEKORA · Hoja de horas | E1: sheetorial.com
A2: Proyecto | B2: Cliente | C2: Tarifa por hora | E2: Facturable
A3: Website refresh | B3: Harbor Foods | C3: 85 | E3: Sí
A4: Brand guide | B4: Pine & Co | C4: 75 | E4: No
A5: Soporte mensual | B5: Oakridge Clinic | C5: 60
A6: Interno | B6: — | C6: 0
A14: Añade aquí tus proyectos y tarifas: el desplegable de Proyecto y la pestaña Semana siguen esta lista.
