Workbook

Sheet Présence
A1: ATTENDIX · Suivi de présence | AO1: sheetorial.com
A3: Présence mensuelle
A4: Choisissez un code dans la liste pour chaque jour travaillé. Totaux et taux de présence se calculent.
A6: Mois | B6: 46266 | D6: Employés | H6: =COUNTA($A$10:$A$25) | J6: Jours d’absence | O6: =SUM($AL$10:$AL$25) | Q6: Présence de l’équipe | W6: =IFERROR((SUM($AH$10:$AJ$25)+0.5*SUM($AK$10:$AK$25))/SUM($AH$10:$AM$25),0)
C8: =IF(C$9="","",TEXT(C$9,"[$-40C]ddd")) | D8: =IF(D$9="","",TEXT(D$9,"[$-40C]ddd")) | E8: =IF(E$9="","",TEXT(E$9,"[$-40C]ddd")) | F8: =IF(F$9="","",TEXT(F$9,"[$-40C]ddd")) | G8: =IF(G$9="","",TEXT(G$9,"[$-40C]ddd")) | H8: =IF(H$9="","",TEXT(H$9,"[$-40C]ddd")) | I8: =IF(I$9="","",TEXT(I$9,"[$-40C]ddd")) | J8: =IF(J$9="","",TEXT(J$9,"[$-40C]ddd")) | ... AG8: =IF(AG$9="","",TEXT(AG$9,"[$-40C]ddd"))
A9: Employé | B9: Service | C9: =IF(MONTH(DATE(YEAR($B$6),MONTH($B$6),1))=MONTH($B$6),DATE(YEAR($B$6),MONTH($B$6),1),"") | D9: =IF(MONTH(DATE(YEAR($B$6),MONTH($B$6),2))=MONTH($B$6),DATE(YEAR($B$6),MONTH($B$6),2),"") | E9: =IF(MONTH(DATE(YEAR($B$6),MONTH($B$6),3))=MONTH($B$6),DATE(YEAR($B$6),MONTH($B$6),3),"") | F9: =IF(MONTH(DATE(YEAR($B$6),MONTH($B$6),4))=MONTH($B$6),DATE(YEAR($B$6),MONTH($B$6),4),"") | G9: =IF(MONTH(DATE(YEAR($B$6),MONTH($B$6),5))=MONTH($B$6),DATE(YEAR($B$6),MONTH($B$6),5),"") | H9: =IF(MONTH(DATE(YEAR($B$6),MONTH($B$6),6))=MONTH($B$6),DATE(YEAR($B$6),MONTH($B$6),6),"") | I9: =IF(MONTH(DATE(YEAR($B$6),MONTH($B$6),7))=MONTH($B$6),DATE(YEAR($B$6),MONTH($B$6),7),"") | J9: =IF(MONTH(DATE(YEAR($B$6),MONTH($B$6),8))=MONTH($B$6),DATE(YEAR($B$6),MONTH($B$6),8),"") | K9: =IF(MONTH(DATE(YEAR($B$6),MONTH($B$6),9))=MONTH($B$6),DATE(YEAR($B$6),MONTH($B$6),9),"") | L9: =IF(MONTH(DATE(YEAR($B$6),MONTH($B$6),10))=MONTH($B$6),DATE(YEAR($B$6),MONTH($B$6),10),"") | M9: =IF(MONTH(DATE(YEAR($B$6),MONTH($B$6),11))=MONTH($B$6),DATE(YEAR($B$6),MONTH($B$6),11),"") | N9: =IF(MONTH(DATE(YEAR($B$6),MONTH($B$6),12))=MONTH($B$6),DATE(YEAR($B$6),MONTH($B$6),12),"") | O9: =IF(MONTH(DATE(YEAR($B$6),MONTH($B$6),13))=MONTH($B$6),DATE(YEAR($B$6),MONTH($B$6),13),"") | P9: =IF(MONTH(DATE(YEAR($B$6),MONTH($B$6),14))=MONTH($B$6),DATE(YEAR($B$6),MONTH($B$6),14),"") | Q9: =IF(MONTH(DATE(YEAR($B$6),MONTH($B$6),15))=MONTH($B$6),DATE(YEAR($B$6),MONTH($B$6),15),"") | R9: =IF(MONTH(DATE(YEAR($B$6),MONTH($B$6),16))=MONTH($B$6),DATE(YEAR($B$6),MONTH($B$6),16),"") | S9: =IF(MONTH(DATE(YEAR($B$6),MONTH($B$6),17))=MONTH($B$6),DATE(YEAR($B$6),MONTH($B$6),17),"") | T9: =IF(MONTH(DATE(YEAR($B$6),MONTH($B$6),18))=MONTH($B$6),DATE(YEAR($B$6),MONTH($B$6),18),"") | U9: =IF(MONTH(DATE(YEAR($B$6),MONTH($B$6),19))=MONTH($B$6),DATE(YEAR($B$6),MONTH($B$6),19),"") | V9: =IF(MONTH(DATE(YEAR($B$6),MONTH($B$6),20))=MONTH($B$6),DATE(YEAR($B$6),MONTH($B$6),20),"") | W9: =IF(MONTH(DATE(YEAR($B$6),MONTH($B$6),21))=MONTH($B$6),DATE(YEAR($B$6),MONTH($B$6),21),"") | X9: =IF(MONTH(DATE(YEAR($B$6),MONTH($B$6),22))=MONTH($B$6),DATE(YEAR($B$6),MONTH($B$6),22),"") | Y9: =IF(MONTH(DATE(YEAR($B$6),MONTH($B$6),23))=MONTH($B$6),DATE(YEAR($B$6),MONTH($B$6),23),"") | Z9: =IF(MONTH(DATE(YEAR($B$6),MONTH($B$6),24))=MONTH($B$6),DATE(YEAR($B$6),MONTH($B$6),24),"") | AA9: =IF(MONTH(DATE(YEAR($B$6),MONTH($B$6),25))=MONTH($B$6),DATE(YEAR($B$6),MONTH($B$6),25),"") | AB9: =IF(MONTH(DATE(YEAR($B$6),MONTH($B$6),26))=MONTH($B$6),DATE(YEAR($B$6),MONTH($B$6),26),"") | AC9: =IF(MONTH(DATE(YEAR($B$6),MONTH($B$6),27))=MONTH($B$6),DATE(YEAR($B$6),MONTH($B$6),27),"") | AD9: =IF(MONTH(DATE(YEAR($B$6),MONTH($B$6),28))=MONTH($B$6),DATE(YEAR($B$6),MONTH($B$6),28),"") | AE9: =IF(MONTH(DATE(YEAR($B$6),MONTH($B$6),29))=MONTH($B$6),DATE(YEAR($B$6),MONTH($B$6),29),"") | AF9: =IF(MONTH(DATE(YEAR($B$6),MONTH($B$6),30))=MONTH($B$6),DATE(YEAR($B$6),MONTH($B$6),30),"") | AG9: =IF(MONTH(DATE(YEAR($B$6),MONTH($B$6),31))=MONTH($B$6),DATE(YEAR($B$6),MONTH($B$6),31),"") | AH9: Présent | AI9: Télétravail | AJ9: Retard | AK9: Demi-journée | AL9: Absent | AM9: Maladie | AN9: Congés | AO9: % présence
A10: Dana Reed | B10: Design | C10: P | D10: P | E10: P | F10: P | I10: T | J10: P | K10: P | L10: P | M10: P | P10: T | Q10: P | R10: P | S10: P | T10: P | W10: T | X10: P | Y10: P | Z10: P | AA10: P | AD10: T | AE10: P | AF10: P | AH10: =IF($A10="","",COUNTIF($C10:$AG10,'Codes'!$A$3)) | AI10: =IF($A10="","",COUNTIF($C10:$AG10,'Codes'!$A$4)) | AJ10: =IF($A10="","",COUNTIF($C10:$AG10,'Codes'!$A$5)) | AK10: =IF($A10="","",COUNTIF($C10:$AG10,'Codes'!$A$6)) | AL10: =IF($A10="","",COUNTIF($C10:$AG10,'Codes'!$A$7)) | AM10: =IF($A10="","",COUNTIF($C10:$AG10,'Codes'!$A$8)) | AN10: =IF($A10="","",COUNTIF($C10:$AG10,'Codes'!$A$9)) | AO10: =IF($A10="","",IFERROR((AH10+AI10+AJ10+0.5*AK10)/(AH10+AI10+AJ10+AK10+AL10+AM10),""))
A11: Lee Park | B11: Ingénierie | C11: P | D11: P | E11: P | F11: P | I11: P | J11: P | K11: M | L11: M | M11: P | P11: P | Q11: P | R11: P | S11: P | T11: P | W11: P | X11: P | Y11: R | Z11: P | AA11: P | AD11: P | AE11: P | AF11: P | AH11: =IF($A11="","",COUNTIF($C11:$AG11,'Codes'!$A$3)) | AI11: =IF($A11="","",COUNTIF($C11:$AG11,'Codes'!$A$4)) | AJ11: =IF($A11="","",COUNTIF($C11:$AG11,'Codes'!$A$5)) | AK11: =IF($A11="","",COUNTIF($C11:$AG11,'Codes'!$A$6)) | AL11: =IF($A11="","",COUNTIF($C11:$AG11,'Codes'!$A$7)) | AM11: =IF($A11="","",COUNTIF($C11:$AG11,'Codes'!$A$8)) | AN11: =IF($A11="","",COUNTIF($C11:$AG11,'Codes'!$A$9)) | AO11: =IF($A11="","",IFERROR((AH11+AI11+AJ11+0.5*AK11)/(AH11+AI11+AJ11+AK11+AL11+AM11),""))
A12: Sam Ortiz | B12: Ingénierie | C12: P | D12: P | E12: P | F12: P | I12: P | J12: P | K12: P | L12: P | M12: P | P12: P | Q12: P | R12: T | S12: T | T12: P | W12: P | X12: P | Y12: P | Z12: P | AA12: P | AD12: P | AE12: P | AF12: P | AH12: =IF($A12="","",COUNTIF($C12:$AG12,'Codes'!$A$3)) | AI12: =IF($A12="","",COUNTIF($C12:$AG12,'Codes'!$A$4)) | AJ12: =IF($A12="","",COUNTIF($C12:$AG12,'Codes'!$A$5)) | AK12: =IF($A12="","",COUNTIF($C12:$AG12,'Codes'!$A$6)) | AL12: =IF($A12="","",COUNTIF($C12:$AG12,'Codes'!$A$7)) | AM12: =IF($A12="","",COUNTIF($C12:$AG12,'Codes'!$A$8)) | AN12: =IF($A12="","",COUNTIF($C12:$AG12,'Codes'!$A$9)) | AO12: =IF($A12="","",IFERROR((AH12+AI12+AJ12+0.5*AK12)/(AH12+AI12+AJ12+AK12+AL12+AM12),""))
A13: Alex Kim | B13: Marketing | C13: P | D13: P | E13: P | F13: P | I13: P | J13: P | K13: P | L13: P | M13: P | P13: P | Q13: P | R13: P | S13: P | T13: P | W13: C | X13: C | Y13: C | Z13: C | AA13: C | AD13: P | AE13: P | AF13: P | AH13: =IF($A13="","",COUNTIF($C13:$AG13,'Codes'!$A$3)) | AI13: =IF($A13="","",COUNTIF($C13:$AG13,'Codes'!$A$4)) | AJ13: =IF($A13="","",COUNTIF($C13:$AG13,'Codes'!$A$5)) | AK13: =IF($A13="","",COUNTIF($C13:$AG13,'Codes'!$A$6)) | AL13: =IF($A13="","",COUNTIF($C13:$AG13,'Codes'!$A$7)) | AM13: =IF($A13="","",COUNTIF($C13:$AG13,'Codes'!$A$8)) | AN13: =IF($A13="","",COUNTIF($C13:$AG13,'Codes'!$A$9)) | AO13: =IF($A13="","",IFERROR((AH13+AI13+AJ13+0.5*AK13)/(AH13+AI13+AJ13+AK13+AL13+AM13),""))
A14: Robin Vale | B14: Support | C14: P | D14: P | E14: R | F14: P | I14: P | J14: P | K14: P | L14: P | M14: P | P14: P | Q14: D | R14: P | S14: P | T14: P | W14: P | X14: P | Y14: P | Z14: P | AA14: P | AD14: P | AE14: R | AF14: P | AH14: =IF($A14="","",COUNTIF($C14:$AG14,'Codes'!$A$3)) | AI14: =IF($A14="","",COUNTIF($C14:$AG14,'Codes'!$A$4)) | AJ14: =IF($A14="","",COUNTIF($C14:$AG14,'Codes'!$A$5)) | AK14: =IF($A14="","",COUNTIF($C14:$AG14,'Codes'!$A$6)) | AL14: =IF($A14="","",COUNTIF($C14:$AG14,'Codes'!$A$7)) | AM14: =IF($A14="","",COUNTIF($C14:$AG14,'Codes'!$A$8)) | AN14: =IF($A14="","",COUNTIF($C14:$AG14,'Codes'!$A$9)) | AO14: =IF($A14="","",IFERROR((AH14+AI14+AJ14+0.5*AK14)/(AH14+AI14+AJ14+AK14+AL14+AM14),""))
A15: Maya Lane | B15: Design | C15: P | D15: P | E15: P | F15: P | I15: P | J15: P | K15: P | L15: P | M15: A | P15: P | Q15: P | R15: P | S15: P | T15: P | W15: P | X15: P | Y15: P | Z15: P | AA15: P | AD15: P | AE15: P | AF15: T | AH15: =IF($A15="","",COUNTIF($C15:$AG15,'Codes'!$A$3)) | AI15: =IF($A15="","",COUNTIF($C15:$AG15,'Codes'!$A$4)) | AJ15: =IF($A15="","",COUNTIF($C15:$AG15,'Codes'!$A$5)) | AK15: =IF($A15="","",COUNTIF($C15:$AG15,'Codes'!$A$6)) | AL15: =IF($A15="","",COUNTIF($C15:$AG15,'Codes'!$A$7)) | AM15: =IF($A15="","",COUNTIF($C15:$AG15,'Codes'!$A$8)) | AN15: =IF($A15="","",COUNTIF($C15:$AG15,'Codes'!$A$9)) | AO15: =IF($A15="","",IFERROR((AH15+AI15+AJ15+0.5*AK15)/(AH15+AI15+AJ15+AK15+AL15+AM15),""))
A16: Jordan Price | B16: Opérations | C16: P | D16: P | E16: P | F16: P | I16: P | J16: R | K16: P | L16: P | M16: P | P16: P | Q16: P | R16: P | S16: P | T16: M | W16: P | X16: P | Y16: P | Z16: P | AA16: P | AD16: P | AE16: P | AF16: P | AH16: =IF($A16="","",COUNTIF($C16:$AG16,'Codes'!$A$3)) | AI16: =IF($A16="","",COUNTIF($C16:$AG16,'Codes'!$A$4)) | AJ16: =IF($A16="","",COUNTIF($C16:$AG16,'Codes'!$A$5)) | AK16: =IF($A16="","",COUNTIF($C16:$AG16,'Codes'!$A$6)) | AL16: =IF($A16="","",COUNTIF($C16:$AG16,'Codes'!$A$7)) | AM16: =IF($A16="","",COUNTIF($C16:$AG16,'Codes'!$A$8)) | AN16: =IF($A16="","",COUNTIF($C16:$AG16,'Codes'!$A$9)) | AO16: =IF($A16="","",IFERROR((AH16+AI16+AJ16+0.5*AK16)/(AH16+AI16+AJ16+AK16+AL16+AM16),""))
A17: Chris Doyle | B17: Opérations | C17: D | D17: A | E17: P | F17: P | I17: P | J17: P | K17: P | L17: P | M17: P | P17: P | Q17: P | R17: P | S17: P | T17: P | W17: P | X17: P | Y17: P | Z17: R | AA17: P | AD17: P | AE17: P | AF17: P | AH17: =IF($A17="","",COUNTIF($C17:$AG17,'Codes'!$A$3)) | AI17: =IF($A17="","",COUNTIF($C17:$AG17,'Codes'!$A$4)) | AJ17: =IF($A17="","",COUNTIF($C17:$AG17,'Codes'!$A$5)) | AK17: =IF($A17="","",COUNTIF($C17:$AG17,'Codes'!$A$6)) | AL17: =IF($A17="","",COUNTIF($C17:$AG17,'Codes'!$A$7)) | AM17: =IF($A17="","",COUNTIF($C17:$AG17,'Codes'!$A$8)) | AN17: =IF($A17="","",COUNTIF($C17:$AG17,'Codes'!$A$9)) | AO17: =IF($A17="","",IFERROR((AH17+AI17+AJ17+0.5*AK17)/(AH17+AI17+AJ17+AK17+AL17+AM17),""))
AH18: =IF($A18="","",COUNTIF($C18:$AG18,'Codes'!$A$3)) | AI18: =IF($A18="","",COUNTIF($C18:$AG18,'Codes'!$A$4)) | AJ18: =IF($A18="","",COUNTIF($C18:$AG18,'Codes'!$A$5)) | AK18: =IF($A18="","",COUNTIF($C18:$AG18,'Codes'!$A$6)) | AL18: =IF($A18="","",COUNTIF($C18:$AG18,'Codes'!$A$7)) | AM18: =IF($A18="","",COUNTIF($C18:$AG18,'Codes'!$A$8)) | AN18: =IF($A18="","",COUNTIF($C18:$AG18,'Codes'!$A$9)) | AO18: =IF($A18="","",IFERROR((AH18+AI18+AJ18+0.5*AK18)/(AH18+AI18+AJ18+AK18+AL18+AM18),""))
AH19: =IF($A19="","",COUNTIF($C19:$AG19,'Codes'!$A$3)) | AI19: =IF($A19="","",COUNTIF($C19:$AG19,'Codes'!$A$4)) | AJ19: =IF($A19="","",COUNTIF($C19:$AG19,'Codes'!$A$5)) | AK19: =IF($A19="","",COUNTIF($C19:$AG19,'Codes'!$A$6)) | AL19: =IF($A19="","",COUNTIF($C19:$AG19,'Codes'!$A$7)) | AM19: =IF($A19="","",COUNTIF($C19:$AG19,'Codes'!$A$8)) | AN19: =IF($A19="","",COUNTIF($C19:$AG19,'Codes'!$A$9)) | AO19: =IF($A19="","",IFERROR((AH19+AI19+AJ19+0.5*AK19)/(AH19+AI19+AJ19+AK19+AL19+AM19),""))
AH20: =IF($A20="","",COUNTIF($C20:$AG20,'Codes'!$A$3)) | AI20: =IF($A20="","",COUNTIF($C20:$AG20,'Codes'!$A$4)) | AJ20: =IF($A20="","",COUNTIF($C20:$AG20,'Codes'!$A$5)) | AK20: =IF($A20="","",COUNTIF($C20:$AG20,'Codes'!$A$6)) | AL20: =IF($A20="","",COUNTIF($C20:$AG20,'Codes'!$A$7)) | AM20: =IF($A20="","",COUNTIF($C20:$AG20,'Codes'!$A$8)) | AN20: =IF($A20="","",COUNTIF($C20:$AG20,'Codes'!$A$9)) | AO20: =IF($A20="","",IFERROR((AH20+AI20+AJ20+0.5*AK20)/(AH20+AI20+AJ20+AK20+AL20+AM20),""))
AH21: =IF($A21="","",COUNTIF($C21:$AG21,'Codes'!$A$3)) | AI21: =IF($A21="","",COUNTIF($C21:$AG21,'Codes'!$A$4)) | AJ21: =IF($A21="","",COUNTIF($C21:$AG21,'Codes'!$A$5)) | AK21: =IF($A21="","",COUNTIF($C21:$AG21,'Codes'!$A$6)) | AL21: =IF($A21="","",COUNTIF($C21:$AG21,'Codes'!$A$7)) | AM21: =IF($A21="","",COUNTIF($C21:$AG21,'Codes'!$A$8)) | AN21: =IF($A21="","",COUNTIF($C21:$AG21,'Codes'!$A$9)) | AO21: =IF($A21="","",IFERROR((AH21+AI21+AJ21+0.5*AK21)/(AH21+AI21+AJ21+AK21+AL21+AM21),""))
AH22: =IF($A22="","",COUNTIF($C22:$AG22,'Codes'!$A$3)) | AI22: =IF($A22="","",COUNTIF($C22:$AG22,'Codes'!$A$4)) | AJ22: =IF($A22="","",COUNTIF($C22:$AG22,'Codes'!$A$5)) | AK22: =IF($A22="","",COUNTIF($C22:$AG22,'Codes'!$A$6)) | AL22: =IF($A22="","",COUNTIF($C22:$AG22,'Codes'!$A$7)) | AM22: =IF($A22="","",COUNTIF($C22:$AG22,'Codes'!$A$8)) | AN22: =IF($A22="","",COUNTIF($C22:$AG22,'Codes'!$A$9)) | AO22: =IF($A22="","",IFERROR((AH22+AI22+AJ22+0.5*AK22)/(AH22+AI22+AJ22+AK22+AL22+AM22),""))
AH23: =IF($A23="","",COUNTIF($C23:$AG23,'Codes'!$A$3)) | AI23: =IF($A23="","",COUNTIF($C23:$AG23,'Codes'!$A$4)) | AJ23: =IF($A23="","",COUNTIF($C23:$AG23,'Codes'!$A$5)) | AK23: =IF($A23="","",COUNTIF($C23:$AG23,'Codes'!$A$6)) | AL23: =IF($A23="","",COUNTIF($C23:$AG23,'Codes'!$A$7)) | AM23: =IF($A23="","",COUNTIF($C23:$AG23,'Codes'!$A$8)) | AN23: =IF($A23="","",COUNTIF($C23:$AG23,'Codes'!$A$9)) | AO23: =IF($A23="","",IFERROR((AH23+AI23+AJ23+0.5*AK23)/(AH23+AI23+AJ23+AK23+AL23+AM23),""))
AH24: =IF($A24="","",COUNTIF($C24:$AG24,'Codes'!$A$3)) | AI24: =IF($A24="","",COUNTIF($C24:$AG24,'Codes'!$A$4)) | AJ24: =IF($A24="","",COUNTIF($C24:$AG24,'Codes'!$A$5)) | AK24: =IF($A24="","",COUNTIF($C24:$AG24,'Codes'!$A$6)) | AL24: =IF($A24="","",COUNTIF($C24:$AG24,'Codes'!$A$7)) | AM24: =IF($A24="","",COUNTIF($C24:$AG24,'Codes'!$A$8)) | AN24: =IF($A24="","",COUNTIF($C24:$AG24,'Codes'!$A$9)) | AO24: =IF($A24="","",IFERROR((AH24+AI24+AJ24+0.5*AK24)/(AH24+AI24+AJ24+AK24+AL24+AM24),""))
AH25: =IF($A25="","",COUNTIF($C25:$AG25,'Codes'!$A$3)) | AI25: =IF($A25="","",COUNTIF($C25:$AG25,'Codes'!$A$4)) | AJ25: =IF($A25="","",COUNTIF($C25:$AG25,'Codes'!$A$5)) | AK25: =IF($A25="","",COUNTIF($C25:$AG25,'Codes'!$A$6)) | AL25: =IF($A25="","",COUNTIF($C25:$AG25,'Codes'!$A$7)) | AM25: =IF($A25="","",COUNTIF($C25:$AG25,'Codes'!$A$8)) | AN25: =IF($A25="","",COUNTIF($C25:$AG25,'Codes'!$A$9)) | AO25: =IF($A25="","",IFERROR((AH25+AI25+AJ25+0.5*AK25)/(AH25+AI25+AJ25+AK25+AL25+AM25),""))

Sheet Codes
A1: ATTENDIX · Suivi de présence | D1: sheetorial.com
A2: Code | B2: Signification | C2: Compte comme présent
A3: P | B3: Présent | C3: Oui
A4: T | B4: Télétravail | C4: Oui
A5: R | B5: Retard | C5: Oui
A6: D | B6: Demi-journée | C6: Demi
A7: A | B7: Absent | C7: Non
A8: M | B8: Maladie | C8: Non
A9: C | B9: Congés | C9: Non compté
A11: Renommez les codes ou leur sens selon votre équipe : la liste de la grille et les totaux suivent cet onglet.
