Workbook

Sheet Hypothèses
A1: FORECIX · Prévision des ventes | F1: sheetorial.com
A3: Hypothèses de prévision
A4: Unités de départ, prix et croissance mensuelle par produit. Prévision construit 12 mois à partir d'ici.
A6: Premier mois | B6: 46388 | C6: Hausse de prix annuelle | D6: 0.03
A9: Produit | B9: Unités mois 1 | C9: Prix unitaire | D9: Croissance mensuelle | E9: Unités année 1 | F9: CA année 1
A10: Formule Essentiel | B10: 120 | C10: 19 | D10: 0.03 | E10: =IF($A10="","",'Prévision'!$O$11) | F10: =IF($A10="","",'Prévision'!$O$12)
A11: Formule Pro | B11: 45 | C11: 49 | D11: 0.04 | E11: =IF($A11="","",'Prévision'!$O$13) | F11: =IF($A11="","",'Prévision'!$O$14)
A12: Formule Équipe | B12: 12 | C12: 149 | D12: 0.05 | E12: =IF($A12="","",'Prévision'!$O$15) | F12: =IF($A12="","",'Prévision'!$O$16)
A13: Service de démarrage | B13: 8 | C13: 300 | D13: 0.02 | E13: =IF($A13="","",'Prévision'!$O$17) | F13: =IF($A13="","",'Prévision'!$O$18)
A14: Stockage supplémentaire | B14: 60 | C14: 5 | D14: 0.03 | E14: =IF($A14="","",'Prévision'!$O$19) | F14: =IF($A14="","",'Prévision'!$O$20)
E15: =IF($A15="","",'Prévision'!$O$21) | F15: =IF($A15="","",'Prévision'!$O$22)
E16: =IF($A16="","",'Prévision'!$O$23) | F16: =IF($A16="","",'Prévision'!$O$24)
E17: =IF($A17="","",'Prévision'!$O$25) | F17: =IF($A17="","",'Prévision'!$O$26)
A19: Une croissance supérieure à 10 % par mois est grisée, vérifie qu'elle colle à ton historique.

Sheet Prévision
A1: FORECIX · Prévision des ventes | O1: sheetorial.com
A3: Prévision des ventes sur 12 mois
A4: Les unités croissent au taux mensuel, CA = unités x prix. Rien à saisir ici.
A6: CA prévu | B6: =SUM($O$27)
A9: Produit | B9: Ligne | C9: M1 | D9: M2 | E9: M3 | F9: M4 | G9: M5 | H9: M6 | I9: M7 | J9: M8 | K9: M9 | L9: M10 | M9: M11 | N9: M12 | O9: Total
A10: Mois | C10: =DATE(YEAR('Hypothèses'!$B$6),MONTH('Hypothèses'!$B$6)+0,1) | D10: =DATE(YEAR('Hypothèses'!$B$6),MONTH('Hypothèses'!$B$6)+1,1) | E10: =DATE(YEAR('Hypothèses'!$B$6),MONTH('Hypothèses'!$B$6)+2,1) | F10: =DATE(YEAR('Hypothèses'!$B$6),MONTH('Hypothèses'!$B$6)+3,1) | G10: =DATE(YEAR('Hypothèses'!$B$6),MONTH('Hypothèses'!$B$6)+4,1) | H10: =DATE(YEAR('Hypothèses'!$B$6),MONTH('Hypothèses'!$B$6)+5,1) | I10: =DATE(YEAR('Hypothèses'!$B$6),MONTH('Hypothèses'!$B$6)+6,1) | J10: =DATE(YEAR('Hypothèses'!$B$6),MONTH('Hypothèses'!$B$6)+7,1) | K10: =DATE(YEAR('Hypothèses'!$B$6),MONTH('Hypothèses'!$B$6)+8,1) | L10: =DATE(YEAR('Hypothèses'!$B$6),MONTH('Hypothèses'!$B$6)+9,1) | M10: =DATE(YEAR('Hypothèses'!$B$6),MONTH('Hypothèses'!$B$6)+10,1) | N10: =DATE(YEAR('Hypothèses'!$B$6),MONTH('Hypothèses'!$B$6)+11,1)
A11: =IF('Hypothèses'!$A10="","",'Hypothèses'!$A10) | B11: Unités | C11: =IF('Hypothèses'!$A10="","",ROUND('Hypothèses'!$B10*(1+'Hypothèses'!$D10)^0,0)) | D11: =IF('Hypothèses'!$A10="","",ROUND('Hypothèses'!$B10*(1+'Hypothèses'!$D10)^1,0)) | E11: =IF('Hypothèses'!$A10="","",ROUND('Hypothèses'!$B10*(1+'Hypothèses'!$D10)^2,0)) | F11: =IF('Hypothèses'!$A10="","",ROUND('Hypothèses'!$B10*(1+'Hypothèses'!$D10)^3,0)) | G11: =IF('Hypothèses'!$A10="","",ROUND('Hypothèses'!$B10*(1+'Hypothèses'!$D10)^4,0)) | H11: =IF('Hypothèses'!$A10="","",ROUND('Hypothèses'!$B10*(1+'Hypothèses'!$D10)^5,0)) | I11: =IF('Hypothèses'!$A10="","",ROUND('Hypothèses'!$B10*(1+'Hypothèses'!$D10)^6,0)) | J11: =IF('Hypothèses'!$A10="","",ROUND('Hypothèses'!$B10*(1+'Hypothèses'!$D10)^7,0)) | K11: =IF('Hypothèses'!$A10="","",ROUND('Hypothèses'!$B10*(1+'Hypothèses'!$D10)^8,0)) | L11: =IF('Hypothèses'!$A10="","",ROUND('Hypothèses'!$B10*(1+'Hypothèses'!$D10)^9,0)) | M11: =IF('Hypothèses'!$A10="","",ROUND('Hypothèses'!$B10*(1+'Hypothèses'!$D10)^10,0)) | N11: =IF('Hypothèses'!$A10="","",ROUND('Hypothèses'!$B10*(1+'Hypothèses'!$D10)^11,0)) | O11: =IF('Hypothèses'!$A10="","",SUM($C11:$N11))
B12: CA | C12: =IF('Hypothèses'!$A10="","",C11*'Hypothèses'!$C10*(1+'Hypothèses'!$D$6)^INT(0/12)) | D12: =IF('Hypothèses'!$A10="","",D11*'Hypothèses'!$C10*(1+'Hypothèses'!$D$6)^INT(1/12)) | E12: =IF('Hypothèses'!$A10="","",E11*'Hypothèses'!$C10*(1+'Hypothèses'!$D$6)^INT(2/12)) | F12: =IF('Hypothèses'!$A10="","",F11*'Hypothèses'!$C10*(1+'Hypothèses'!$D$6)^INT(3/12)) | G12: =IF('Hypothèses'!$A10="","",G11*'Hypothèses'!$C10*(1+'Hypothèses'!$D$6)^INT(4/12)) | H12: =IF('Hypothèses'!$A10="","",H11*'Hypothèses'!$C10*(1+'Hypothèses'!$D$6)^INT(5/12)) | I12: =IF('Hypothèses'!$A10="","",I11*'Hypothèses'!$C10*(1+'Hypothèses'!$D$6)^INT(6/12)) | J12: =IF('Hypothèses'!$A10="","",J11*'Hypothèses'!$C10*(1+'Hypothèses'!$D$6)^INT(7/12)) | K12: =IF('Hypothèses'!$A10="","",K11*'Hypothèses'!$C10*(1+'Hypothèses'!$D$6)^INT(8/12)) | L12: =IF('Hypothèses'!$A10="","",L11*'Hypothèses'!$C10*(1+'Hypothèses'!$D$6)^INT(9/12)) | M12: =IF('Hypothèses'!$A10="","",M11*'Hypothèses'!$C10*(1+'Hypothèses'!$D$6)^INT(10/12)) | N12: =IF('Hypothèses'!$A10="","",N11*'Hypothèses'!$C10*(1+'Hypothèses'!$D$6)^INT(11/12)) | O12: =IF('Hypothèses'!$A10="","",SUM($C12:$N12))
A13: =IF('Hypothèses'!$A11="","",'Hypothèses'!$A11) | B13: Unités | C13: =IF('Hypothèses'!$A11="","",ROUND('Hypothèses'!$B11*(1+'Hypothèses'!$D11)^0,0)) | D13: =IF('Hypothèses'!$A11="","",ROUND('Hypothèses'!$B11*(1+'Hypothèses'!$D11)^1,0)) | E13: =IF('Hypothèses'!$A11="","",ROUND('Hypothèses'!$B11*(1+'Hypothèses'!$D11)^2,0)) | F13: =IF('Hypothèses'!$A11="","",ROUND('Hypothèses'!$B11*(1+'Hypothèses'!$D11)^3,0)) | G13: =IF('Hypothèses'!$A11="","",ROUND('Hypothèses'!$B11*(1+'Hypothèses'!$D11)^4,0)) | H13: =IF('Hypothèses'!$A11="","",ROUND('Hypothèses'!$B11*(1+'Hypothèses'!$D11)^5,0)) | I13: =IF('Hypothèses'!$A11="","",ROUND('Hypothèses'!$B11*(1+'Hypothèses'!$D11)^6,0)) | J13: =IF('Hypothèses'!$A11="","",ROUND('Hypothèses'!$B11*(1+'Hypothèses'!$D11)^7,0)) | K13: =IF('Hypothèses'!$A11="","",ROUND('Hypothèses'!$B11*(1+'Hypothèses'!$D11)^8,0)) | L13: =IF('Hypothèses'!$A11="","",ROUND('Hypothèses'!$B11*(1+'Hypothèses'!$D11)^9,0)) | M13: =IF('Hypothèses'!$A11="","",ROUND('Hypothèses'!$B11*(1+'Hypothèses'!$D11)^10,0)) | N13: =IF('Hypothèses'!$A11="","",ROUND('Hypothèses'!$B11*(1+'Hypothèses'!$D11)^11,0)) | O13: =IF('Hypothèses'!$A11="","",SUM($C13:$N13))
B14: CA | C14: =IF('Hypothèses'!$A11="","",C13*'Hypothèses'!$C11*(1+'Hypothèses'!$D$6)^INT(0/12)) | D14: =IF('Hypothèses'!$A11="","",D13*'Hypothèses'!$C11*(1+'Hypothèses'!$D$6)^INT(1/12)) | E14: =IF('Hypothèses'!$A11="","",E13*'Hypothèses'!$C11*(1+'Hypothèses'!$D$6)^INT(2/12)) | F14: =IF('Hypothèses'!$A11="","",F13*'Hypothèses'!$C11*(1+'Hypothèses'!$D$6)^INT(3/12)) | G14: =IF('Hypothèses'!$A11="","",G13*'Hypothèses'!$C11*(1+'Hypothèses'!$D$6)^INT(4/12)) | H14: =IF('Hypothèses'!$A11="","",H13*'Hypothèses'!$C11*(1+'Hypothèses'!$D$6)^INT(5/12)) | I14: =IF('Hypothèses'!$A11="","",I13*'Hypothèses'!$C11*(1+'Hypothèses'!$D$6)^INT(6/12)) | J14: =IF('Hypothèses'!$A11="","",J13*'Hypothèses'!$C11*(1+'Hypothèses'!$D$6)^INT(7/12)) | K14: =IF('Hypothèses'!$A11="","",K13*'Hypothèses'!$C11*(1+'Hypothèses'!$D$6)^INT(8/12)) | L14: =IF('Hypothèses'!$A11="","",L13*'Hypothèses'!$C11*(1+'Hypothèses'!$D$6)^INT(9/12)) | M14: =IF('Hypothèses'!$A11="","",M13*'Hypothèses'!$C11*(1+'Hypothèses'!$D$6)^INT(10/12)) | N14: =IF('Hypothèses'!$A11="","",N13*'Hypothèses'!$C11*(1+'Hypothèses'!$D$6)^INT(11/12)) | O14: =IF('Hypothèses'!$A11="","",SUM($C14:$N14))
A15: =IF('Hypothèses'!$A12="","",'Hypothèses'!$A12) | B15: Unités | C15: =IF('Hypothèses'!$A12="","",ROUND('Hypothèses'!$B12*(1+'Hypothèses'!$D12)^0,0)) | D15: =IF('Hypothèses'!$A12="","",ROUND('Hypothèses'!$B12*(1+'Hypothèses'!$D12)^1,0)) | E15: =IF('Hypothèses'!$A12="","",ROUND('Hypothèses'!$B12*(1+'Hypothèses'!$D12)^2,0)) | F15: =IF('Hypothèses'!$A12="","",ROUND('Hypothèses'!$B12*(1+'Hypothèses'!$D12)^3,0)) | G15: =IF('Hypothèses'!$A12="","",ROUND('Hypothèses'!$B12*(1+'Hypothèses'!$D12)^4,0)) | H15: =IF('Hypothèses'!$A12="","",ROUND('Hypothèses'!$B12*(1+'Hypothèses'!$D12)^5,0)) | I15: =IF('Hypothèses'!$A12="","",ROUND('Hypothèses'!$B12*(1+'Hypothèses'!$D12)^6,0)) | J15: =IF('Hypothèses'!$A12="","",ROUND('Hypothèses'!$B12*(1+'Hypothèses'!$D12)^7,0)) | K15: =IF('Hypothèses'!$A12="","",ROUND('Hypothèses'!$B12*(1+'Hypothèses'!$D12)^8,0)) | L15: =IF('Hypothèses'!$A12="","",ROUND('Hypothèses'!$B12*(1+'Hypothèses'!$D12)^9,0)) | M15: =IF('Hypothèses'!$A12="","",ROUND('Hypothèses'!$B12*(1+'Hypothèses'!$D12)^10,0)) | N15: =IF('Hypothèses'!$A12="","",ROUND('Hypothèses'!$B12*(1+'Hypothèses'!$D12)^11,0)) | O15: =IF('Hypothèses'!$A12="","",SUM($C15:$N15))
B16: CA | C16: =IF('Hypothèses'!$A12="","",C15*'Hypothèses'!$C12*(1+'Hypothèses'!$D$6)^INT(0/12)) | D16: =IF('Hypothèses'!$A12="","",D15*'Hypothèses'!$C12*(1+'Hypothèses'!$D$6)^INT(1/12)) | E16: =IF('Hypothèses'!$A12="","",E15*'Hypothèses'!$C12*(1+'Hypothèses'!$D$6)^INT(2/12)) | F16: =IF('Hypothèses'!$A12="","",F15*'Hypothèses'!$C12*(1+'Hypothèses'!$D$6)^INT(3/12)) | G16: =IF('Hypothèses'!$A12="","",G15*'Hypothèses'!$C12*(1+'Hypothèses'!$D$6)^INT(4/12)) | H16: =IF('Hypothèses'!$A12="","",H15*'Hypothèses'!$C12*(1+'Hypothèses'!$D$6)^INT(5/12)) | I16: =IF('Hypothèses'!$A12="","",I15*'Hypothèses'!$C12*(1+'Hypothèses'!$D$6)^INT(6/12)) | J16: =IF('Hypothèses'!$A12="","",J15*'Hypothèses'!$C12*(1+'Hypothèses'!$D$6)^INT(7/12)) | K16: =IF('Hypothèses'!$A12="","",K15*'Hypothèses'!$C12*(1+'Hypothèses'!$D$6)^INT(8/12)) | L16: =IF('Hypothèses'!$A12="","",L15*'Hypothèses'!$C12*(1+'Hypothèses'!$D$6)^INT(9/12)) | M16: =IF('Hypothèses'!$A12="","",M15*'Hypothèses'!$C12*(1+'Hypothèses'!$D$6)^INT(10/12)) | N16: =IF('Hypothèses'!$A12="","",N15*'Hypothèses'!$C12*(1+'Hypothèses'!$D$6)^INT(11/12)) | O16: =IF('Hypothèses'!$A12="","",SUM($C16:$N16))
A17: =IF('Hypothèses'!$A13="","",'Hypothèses'!$A13) | B17: Unités | C17: =IF('Hypothèses'!$A13="","",ROUND('Hypothèses'!$B13*(1+'Hypothèses'!$D13)^0,0)) | D17: =IF('Hypothèses'!$A13="","",ROUND('Hypothèses'!$B13*(1+'Hypothèses'!$D13)^1,0)) | E17: =IF('Hypothèses'!$A13="","",ROUND('Hypothèses'!$B13*(1+'Hypothèses'!$D13)^2,0)) | F17: =IF('Hypothèses'!$A13="","",ROUND('Hypothèses'!$B13*(1+'Hypothèses'!$D13)^3,0)) | G17: =IF('Hypothèses'!$A13="","",ROUND('Hypothèses'!$B13*(1+'Hypothèses'!$D13)^4,0)) | H17: =IF('Hypothèses'!$A13="","",ROUND('Hypothèses'!$B13*(1+'Hypothèses'!$D13)^5,0)) | I17: =IF('Hypothèses'!$A13="","",ROUND('Hypothèses'!$B13*(1+'Hypothèses'!$D13)^6,0)) | J17: =IF('Hypothèses'!$A13="","",ROUND('Hypothèses'!$B13*(1+'Hypothèses'!$D13)^7,0)) | K17: =IF('Hypothèses'!$A13="","",ROUND('Hypothèses'!$B13*(1+'Hypothèses'!$D13)^8,0)) | L17: =IF('Hypothèses'!$A13="","",ROUND('Hypothèses'!$B13*(1+'Hypothèses'!$D13)^9,0)) | M17: =IF('Hypothèses'!$A13="","",ROUND('Hypothèses'!$B13*(1+'Hypothèses'!$D13)^10,0)) | N17: =IF('Hypothèses'!$A13="","",ROUND('Hypothèses'!$B13*(1+'Hypothèses'!$D13)^11,0)) | O17: =IF('Hypothèses'!$A13="","",SUM($C17:$N17))
B18: CA | C18: =IF('Hypothèses'!$A13="","",C17*'Hypothèses'!$C13*(1+'Hypothèses'!$D$6)^INT(0/12)) | D18: =IF('Hypothèses'!$A13="","",D17*'Hypothèses'!$C13*(1+'Hypothèses'!$D$6)^INT(1/12)) | E18: =IF('Hypothèses'!$A13="","",E17*'Hypothèses'!$C13*(1+'Hypothèses'!$D$6)^INT(2/12)) | F18: =IF('Hypothèses'!$A13="","",F17*'Hypothèses'!$C13*(1+'Hypothèses'!$D$6)^INT(3/12)) | G18: =IF('Hypothèses'!$A13="","",G17*'Hypothèses'!$C13*(1+'Hypothèses'!$D$6)^INT(4/12)) | H18: =IF('Hypothèses'!$A13="","",H17*'Hypothèses'!$C13*(1+'Hypothèses'!$D$6)^INT(5/12)) | I18: =IF('Hypothèses'!$A13="","",I17*'Hypothèses'!$C13*(1+'Hypothèses'!$D$6)^INT(6/12)) | J18: =IF('Hypothèses'!$A13="","",J17*'Hypothèses'!$C13*(1+'Hypothèses'!$D$6)^INT(7/12)) | K18: =IF('Hypothèses'!$A13="","",K17*'Hypothèses'!$C13*(1+'Hypothèses'!$D$6)^INT(8/12)) | L18: =IF('Hypothèses'!$A13="","",L17*'Hypothèses'!$C13*(1+'Hypothèses'!$D$6)^INT(9/12)) | M18: =IF('Hypothèses'!$A13="","",M17*'Hypothèses'!$C13*(1+'Hypothèses'!$D$6)^INT(10/12)) | N18: =IF('Hypothèses'!$A13="","",N17*'Hypothèses'!$C13*(1+'Hypothèses'!$D$6)^INT(11/12)) | O18: =IF('Hypothèses'!$A13="","",SUM($C18:$N18))
A19: =IF('Hypothèses'!$A14="","",'Hypothèses'!$A14) | B19: Unités | C19: =IF('Hypothèses'!$A14="","",ROUND('Hypothèses'!$B14*(1+'Hypothèses'!$D14)^0,0)) | D19: =IF('Hypothèses'!$A14="","",ROUND('Hypothèses'!$B14*(1+'Hypothèses'!$D14)^1,0)) | E19: =IF('Hypothèses'!$A14="","",ROUND('Hypothèses'!$B14*(1+'Hypothèses'!$D14)^2,0)) | F19: =IF('Hypothèses'!$A14="","",ROUND('Hypothèses'!$B14*(1+'Hypothèses'!$D14)^3,0)) | G19: =IF('Hypothèses'!$A14="","",ROUND('Hypothèses'!$B14*(1+'Hypothèses'!$D14)^4,0)) | H19: =IF('Hypothèses'!$A14="","",ROUND('Hypothèses'!$B14*(1+'Hypothèses'!$D14)^5,0)) | I19: =IF('Hypothèses'!$A14="","",ROUND('Hypothèses'!$B14*(1+'Hypothèses'!$D14)^6,0)) | J19: =IF('Hypothèses'!$A14="","",ROUND('Hypothèses'!$B14*(1+'Hypothèses'!$D14)^7,0)) | K19: =IF('Hypothèses'!$A14="","",ROUND('Hypothèses'!$B14*(1+'Hypothèses'!$D14)^8,0)) | L19: =IF('Hypothèses'!$A14="","",ROUND('Hypothèses'!$B14*(1+'Hypothèses'!$D14)^9,0)) | M19: =IF('Hypothèses'!$A14="","",ROUND('Hypothèses'!$B14*(1+'Hypothèses'!$D14)^10,0)) | N19: =IF('Hypothèses'!$A14="","",ROUND('Hypothèses'!$B14*(1+'Hypothèses'!$D14)^11,0)) | O19: =IF('Hypothèses'!$A14="","",SUM($C19:$N19))
B20: CA | C20: =IF('Hypothèses'!$A14="","",C19*'Hypothèses'!$C14*(1+'Hypothèses'!$D$6)^INT(0/12)) | D20: =IF('Hypothèses'!$A14="","",D19*'Hypothèses'!$C14*(1+'Hypothèses'!$D$6)^INT(1/12)) | E20: =IF('Hypothèses'!$A14="","",E19*'Hypothèses'!$C14*(1+'Hypothèses'!$D$6)^INT(2/12)) | F20: =IF('Hypothèses'!$A14="","",F19*'Hypothèses'!$C14*(1+'Hypothèses'!$D$6)^INT(3/12)) | G20: =IF('Hypothèses'!$A14="","",G19*'Hypothèses'!$C14*(1+'Hypothèses'!$D$6)^INT(4/12)) | H20: =IF('Hypothèses'!$A14="","",H19*'Hypothèses'!$C14*(1+'Hypothèses'!$D$6)^INT(5/12)) | I20: =IF('Hypothèses'!$A14="","",I19*'Hypothèses'!$C14*(1+'Hypothèses'!$D$6)^INT(6/12)) | J20: =IF('Hypothèses'!$A14="","",J19*'Hypothèses'!$C14*(1+'Hypothèses'!$D$6)^INT(7/12)) | K20: =IF('Hypothèses'!$A14="","",K19*'Hypothèses'!$C14*(1+'Hypothèses'!$D$6)^INT(8/12)) | L20: =IF('Hypothèses'!$A14="","",L19*'Hypothèses'!$C14*(1+'Hypothèses'!$D$6)^INT(9/12)) | M20: =IF('Hypothèses'!$A14="","",M19*'Hypothèses'!$C14*(1+'Hypothèses'!$D$6)^INT(10/12)) | N20: =IF('Hypothèses'!$A14="","",N19*'Hypothèses'!$C14*(1+'Hypothèses'!$D$6)^INT(11/12)) | O20: =IF('Hypothèses'!$A14="","",SUM($C20:$N20))
A21: =IF('Hypothèses'!$A15="","",'Hypothèses'!$A15) | B21: Unités | C21: =IF('Hypothèses'!$A15="","",ROUND('Hypothèses'!$B15*(1+'Hypothèses'!$D15)^0,0)) | D21: =IF('Hypothèses'!$A15="","",ROUND('Hypothèses'!$B15*(1+'Hypothèses'!$D15)^1,0)) | E21: =IF('Hypothèses'!$A15="","",ROUND('Hypothèses'!$B15*(1+'Hypothèses'!$D15)^2,0)) | F21: =IF('Hypothèses'!$A15="","",ROUND('Hypothèses'!$B15*(1+'Hypothèses'!$D15)^3,0)) | G21: =IF('Hypothèses'!$A15="","",ROUND('Hypothèses'!$B15*(1+'Hypothèses'!$D15)^4,0)) | H21: =IF('Hypothèses'!$A15="","",ROUND('Hypothèses'!$B15*(1+'Hypothèses'!$D15)^5,0)) | I21: =IF('Hypothèses'!$A15="","",ROUND('Hypothèses'!$B15*(1+'Hypothèses'!$D15)^6,0)) | J21: =IF('Hypothèses'!$A15="","",ROUND('Hypothèses'!$B15*(1+'Hypothèses'!$D15)^7,0)) | K21: =IF('Hypothèses'!$A15="","",ROUND('Hypothèses'!$B15*(1+'Hypothèses'!$D15)^8,0)) | L21: =IF('Hypothèses'!$A15="","",ROUND('Hypothèses'!$B15*(1+'Hypothèses'!$D15)^9,0)) | M21: =IF('Hypothèses'!$A15="","",ROUND('Hypothèses'!$B15*(1+'Hypothèses'!$D15)^10,0)) | N21: =IF('Hypothèses'!$A15="","",ROUND('Hypothèses'!$B15*(1+'Hypothèses'!$D15)^11,0)) | O21: =IF('Hypothèses'!$A15="","",SUM($C21:$N21))
B22: CA | C22: =IF('Hypothèses'!$A15="","",C21*'Hypothèses'!$C15*(1+'Hypothèses'!$D$6)^INT(0/12)) | D22: =IF('Hypothèses'!$A15="","",D21*'Hypothèses'!$C15*(1+'Hypothèses'!$D$6)^INT(1/12)) | E22: =IF('Hypothèses'!$A15="","",E21*'Hypothèses'!$C15*(1+'Hypothèses'!$D$6)^INT(2/12)) | F22: =IF('Hypothèses'!$A15="","",F21*'Hypothèses'!$C15*(1+'Hypothèses'!$D$6)^INT(3/12)) | G22: =IF('Hypothèses'!$A15="","",G21*'Hypothèses'!$C15*(1+'Hypothèses'!$D$6)^INT(4/12)) | H22: =IF('Hypothèses'!$A15="","",H21*'Hypothèses'!$C15*(1+'Hypothèses'!$D$6)^INT(5/12)) | I22: =IF('Hypothèses'!$A15="","",I21*'Hypothèses'!$C15*(1+'Hypothèses'!$D$6)^INT(6/12)) | J22: =IF('Hypothèses'!$A15="","",J21*'Hypothèses'!$C15*(1+'Hypothèses'!$D$6)^INT(7/12)) | K22: =IF('Hypothèses'!$A15="","",K21*'Hypothèses'!$C15*(1+'Hypothèses'!$D$6)^INT(8/12)) | L22: =IF('Hypothèses'!$A15="","",L21*'Hypothèses'!$C15*(1+'Hypothèses'!$D$6)^INT(9/12)) | M22: =IF('Hypothèses'!$A15="","",M21*'Hypothèses'!$C15*(1+'Hypothèses'!$D$6)^INT(10/12)) | N22: =IF('Hypothèses'!$A15="","",N21*'Hypothèses'!$C15*(1+'Hypothèses'!$D$6)^INT(11/12)) | O22: =IF('Hypothèses'!$A15="","",SUM($C22:$N22))
A23: =IF('Hypothèses'!$A16="","",'Hypothèses'!$A16) | B23: Unités | C23: =IF('Hypothèses'!$A16="","",ROUND('Hypothèses'!$B16*(1+'Hypothèses'!$D16)^0,0)) | D23: =IF('Hypothèses'!$A16="","",ROUND('Hypothèses'!$B16*(1+'Hypothèses'!$D16)^1,0)) | E23: =IF('Hypothèses'!$A16="","",ROUND('Hypothèses'!$B16*(1+'Hypothèses'!$D16)^2,0)) | F23: =IF('Hypothèses'!$A16="","",ROUND('Hypothèses'!$B16*(1+'Hypothèses'!$D16)^3,0)) | G23: =IF('Hypothèses'!$A16="","",ROUND('Hypothèses'!$B16*(1+'Hypothèses'!$D16)^4,0)) | H23: =IF('Hypothèses'!$A16="","",ROUND('Hypothèses'!$B16*(1+'Hypothèses'!$D16)^5,0)) | I23: =IF('Hypothèses'!$A16="","",ROUND('Hypothèses'!$B16*(1+'Hypothèses'!$D16)^6,0)) | J23: =IF('Hypothèses'!$A16="","",ROUND('Hypothèses'!$B16*(1+'Hypothèses'!$D16)^7,0)) | K23: =IF('Hypothèses'!$A16="","",ROUND('Hypothèses'!$B16*(1+'Hypothèses'!$D16)^8,0)) | L23: =IF('Hypothèses'!$A16="","",ROUND('Hypothèses'!$B16*(1+'Hypothèses'!$D16)^9,0)) | M23: =IF('Hypothèses'!$A16="","",ROUND('Hypothèses'!$B16*(1+'Hypothèses'!$D16)^10,0)) | N23: =IF('Hypothèses'!$A16="","",ROUND('Hypothèses'!$B16*(1+'Hypothèses'!$D16)^11,0)) | O23: =IF('Hypothèses'!$A16="","",SUM($C23:$N23))
B24: CA | C24: =IF('Hypothèses'!$A16="","",C23*'Hypothèses'!$C16*(1+'Hypothèses'!$D$6)^INT(0/12)) | D24: =IF('Hypothèses'!$A16="","",D23*'Hypothèses'!$C16*(1+'Hypothèses'!$D$6)^INT(1/12)) | E24: =IF('Hypothèses'!$A16="","",E23*'Hypothèses'!$C16*(1+'Hypothèses'!$D$6)^INT(2/12)) | F24: =IF('Hypothèses'!$A16="","",F23*'Hypothèses'!$C16*(1+'Hypothèses'!$D$6)^INT(3/12)) | G24: =IF('Hypothèses'!$A16="","",G23*'Hypothèses'!$C16*(1+'Hypothèses'!$D$6)^INT(4/12)) | H24: =IF('Hypothèses'!$A16="","",H23*'Hypothèses'!$C16*(1+'Hypothèses'!$D$6)^INT(5/12)) | I24: =IF('Hypothèses'!$A16="","",I23*'Hypothèses'!$C16*(1+'Hypothèses'!$D$6)^INT(6/12)) | J24: =IF('Hypothèses'!$A16="","",J23*'Hypothèses'!$C16*(1+'Hypothèses'!$D$6)^INT(7/12)) | K24: =IF('Hypothèses'!$A16="","",K23*'Hypothèses'!$C16*(1+'Hypothèses'!$D$6)^INT(8/12)) | L24: =IF('Hypothèses'!$A16="","",L23*'Hypothèses'!$C16*(1+'Hypothèses'!$D$6)^INT(9/12)) | M24: =IF('Hypothèses'!$A16="","",M23*'Hypothèses'!$C16*(1+'Hypothèses'!$D$6)^INT(10/12)) | N24: =IF('Hypothèses'!$A16="","",N23*'Hypothèses'!$C16*(1+'Hypothèses'!$D$6)^INT(11/12)) | O24: =IF('Hypothèses'!$A16="","",SUM($C24:$N24))
A25: =IF('Hypothèses'!$A17="","",'Hypothèses'!$A17) | B25: Unités | C25: =IF('Hypothèses'!$A17="","",ROUND('Hypothèses'!$B17*(1+'Hypothèses'!$D17)^0,0)) | D25: =IF('Hypothèses'!$A17="","",ROUND('Hypothèses'!$B17*(1+'Hypothèses'!$D17)^1,0)) | E25: =IF('Hypothèses'!$A17="","",ROUND('Hypothèses'!$B17*(1+'Hypothèses'!$D17)^2,0)) | F25: =IF('Hypothèses'!$A17="","",ROUND('Hypothèses'!$B17*(1+'Hypothèses'!$D17)^3,0)) | G25: =IF('Hypothèses'!$A17="","",ROUND('Hypothèses'!$B17*(1+'Hypothèses'!$D17)^4,0)) | H25: =IF('Hypothèses'!$A17="","",ROUND('Hypothèses'!$B17*(1+'Hypothèses'!$D17)^5,0)) | I25: =IF('Hypothèses'!$A17="","",ROUND('Hypothèses'!$B17*(1+'Hypothèses'!$D17)^6,0)) | J25: =IF('Hypothèses'!$A17="","",ROUND('Hypothèses'!$B17*(1+'Hypothèses'!$D17)^7,0)) | K25: =IF('Hypothèses'!$A17="","",ROUND('Hypothèses'!$B17*(1+'Hypothèses'!$D17)^8,0)) | L25: =IF('Hypothèses'!$A17="","",ROUND('Hypothèses'!$B17*(1+'Hypothèses'!$D17)^9,0)) | M25: =IF('Hypothèses'!$A17="","",ROUND('Hypothèses'!$B17*(1+'Hypothèses'!$D17)^10,0)) | N25: =IF('Hypothèses'!$A17="","",ROUND('Hypothèses'!$B17*(1+'Hypothèses'!$D17)^11,0)) | O25: =IF('Hypothèses'!$A17="","",SUM($C25:$N25))
B26: CA | C26: =IF('Hypothèses'!$A17="","",C25*'Hypothèses'!$C17*(1+'Hypothèses'!$D$6)^INT(0/12)) | D26: =IF('Hypothèses'!$A17="","",D25*'Hypothèses'!$C17*(1+'Hypothèses'!$D$6)^INT(1/12)) | E26: =IF('Hypothèses'!$A17="","",E25*'Hypothèses'!$C17*(1+'Hypothèses'!$D$6)^INT(2/12)) | F26: =IF('Hypothèses'!$A17="","",F25*'Hypothèses'!$C17*(1+'Hypothèses'!$D$6)^INT(3/12)) | G26: =IF('Hypothèses'!$A17="","",G25*'Hypothèses'!$C17*(1+'Hypothèses'!$D$6)^INT(4/12)) | H26: =IF('Hypothèses'!$A17="","",H25*'Hypothèses'!$C17*(1+'Hypothèses'!$D$6)^INT(5/12)) | I26: =IF('Hypothèses'!$A17="","",I25*'Hypothèses'!$C17*(1+'Hypothèses'!$D$6)^INT(6/12)) | J26: =IF('Hypothèses'!$A17="","",J25*'Hypothèses'!$C17*(1+'Hypothèses'!$D$6)^INT(7/12)) | K26: =IF('Hypothèses'!$A17="","",K25*'Hypothèses'!$C17*(1+'Hypothèses'!$D$6)^INT(8/12)) | L26: =IF('Hypothèses'!$A17="","",L25*'Hypothèses'!$C17*(1+'Hypothèses'!$D$6)^INT(9/12)) | M26: =IF('Hypothèses'!$A17="","",M25*'Hypothèses'!$C17*(1+'Hypothèses'!$D$6)^INT(10/12)) | N26: =IF('Hypothèses'!$A17="","",N25*'Hypothèses'!$C17*(1+'Hypothèses'!$D$6)^INT(11/12)) | O26: =IF('Hypothèses'!$A17="","",SUM($C26:$N26))
A27: CA total | C27: =SUMIF($B$11:$B$26,"CA",C$11:C$26) | D27: =SUMIF($B$11:$B$26,"CA",D$11:D$26) | E27: =SUMIF($B$11:$B$26,"CA",E$11:E$26) | F27: =SUMIF($B$11:$B$26,"CA",F$11:F$26) | G27: =SUMIF($B$11:$B$26,"CA",G$11:G$26) | H27: =SUMIF($B$11:$B$26,"CA",H$11:H$26) | I27: =SUMIF($B$11:$B$26,"CA",I$11:I$26) | J27: =SUMIF($B$11:$B$26,"CA",J$11:J$26) | ... N27: =SUMIF($B$11:$B$26,"CA",N$11:N$26) | O27: =SUM($C$27:$N$27)

Sheet Réel
A1: FORECIX · Prévision des ventes | F1: sheetorial.com
A3: Réel vs prévision
A4: Saisis le CA réel de chaque mois à sa clôture. L'écart montre de combien la prévision s'est trompée.
A9: Mois | B9: Prévision | C9: Réel | D9: Écart | E9: Écart % | F9: Écart cumulé
A10: ='Prévision'!C$10 | B10: ='Prévision'!C$27 | C10: 8650 | D10: =IF($C10="","",$C10-$B10) | E10: =IF($C10="","",IFERROR($D10/$B10,0)) | F10: =IF($C10="","",SUM($D$10:$D10))
A11: ='Prévision'!D$10 | B11: ='Prévision'!D$27 | C11: 9240 | D11: =IF($C11="","",$C11-$B11) | E11: =IF($C11="","",IFERROR($D11/$B11,0)) | F11: =IF($C11="","",SUM($D$10:$D11))
A12: ='Prévision'!E$10 | B12: ='Prévision'!E$27 | C12: 9180 | D12: =IF($C12="","",$C12-$B12) | E12: =IF($C12="","",IFERROR($D12/$B12,0)) | F12: =IF($C12="","",SUM($D$10:$D12))
A13: ='Prévision'!F$10 | B13: ='Prévision'!F$27 | D13: =IF($C13="","",$C13-$B13) | E13: =IF($C13="","",IFERROR($D13/$B13,0)) | F13: =IF($C13="","",SUM($D$10:$D13))
A14: ='Prévision'!G$10 | B14: ='Prévision'!G$27 | D14: =IF($C14="","",$C14-$B14) | E14: =IF($C14="","",IFERROR($D14/$B14,0)) | F14: =IF($C14="","",SUM($D$10:$D14))
A15: ='Prévision'!H$10 | B15: ='Prévision'!H$27 | D15: =IF($C15="","",$C15-$B15) | E15: =IF($C15="","",IFERROR($D15/$B15,0)) | F15: =IF($C15="","",SUM($D$10:$D15))
A16: ='Prévision'!I$10 | B16: ='Prévision'!I$27 | D16: =IF($C16="","",$C16-$B16) | E16: =IF($C16="","",IFERROR($D16/$B16,0)) | F16: =IF($C16="","",SUM($D$10:$D16))
A17: ='Prévision'!J$10 | B17: ='Prévision'!J$27 | D17: =IF($C17="","",$C17-$B17) | E17: =IF($C17="","",IFERROR($D17/$B17,0)) | F17: =IF($C17="","",SUM($D$10:$D17))
A18: ='Prévision'!K$10 | B18: ='Prévision'!K$27 | D18: =IF($C18="","",$C18-$B18) | E18: =IF($C18="","",IFERROR($D18/$B18,0)) | F18: =IF($C18="","",SUM($D$10:$D18))
A19: ='Prévision'!L$10 | B19: ='Prévision'!L$27 | D19: =IF($C19="","",$C19-$B19) | E19: =IF($C19="","",IFERROR($D19/$B19,0)) | F19: =IF($C19="","",SUM($D$10:$D19))
A20: ='Prévision'!M$10 | B20: ='Prévision'!M$27 | D20: =IF($C20="","",$C20-$B20) | E20: =IF($C20="","",IFERROR($D20/$B20,0)) | F20: =IF($C20="","",SUM($D$10:$D20))
A21: ='Prévision'!N$10 | B21: ='Prévision'!N$27 | D21: =IF($C21="","",$C21-$B21) | E21: =IF($C21="","",IFERROR($D21/$B21,0)) | F21: =IF($C21="","",SUM($D$10:$D21))
