Workbook

Sheet Contrats
A1: POLIXA · Suivi des commissions d'assurance | L1: sheetorial.com
A3: Commissions par contrat
A4: Une ligne par contrat. Commission attendue = prime x taux de l'assureur. Saisis ce qui a été payé.
A6: Contrats | B6: =COUNTA($A$10:$A$150) | C6: Attendu | D6: =SUM($I$10:$I$150) | E6: Reçu | F6: =SUM($J$10:$J$150) | G6: À encaisser | H6: =SUM($K$10:$K$150)
A9: N° de contrat | B9: Client | C9: Assureur | D9: Branche | E9: Type | F9: Date d'effet | G9: Prime | H9: Taux | I9: Attendu | J9: Reçu | K9: Écart | L9: Payée le
A10: P-1001 | B10: J. Morales | C10: Assureur A | D10: Auto | E10: Nouvelle | F10: 46034 | G10: 1450 | H10: =IF(OR($C10="",$E10=""),"",IFERROR(VLOOKUP($C10,'Taux par assureur'!$A$10:$C$21,IF($E10='Listes'!$B$3,2,3),FALSE),0)) | I10: =IF(OR($G10="",$H10=""),"",$G10*$H10) | J10: 217.5 | K10: =IF($I10="","",$I10-N($J10)) | L10: 46068
A11: P-1002 | B11: Greenway Cafe | C11: Assureur B | D11: Professionnel | E11: Nouvelle | F11: 46050 | G11: 6200 | H11: =IF(OR($C11="",$E11=""),"",IFERROR(VLOOKUP($C11,'Taux par assureur'!$A$10:$C$21,IF($E11='Listes'!$B$3,2,3),FALSE),0)) | I11: =IF(OR($G11="",$H11=""),"",$G11*$H11) | J11: 744 | K11: =IF($I11="","",$I11-N($J11)) | L11: 46082
A12: P-1003 | B12: R. Patel | C12: Assureur C | D12: Habitation | E12: Renouvellement | F12: 46056 | G12: 1980 | H12: =IF(OR($C12="",$E12=""),"",IFERROR(VLOOKUP($C12,'Taux par assureur'!$A$10:$C$21,IF($E12='Listes'!$B$3,2,3),FALSE),0)) | I12: =IF(OR($G12="",$H12=""),"",$G12*$H12) | J12: 138.6 | K12: =IF($I12="","",$I12-N($J12)) | L12: 46091
A13: P-1004 | B13: L. Chen | C13: Assureur D | D13: Vie | E13: Nouvelle | F13: 46073 | G13: 2400 | H13: =IF(OR($C13="",$E13=""),"",IFERROR(VLOOKUP($C13,'Taux par assureur'!$A$10:$C$21,IF($E13='Listes'!$B$3,2,3),FALSE),0)) | I13: =IF(OR($G13="",$H13=""),"",$G13*$H13) | J13: 400 | K13: =IF($I13="","",$I13-N($J13)) | L13: 46106
A14: P-1005 | B14: T. Brooks | C14: Assureur A | D14: Auto | E14: Renouvellement | F14: 46086 | G14: 1320 | H14: =IF(OR($C14="",$E14=""),"",IFERROR(VLOOKUP($C14,'Taux par assureur'!$A$10:$C$21,IF($E14='Listes'!$B$3,2,3),FALSE),0)) | I14: =IF(OR($G14="",$H14=""),"",$G14*$H14) | J14: 132 | K14: =IF($I14="","",$I14-N($J14)) | L14: 46120
A15: P-1006 | B15: Hillside Dental | C15: Assureur B | D15: Professionnel | E15: Renouvellement | F15: 46099 | G15: 7400 | H15: =IF(OR($C15="",$E15=""),"",IFERROR(VLOOKUP($C15,'Taux par assureur'!$A$10:$C$21,IF($E15='Listes'!$B$3,2,3),FALSE),0)) | I15: =IF(OR($G15="",$H15=""),"",$G15*$H15) | J15: 592 | K15: =IF($I15="","",$I15-N($J15)) | L15: 46132
A16: P-1007 | B16: M. Rossi | C16: Assureur C | D16: Habitation | E16: Nouvelle | F16: 46114 | G16: 2150 | H16: =IF(OR($C16="",$E16=""),"",IFERROR(VLOOKUP($C16,'Taux par assureur'!$A$10:$C$21,IF($E16='Listes'!$B$3,2,3),FALSE),0)) | I16: =IF(OR($G16="",$H16=""),"",$G16*$H16) | K16: =IF($I16="","",$I16-N($J16))
A17: P-1008 | B17: K. Novak | C17: Assureur A | D17: Santé | E17: Nouvelle | F17: 46128 | G17: 3600 | H17: =IF(OR($C17="",$E17=""),"",IFERROR(VLOOKUP($C17,'Taux par assureur'!$A$10:$C$21,IF($E17='Listes'!$B$3,2,3),FALSE),0)) | I17: =IF(OR($G17="",$H17=""),"",$G17*$H17) | J17: 480 | K17: =IF($I17="","",$I17-N($J17)) | L17: 46162
A18: P-1009 | B18: A. Silva | C18: Assureur D | D18: Vie | E18: Renouvellement | F18: 46149 | G18: 2400 | H18: =IF(OR($C18="",$E18=""),"",IFERROR(VLOOKUP($C18,'Taux par assureur'!$A$10:$C$21,IF($E18='Listes'!$B$3,2,3),FALSE),0)) | I18: =IF(OR($G18="",$H18=""),"",$G18*$H18) | J18: 120 | K18: =IF($I18="","",$I18-N($J18)) | L18: 46182
A19: P-1010 | B19: Northpoint Gym | C19: Assureur B | D19: Professionnel | E19: Nouvelle | F19: 46168 | G19: 5800 | H19: =IF(OR($C19="",$E19=""),"",IFERROR(VLOOKUP($C19,'Taux par assureur'!$A$10:$C$21,IF($E19='Listes'!$B$3,2,3),FALSE),0)) | I19: =IF(OR($G19="",$H19=""),"",$G19*$H19) | K19: =IF($I19="","",$I19-N($J19))
H20: =IF(OR($C20="",$E20=""),"",IFERROR(VLOOKUP($C20,'Taux par assureur'!$A$10:$C$21,IF($E20='Listes'!$B$3,2,3),FALSE),0)) | I20: =IF(OR($G20="",$H20=""),"",$G20*$H20) | K20: =IF($I20="","",$I20-N($J20))
H21: =IF(OR($C21="",$E21=""),"",IFERROR(VLOOKUP($C21,'Taux par assureur'!$A$10:$C$21,IF($E21='Listes'!$B$3,2,3),FALSE),0)) | I21: =IF(OR($G21="",$H21=""),"",$G21*$H21) | K21: =IF($I21="","",$I21-N($J21))
H22: =IF(OR($C22="",$E22=""),"",IFERROR(VLOOKUP($C22,'Taux par assureur'!$A$10:$C$21,IF($E22='Listes'!$B$3,2,3),FALSE),0)) | I22: =IF(OR($G22="",$H22=""),"",$G22*$H22) | K22: =IF($I22="","",$I22-N($J22))
H23: =IF(OR($C23="",$E23=""),"",IFERROR(VLOOKUP($C23,'Taux par assureur'!$A$10:$C$21,IF($E23='Listes'!$B$3,2,3),FALSE),0)) | I23: =IF(OR($G23="",$H23=""),"",$G23*$H23) | K23: =IF($I23="","",$I23-N($J23))
H24: =IF(OR($C24="",$E24=""),"",IFERROR(VLOOKUP($C24,'Taux par assureur'!$A$10:$C$21,IF($E24='Listes'!$B$3,2,3),FALSE),0)) | I24: =IF(OR($G24="",$H24=""),"",$G24*$H24) | K24: =IF($I24="","",$I24-N($J24))
H25: =IF(OR($C25="",$E25=""),"",IFERROR(VLOOKUP($C25,'Taux par assureur'!$A$10:$C$21,IF($E25='Listes'!$B$3,2,3),FALSE),0)) | I25: =IF(OR($G25="",$H25=""),"",$G25*$H25) | K25: =IF($I25="","",$I25-N($J25))
H26: =IF(OR($C26="",$E26=""),"",IFERROR(VLOOKUP($C26,'Taux par assureur'!$A$10:$C$21,IF($E26='Listes'!$B$3,2,3),FALSE),0)) | I26: =IF(OR($G26="",$H26=""),"",$G26*$H26) | K26: =IF($I26="","",$I26-N($J26))
H27: =IF(OR($C27="",$E27=""),"",IFERROR(VLOOKUP($C27,'Taux par assureur'!$A$10:$C$21,IF($E27='Listes'!$B$3,2,3),FALSE),0)) | I27: =IF(OR($G27="",$H27=""),"",$G27*$H27) | K27: =IF($I27="","",$I27-N($J27))
H28: =IF(OR($C28="",$E28=""),"",IFERROR(VLOOKUP($C28,'Taux par assureur'!$A$10:$C$21,IF($E28='Listes'!$B$3,2,3),FALSE),0)) | I28: =IF(OR($G28="",$H28=""),"",$G28*$H28) | K28: =IF($I28="","",$I28-N($J28))
H29: =IF(OR($C29="",$E29=""),"",IFERROR(VLOOKUP($C29,'Taux par assureur'!$A$10:$C$21,IF($E29='Listes'!$B$3,2,3),FALSE),0)) | I29: =IF(OR($G29="",$H29=""),"",$G29*$H29) | K29: =IF($I29="","",$I29-N($J29))
H30: =IF(OR($C30="",$E30=""),"",IFERROR(VLOOKUP($C30,'Taux par assureur'!$A$10:$C$21,IF($E30='Listes'!$B$3,2,3),FALSE),0)) | I30: =IF(OR($G30="",$H30=""),"",$G30*$H30) | K30: =IF($I30="","",$I30-N($J30))
H31: =IF(OR($C31="",$E31=""),"",IFERROR(VLOOKUP($C31,'Taux par assureur'!$A$10:$C$21,IF($E31='Listes'!$B$3,2,3),FALSE),0)) | I31: =IF(OR($G31="",$H31=""),"",$G31*$H31) | K31: =IF($I31="","",$I31-N($J31))
... H150: =IF(OR($C150="",$E150=""),"",IFERROR(VLOOKUP($C150,'Taux par assureur'!$A$10:$C$21,IF($E150='Listes'!$B$3,2,3),FALSE),0)) | I150: =IF(OR($G150="",$H150=""),"",$G150*$H150) | K150: =IF($I150="","",$I150-N($J150))

Sheet Taux par assureur
A1: POLIXA · Suivi des commissions d'assurance | D1: sheetorial.com
A3: Taux de commission par assureur
A4: Saisis les taux de tes propres accords avec les assureurs. Contrats les cherche ici.
A9: Assureur | B9: Taux affaire nouvelle | C9: Taux renouvellement | D9: Contrats
A10: Assureur A | B10: 0.15 | C10: 0.1 | D10: =IF($A10="","",COUNTIF('Contrats'!$C:$C,$A10))
A11: Assureur B | B11: 0.12 | C11: 0.08 | D11: =IF($A11="","",COUNTIF('Contrats'!$C:$C,$A11))
A12: Assureur C | B12: 0.1 | C12: 0.07 | D12: =IF($A12="","",COUNTIF('Contrats'!$C:$C,$A12))
A13: Assureur D | B13: 0.18 | C13: 0.05 | D13: =IF($A13="","",COUNTIF('Contrats'!$C:$C,$A13))
D14: =IF($A14="","",COUNTIF('Contrats'!$C:$C,$A14))
D15: =IF($A15="","",COUNTIF('Contrats'!$C:$C,$A15))
D16: =IF($A16="","",COUNTIF('Contrats'!$C:$C,$A16))
D17: =IF($A17="","",COUNTIF('Contrats'!$C:$C,$A17))
D18: =IF($A18="","",COUNTIF('Contrats'!$C:$C,$A18))
D19: =IF($A19="","",COUNTIF('Contrats'!$C:$C,$A19))
D20: =IF($A20="","",COUNTIF('Contrats'!$C:$C,$A20))
D21: =IF($A21="","",COUNTIF('Contrats'!$C:$C,$A21))

Sheet Synthèse
A1: POLIXA · Suivi des commissions d'assurance | F1: sheetorial.com
A3: Commissions par branche
A4: Primes émises, commission attendue et reçue par branche. Les branches payées en moins sont en rouge.
A9: Branche | B9: Contrats | C9: Prime | D9: Attendu | E9: Reçu | F9: À encaisser
A10: ='Listes'!$A$3 | B10: =COUNTIF('Contrats'!$D:$D,$A10) | C10: =SUMIF('Contrats'!$D:$D,$A10,'Contrats'!$G:$G) | D10: =SUMIF('Contrats'!$D:$D,$A10,'Contrats'!$I:$I) | E10: =SUMIF('Contrats'!$D:$D,$A10,'Contrats'!$J:$J) | F10: =$D10-$E10
A11: ='Listes'!$A$4 | B11: =COUNTIF('Contrats'!$D:$D,$A11) | C11: =SUMIF('Contrats'!$D:$D,$A11,'Contrats'!$G:$G) | D11: =SUMIF('Contrats'!$D:$D,$A11,'Contrats'!$I:$I) | E11: =SUMIF('Contrats'!$D:$D,$A11,'Contrats'!$J:$J) | F11: =$D11-$E11
A12: ='Listes'!$A$5 | B12: =COUNTIF('Contrats'!$D:$D,$A12) | C12: =SUMIF('Contrats'!$D:$D,$A12,'Contrats'!$G:$G) | D12: =SUMIF('Contrats'!$D:$D,$A12,'Contrats'!$I:$I) | E12: =SUMIF('Contrats'!$D:$D,$A12,'Contrats'!$J:$J) | F12: =$D12-$E12
A13: ='Listes'!$A$6 | B13: =COUNTIF('Contrats'!$D:$D,$A13) | C13: =SUMIF('Contrats'!$D:$D,$A13,'Contrats'!$G:$G) | D13: =SUMIF('Contrats'!$D:$D,$A13,'Contrats'!$I:$I) | E13: =SUMIF('Contrats'!$D:$D,$A13,'Contrats'!$J:$J) | F13: =$D13-$E13
A14: ='Listes'!$A$7 | B14: =COUNTIF('Contrats'!$D:$D,$A14) | C14: =SUMIF('Contrats'!$D:$D,$A14,'Contrats'!$G:$G) | D14: =SUMIF('Contrats'!$D:$D,$A14,'Contrats'!$I:$I) | E14: =SUMIF('Contrats'!$D:$D,$A14,'Contrats'!$J:$J) | F14: =$D14-$E14
A15: ='Listes'!$A$8 | B15: =COUNTIF('Contrats'!$D:$D,$A15) | C15: =SUMIF('Contrats'!$D:$D,$A15,'Contrats'!$G:$G) | D15: =SUMIF('Contrats'!$D:$D,$A15,'Contrats'!$I:$I) | E15: =SUMIF('Contrats'!$D:$D,$A15,'Contrats'!$J:$J) | F15: =$D15-$E15
A16: Total | B16: =SUM($B$10:$B$15) | C16: =SUM($C$10:$C$15) | D16: =SUM($D$10:$D$15) | E16: =SUM($E$10:$E$15) | F16: =SUM($F$10:$F$15)

Sheet Listes
A1: POLIXA · Suivi des commissions d'assurance | D1: sheetorial.com
A2: Branche | B2: Type d'affaire
A3: Auto | B3: Nouvelle
A4: Habitation | B4: Renouvellement
A5: Vie
A6: Santé
A7: Professionnel
A8: Autres
A10: Modifie les branches ici, la liste déroulante suit cette liste.
