Workbook

Sheet Semaine
A1: WEEKORA · Feuille de temps | G1: sheetorial.com
A3: Feuille de temps hebdomadaire
A4: Saisissez le lundi de la semaine. Jours et projets s’additionnent depuis l’onglet Saisies.
A6: Début de semaine | B6: 46300 | C6: Total des heures | D6: =$B$17 | E6: Part facturable | F6: =IFERROR($C$17/$B$17,0)
E7: Montant facturable | F7: =$E$17
A9: Jour | B9: Heures | C9: Heures facturables | D9: % facturable | E9: Montant
A10: =$B$6+0 | B10: =SUMIF('Saisies'!$A:$A,$A10,'Saisies'!$G:$G) | C10: =SUMIFS('Saisies'!$G:$G,'Saisies'!$A:$A,$A10,'Saisies'!$H:$H,'Projets'!$E$3) | D10: =IFERROR($C10/$B10,0) | E10: =SUMIF('Saisies'!$A:$A,$A10,'Saisies'!$I:$I)
A11: =$B$6+1 | B11: =SUMIF('Saisies'!$A:$A,$A11,'Saisies'!$G:$G) | C11: =SUMIFS('Saisies'!$G:$G,'Saisies'!$A:$A,$A11,'Saisies'!$H:$H,'Projets'!$E$3) | D11: =IFERROR($C11/$B11,0) | E11: =SUMIF('Saisies'!$A:$A,$A11,'Saisies'!$I:$I)
A12: =$B$6+2 | B12: =SUMIF('Saisies'!$A:$A,$A12,'Saisies'!$G:$G) | C12: =SUMIFS('Saisies'!$G:$G,'Saisies'!$A:$A,$A12,'Saisies'!$H:$H,'Projets'!$E$3) | D12: =IFERROR($C12/$B12,0) | E12: =SUMIF('Saisies'!$A:$A,$A12,'Saisies'!$I:$I)
A13: =$B$6+3 | B13: =SUMIF('Saisies'!$A:$A,$A13,'Saisies'!$G:$G) | C13: =SUMIFS('Saisies'!$G:$G,'Saisies'!$A:$A,$A13,'Saisies'!$H:$H,'Projets'!$E$3) | D13: =IFERROR($C13/$B13,0) | E13: =SUMIF('Saisies'!$A:$A,$A13,'Saisies'!$I:$I)
A14: =$B$6+4 | B14: =SUMIF('Saisies'!$A:$A,$A14,'Saisies'!$G:$G) | C14: =SUMIFS('Saisies'!$G:$G,'Saisies'!$A:$A,$A14,'Saisies'!$H:$H,'Projets'!$E$3) | D14: =IFERROR($C14/$B14,0) | E14: =SUMIF('Saisies'!$A:$A,$A14,'Saisies'!$I:$I)
A15: =$B$6+5 | B15: =SUMIF('Saisies'!$A:$A,$A15,'Saisies'!$G:$G) | C15: =SUMIFS('Saisies'!$G:$G,'Saisies'!$A:$A,$A15,'Saisies'!$H:$H,'Projets'!$E$3) | D15: =IFERROR($C15/$B15,0) | E15: =SUMIF('Saisies'!$A:$A,$A15,'Saisies'!$I:$I)
A16: =$B$6+6 | B16: =SUMIF('Saisies'!$A:$A,$A16,'Saisies'!$G:$G) | C16: =SUMIFS('Saisies'!$G:$G,'Saisies'!$A:$A,$A16,'Saisies'!$H:$H,'Projets'!$E$3) | D16: =IFERROR($C16/$B16,0) | E16: =SUMIF('Saisies'!$A:$A,$A16,'Saisies'!$I:$I)
A17: Total | B17: =SUM($B$10:$B$16) | C17: =SUM($C$10:$C$16) | D17: =IFERROR($C$17/$B$17,0) | E17: =SUM($E$10:$E$16)
A19: Cette semaine par projet
A20: Projet | B20: Client | C20: Heures | D20: Heures facturables | E20: Montant
A21: =IF('Projets'!$A3="","",'Projets'!$A3) | B21: =IF($A21="","",'Projets'!$B3) | C21: =IF($A21="","",SUMIFS('Saisies'!$G:$G,'Saisies'!$B:$B,$A21,'Saisies'!$A:$A,">="&$B$6,'Saisies'!$A:$A,"<"&($B$6+7))) | D21: =IF($A21="","",SUMIFS('Saisies'!$G:$G,'Saisies'!$B:$B,$A21,'Saisies'!$H:$H,'Projets'!$E$3,'Saisies'!$A:$A,">="&$B$6,'Saisies'!$A:$A,"<"&($B$6+7))) | E21: =IF($A21="","",SUMIFS('Saisies'!$I:$I,'Saisies'!$B:$B,$A21,'Saisies'!$A:$A,">="&$B$6,'Saisies'!$A:$A,"<"&($B$6+7)))
A22: =IF('Projets'!$A4="","",'Projets'!$A4) | B22: =IF($A22="","",'Projets'!$B4) | C22: =IF($A22="","",SUMIFS('Saisies'!$G:$G,'Saisies'!$B:$B,$A22,'Saisies'!$A:$A,">="&$B$6,'Saisies'!$A:$A,"<"&($B$6+7))) | D22: =IF($A22="","",SUMIFS('Saisies'!$G:$G,'Saisies'!$B:$B,$A22,'Saisies'!$H:$H,'Projets'!$E$3,'Saisies'!$A:$A,">="&$B$6,'Saisies'!$A:$A,"<"&($B$6+7))) | E22: =IF($A22="","",SUMIFS('Saisies'!$I:$I,'Saisies'!$B:$B,$A22,'Saisies'!$A:$A,">="&$B$6,'Saisies'!$A:$A,"<"&($B$6+7)))
A23: =IF('Projets'!$A5="","",'Projets'!$A5) | B23: =IF($A23="","",'Projets'!$B5) | C23: =IF($A23="","",SUMIFS('Saisies'!$G:$G,'Saisies'!$B:$B,$A23,'Saisies'!$A:$A,">="&$B$6,'Saisies'!$A:$A,"<"&($B$6+7))) | D23: =IF($A23="","",SUMIFS('Saisies'!$G:$G,'Saisies'!$B:$B,$A23,'Saisies'!$H:$H,'Projets'!$E$3,'Saisies'!$A:$A,">="&$B$6,'Saisies'!$A:$A,"<"&($B$6+7))) | E23: =IF($A23="","",SUMIFS('Saisies'!$I:$I,'Saisies'!$B:$B,$A23,'Saisies'!$A:$A,">="&$B$6,'Saisies'!$A:$A,"<"&($B$6+7)))
A24: =IF('Projets'!$A6="","",'Projets'!$A6) | B24: =IF($A24="","",'Projets'!$B6) | C24: =IF($A24="","",SUMIFS('Saisies'!$G:$G,'Saisies'!$B:$B,$A24,'Saisies'!$A:$A,">="&$B$6,'Saisies'!$A:$A,"<"&($B$6+7))) | D24: =IF($A24="","",SUMIFS('Saisies'!$G:$G,'Saisies'!$B:$B,$A24,'Saisies'!$H:$H,'Projets'!$E$3,'Saisies'!$A:$A,">="&$B$6,'Saisies'!$A:$A,"<"&($B$6+7))) | E24: =IF($A24="","",SUMIFS('Saisies'!$I:$I,'Saisies'!$B:$B,$A24,'Saisies'!$A:$A,">="&$B$6,'Saisies'!$A:$A,"<"&($B$6+7)))
A25: =IF('Projets'!$A7="","",'Projets'!$A7) | B25: =IF($A25="","",'Projets'!$B7) | C25: =IF($A25="","",SUMIFS('Saisies'!$G:$G,'Saisies'!$B:$B,$A25,'Saisies'!$A:$A,">="&$B$6,'Saisies'!$A:$A,"<"&($B$6+7))) | D25: =IF($A25="","",SUMIFS('Saisies'!$G:$G,'Saisies'!$B:$B,$A25,'Saisies'!$H:$H,'Projets'!$E$3,'Saisies'!$A:$A,">="&$B$6,'Saisies'!$A:$A,"<"&($B$6+7))) | E25: =IF($A25="","",SUMIFS('Saisies'!$I:$I,'Saisies'!$B:$B,$A25,'Saisies'!$A:$A,">="&$B$6,'Saisies'!$A:$A,"<"&($B$6+7)))
A26: =IF('Projets'!$A8="","",'Projets'!$A8) | B26: =IF($A26="","",'Projets'!$B8) | C26: =IF($A26="","",SUMIFS('Saisies'!$G:$G,'Saisies'!$B:$B,$A26,'Saisies'!$A:$A,">="&$B$6,'Saisies'!$A:$A,"<"&($B$6+7))) | D26: =IF($A26="","",SUMIFS('Saisies'!$G:$G,'Saisies'!$B:$B,$A26,'Saisies'!$H:$H,'Projets'!$E$3,'Saisies'!$A:$A,">="&$B$6,'Saisies'!$A:$A,"<"&($B$6+7))) | E26: =IF($A26="","",SUMIFS('Saisies'!$I:$I,'Saisies'!$B:$B,$A26,'Saisies'!$A:$A,">="&$B$6,'Saisies'!$A:$A,"<"&($B$6+7)))
A27: =IF('Projets'!$A9="","",'Projets'!$A9) | B27: =IF($A27="","",'Projets'!$B9) | C27: =IF($A27="","",SUMIFS('Saisies'!$G:$G,'Saisies'!$B:$B,$A27,'Saisies'!$A:$A,">="&$B$6,'Saisies'!$A:$A,"<"&($B$6+7))) | D27: =IF($A27="","",SUMIFS('Saisies'!$G:$G,'Saisies'!$B:$B,$A27,'Saisies'!$H:$H,'Projets'!$E$3,'Saisies'!$A:$A,">="&$B$6,'Saisies'!$A:$A,"<"&($B$6+7))) | E27: =IF($A27="","",SUMIFS('Saisies'!$I:$I,'Saisies'!$B:$B,$A27,'Saisies'!$A:$A,">="&$B$6,'Saisies'!$A:$A,"<"&($B$6+7)))
A28: =IF('Projets'!$A10="","",'Projets'!$A10) | B28: =IF($A28="","",'Projets'!$B10) | C28: =IF($A28="","",SUMIFS('Saisies'!$G:$G,'Saisies'!$B:$B,$A28,'Saisies'!$A:$A,">="&$B$6,'Saisies'!$A:$A,"<"&($B$6+7))) | D28: =IF($A28="","",SUMIFS('Saisies'!$G:$G,'Saisies'!$B:$B,$A28,'Saisies'!$H:$H,'Projets'!$E$3,'Saisies'!$A:$A,">="&$B$6,'Saisies'!$A:$A,"<"&($B$6+7))) | E28: =IF($A28="","",SUMIFS('Saisies'!$I:$I,'Saisies'!$B:$B,$A28,'Saisies'!$A:$A,">="&$B$6,'Saisies'!$A:$A,"<"&($B$6+7)))
A29: =IF('Projets'!$A11="","",'Projets'!$A11) | B29: =IF($A29="","",'Projets'!$B11) | C29: =IF($A29="","",SUMIFS('Saisies'!$G:$G,'Saisies'!$B:$B,$A29,'Saisies'!$A:$A,">="&$B$6,'Saisies'!$A:$A,"<"&($B$6+7))) | D29: =IF($A29="","",SUMIFS('Saisies'!$G:$G,'Saisies'!$B:$B,$A29,'Saisies'!$H:$H,'Projets'!$E$3,'Saisies'!$A:$A,">="&$B$6,'Saisies'!$A:$A,"<"&($B$6+7))) | E29: =IF($A29="","",SUMIFS('Saisies'!$I:$I,'Saisies'!$B:$B,$A29,'Saisies'!$A:$A,">="&$B$6,'Saisies'!$A:$A,"<"&($B$6+7)))
A30: =IF('Projets'!$A12="","",'Projets'!$A12) | B30: =IF($A30="","",'Projets'!$B12) | C30: =IF($A30="","",SUMIFS('Saisies'!$G:$G,'Saisies'!$B:$B,$A30,'Saisies'!$A:$A,">="&$B$6,'Saisies'!$A:$A,"<"&($B$6+7))) | D30: =IF($A30="","",SUMIFS('Saisies'!$G:$G,'Saisies'!$B:$B,$A30,'Saisies'!$H:$H,'Projets'!$E$3,'Saisies'!$A:$A,">="&$B$6,'Saisies'!$A:$A,"<"&($B$6+7))) | E30: =IF($A30="","",SUMIFS('Saisies'!$I:$I,'Saisies'!$B:$B,$A30,'Saisies'!$A:$A,">="&$B$6,'Saisies'!$A:$A,"<"&($B$6+7)))

Sheet Saisies
A1: WEEKORA · Feuille de temps | J1: sheetorial.com
A3: Saisies de temps
A4: Une ligne par bloc de travail. Heures calculées depuis début, fin et pause ; les lignes facturables prennent le taux du projet.
A6: Saisies | B6: =COUNTA($A$10:$A$200) | C6: Heures | D6: =SUM($G$10:$G$200) | E6: Montant facturable | F6: =SUM($I$10:$I$200)
A9: Date | B9: Projet | C9: Tâche | D9: Début | E9: Fin | F9: Pause (min) | G9: Heures | H9: Facturable | I9: Montant | J9: Notes
A10: 46295 | B10: Brand guide | C10: Palette de couleurs | D10: 0.375 | E10: 0.52083333 | F10: 0 | G10: =IF(OR($D10="",$E10=""),0,ROUND(MOD($E10-$D10,1)*24-N($F10)/60,2)) | H10: Oui | I10: =IF(OR($B10="",$H10<>'Projets'!$E$3),0,$G10*IFERROR(VLOOKUP($B10,'Projets'!$A$3:$C$12,3,FALSE),0))
A11: 46297 | B11: Interne | C11: Facturation | D11: 0.625 | E11: 0.66666667 | F11: 0 | G11: =IF(OR($D11="",$E11=""),0,ROUND(MOD($E11-$D11,1)*24-N($F11)/60,2)) | H11: Non | I11: =IF(OR($B11="",$H11<>'Projets'!$E$3),0,$G11*IFERROR(VLOOKUP($B11,'Projets'!$A$3:$C$12,3,FALSE),0))
A12: 46300 | B12: Refonte du site | C12: Appel de lancement | D12: 0.375 | E12: 0.41666667 | F12: 0 | G12: =IF(OR($D12="",$E12=""),0,ROUND(MOD($E12-$D12,1)*24-N($F12)/60,2)) | H12: Oui | I12: =IF(OR($B12="",$H12<>'Projets'!$E$3),0,$G12*IFERROR(VLOOKUP($B12,'Projets'!$A$3:$C$12,3,FALSE),0))
A13: 46300 | B13: Refonte du site | C13: Arborescence et wireframes | D13: 0.42708333 | E13: 0.54166667 | F13: 0 | G13: =IF(OR($D13="",$E13=""),0,ROUND(MOD($E13-$D13,1)*24-N($F13)/60,2)) | H13: Oui | I13: =IF(OR($B13="",$H13<>'Projets'!$E$3),0,$G13*IFERROR(VLOOKUP($B13,'Projets'!$A$3:$C$12,3,FALSE),0))
A14: 46300 | B14: Interne | C14: E-mails et administratif | D14: 0.58333333 | E14: 0.625 | F14: 0 | G14: =IF(OR($D14="",$E14=""),0,ROUND(MOD($E14-$D14,1)*24-N($F14)/60,2)) | H14: Non | I14: =IF(OR($B14="",$H14<>'Projets'!$E$3),0,$G14*IFERROR(VLOOKUP($B14,'Projets'!$A$3:$C$12,3,FALSE),0))
A15: 46301 | B15: Brand guide | C15: Page d’usage du logo | D15: 0.375 | E15: 0.5 | F15: 0 | G15: =IF(OR($D15="",$E15=""),0,ROUND(MOD($E15-$D15,1)*24-N($F15)/60,2)) | H15: Oui | I15: =IF(OR($B15="",$H15<>'Projets'!$E$3),0,$G15*IFERROR(VLOOKUP($B15,'Projets'!$A$3:$C$12,3,FALSE),0))
A16: 46301 | B16: Forfait support | C16: Correctif du formulaire de réservation | D16: 0.54166667 | E16: 0.60416667 | F16: 0 | G16: =IF(OR($D16="",$E16=""),0,ROUND(MOD($E16-$D16,1)*24-N($F16)/60,2)) | H16: Oui | I16: =IF(OR($B16="",$H16<>'Projets'!$E$3),0,$G16*IFERROR(VLOOKUP($B16,'Projets'!$A$3:$C$12,3,FALSE),0))
A17: 46302 | B17: Refonte du site | C17: Maquette de la page d’accueil | D17: 0.375 | E17: 0.5625 | F17: 30 | G17: =IF(OR($D17="",$E17=""),0,ROUND(MOD($E17-$D17,1)*24-N($F17)/60,2)) | H17: Oui | I17: =IF(OR($B17="",$H17<>'Projets'!$E$3),0,$G17*IFERROR(VLOOKUP($B17,'Projets'!$A$3:$C$12,3,FALSE),0))
A18: 46302 | B18: Interne | C18: Réunion d’équipe | D18: 0.625 | E18: 0.66666667 | F18: 0 | G18: =IF(OR($D18="",$E18=""),0,ROUND(MOD($E18-$D18,1)*24-N($F18)/60,2)) | H18: Non | I18: =IF(OR($B18="",$H18<>'Projets'!$E$3),0,$G18*IFERROR(VLOOKUP($B18,'Projets'!$A$3:$C$12,3,FALSE),0))
A19: 46303 | B19: Forfait support | C19: Rapport mensuel | D19: 0.39583333 | E19: 0.45833333 | F19: 0 | G19: =IF(OR($D19="",$E19=""),0,ROUND(MOD($E19-$D19,1)*24-N($F19)/60,2)) | H19: Oui | I19: =IF(OR($B19="",$H19<>'Projets'!$E$3),0,$G19*IFERROR(VLOOKUP($B19,'Projets'!$A$3:$C$12,3,FALSE),0))
A20: 46303 | B20: Brand guide | C20: Revue client | D20: 0.47916667 | E20: 0.52083333 | F20: 0 | G20: =IF(OR($D20="",$E20=""),0,ROUND(MOD($E20-$D20,1)*24-N($F20)/60,2)) | H20: Oui | I20: =IF(OR($B20="",$H20<>'Projets'!$E$3),0,$G20*IFERROR(VLOOKUP($B20,'Projets'!$A$3:$C$12,3,FALSE),0)) | J20: Modifications validées
A21: 46303 | B21: Refonte du site | C21: Page contact | D21: 0.5625 | E21: 0.70833333 | F21: 15 | G21: =IF(OR($D21="",$E21=""),0,ROUND(MOD($E21-$D21,1)*24-N($F21)/60,2)) | H21: Oui | I21: =IF(OR($B21="",$H21<>'Projets'!$E$3),0,$G21*IFERROR(VLOOKUP($B21,'Projets'!$A$3:$C$12,3,FALSE),0))
A22: 46304 | B22: Refonte du site | C22: Première série de retouches | D22: 0.375 | E22: 0.5 | F22: 0 | G22: =IF(OR($D22="",$E22=""),0,ROUND(MOD($E22-$D22,1)*24-N($F22)/60,2)) | H22: Oui | I22: =IF(OR($B22="",$H22<>'Projets'!$E$3),0,$G22*IFERROR(VLOOKUP($B22,'Projets'!$A$3:$C$12,3,FALSE),0))
A23: 46304 | B23: Interne | C23: Mise à jour du portfolio | D23: 0.54166667 | E23: 0.625 | F23: 0 | G23: =IF(OR($D23="",$E23=""),0,ROUND(MOD($E23-$D23,1)*24-N($F23)/60,2)) | H23: Non | I23: =IF(OR($B23="",$H23<>'Projets'!$E$3),0,$G23*IFERROR(VLOOKUP($B23,'Projets'!$A$3:$C$12,3,FALSE),0))
G24: =IF(OR($D24="",$E24=""),0,ROUND(MOD($E24-$D24,1)*24-N($F24)/60,2)) | I24: =IF(OR($B24="",$H24<>'Projets'!$E$3),0,$G24*IFERROR(VLOOKUP($B24,'Projets'!$A$3:$C$12,3,FALSE),0))
G25: =IF(OR($D25="",$E25=""),0,ROUND(MOD($E25-$D25,1)*24-N($F25)/60,2)) | I25: =IF(OR($B25="",$H25<>'Projets'!$E$3),0,$G25*IFERROR(VLOOKUP($B25,'Projets'!$A$3:$C$12,3,FALSE),0))
G26: =IF(OR($D26="",$E26=""),0,ROUND(MOD($E26-$D26,1)*24-N($F26)/60,2)) | I26: =IF(OR($B26="",$H26<>'Projets'!$E$3),0,$G26*IFERROR(VLOOKUP($B26,'Projets'!$A$3:$C$12,3,FALSE),0))
G27: =IF(OR($D27="",$E27=""),0,ROUND(MOD($E27-$D27,1)*24-N($F27)/60,2)) | I27: =IF(OR($B27="",$H27<>'Projets'!$E$3),0,$G27*IFERROR(VLOOKUP($B27,'Projets'!$A$3:$C$12,3,FALSE),0))
G28: =IF(OR($D28="",$E28=""),0,ROUND(MOD($E28-$D28,1)*24-N($F28)/60,2)) | I28: =IF(OR($B28="",$H28<>'Projets'!$E$3),0,$G28*IFERROR(VLOOKUP($B28,'Projets'!$A$3:$C$12,3,FALSE),0))
G29: =IF(OR($D29="",$E29=""),0,ROUND(MOD($E29-$D29,1)*24-N($F29)/60,2)) | I29: =IF(OR($B29="",$H29<>'Projets'!$E$3),0,$G29*IFERROR(VLOOKUP($B29,'Projets'!$A$3:$C$12,3,FALSE),0))
G30: =IF(OR($D30="",$E30=""),0,ROUND(MOD($E30-$D30,1)*24-N($F30)/60,2)) | I30: =IF(OR($B30="",$H30<>'Projets'!$E$3),0,$G30*IFERROR(VLOOKUP($B30,'Projets'!$A$3:$C$12,3,FALSE),0))
G31: =IF(OR($D31="",$E31=""),0,ROUND(MOD($E31-$D31,1)*24-N($F31)/60,2)) | I31: =IF(OR($B31="",$H31<>'Projets'!$E$3),0,$G31*IFERROR(VLOOKUP($B31,'Projets'!$A$3:$C$12,3,FALSE),0))
G32: =IF(OR($D32="",$E32=""),0,ROUND(MOD($E32-$D32,1)*24-N($F32)/60,2)) | I32: =IF(OR($B32="",$H32<>'Projets'!$E$3),0,$G32*IFERROR(VLOOKUP($B32,'Projets'!$A$3:$C$12,3,FALSE),0))
G33: =IF(OR($D33="",$E33=""),0,ROUND(MOD($E33-$D33,1)*24-N($F33)/60,2)) | I33: =IF(OR($B33="",$H33<>'Projets'!$E$3),0,$G33*IFERROR(VLOOKUP($B33,'Projets'!$A$3:$C$12,3,FALSE),0))
G34: =IF(OR($D34="",$E34=""),0,ROUND(MOD($E34-$D34,1)*24-N($F34)/60,2)) | I34: =IF(OR($B34="",$H34<>'Projets'!$E$3),0,$G34*IFERROR(VLOOKUP($B34,'Projets'!$A$3:$C$12,3,FALSE),0))
G35: =IF(OR($D35="",$E35=""),0,ROUND(MOD($E35-$D35,1)*24-N($F35)/60,2)) | I35: =IF(OR($B35="",$H35<>'Projets'!$E$3),0,$G35*IFERROR(VLOOKUP($B35,'Projets'!$A$3:$C$12,3,FALSE),0))
... G200: =IF(OR($D200="",$E200=""),0,ROUND(MOD($E200-$D200,1)*24-N($F200)/60,2)) | I200: =IF(OR($B200="",$H200<>'Projets'!$E$3),0,$G200*IFERROR(VLOOKUP($B200,'Projets'!$A$3:$C$12,3,FALSE),0))

Sheet Projets
A1: WEEKORA · Feuille de temps | E1: sheetorial.com
A2: Projet | B2: Client | C2: Taux horaire | E2: Facturable
A3: Refonte du site | B3: Harbor Foods | C3: 85 | E3: Oui
A4: Brand guide | B4: Pine & Co | C4: 75 | E4: Non
A5: Forfait support | B5: Oakridge Clinic | C5: 60
A6: Interne | B6: — | C6: 0
A14: Ajoutez ici vos projets et taux : la liste déroulante Projet et l’onglet Semaine suivent cette liste.
