Workbook

Sheet Minggu
A1: WEEKORA · Lembar waktu | G1: sheetorial.com
A3: Timesheet mingguan
A4: Ketik hari Senin minggu ini. Hari dan proyek dijumlahkan dari tab Entri.
A6: Awal minggu | B6: 46300 | C6: Total jam | D6: =$B$17 | E6: Porsi ditagihkan | F6: =IFERROR($C$17/$B$17,0)
E7: Jumlah ditagihkan | F7: =$E$17
A9: Hari | B9: Jam | C9: Jam ditagihkan | D9: % ditagihkan | E9: Jumlah
A10: =$B$6+0 | B10: =SUMIF('Entri'!$A:$A,$A10,'Entri'!$G:$G) | C10: =SUMIFS('Entri'!$G:$G,'Entri'!$A:$A,$A10,'Entri'!$H:$H,'Proyek'!$E$3) | D10: =IFERROR($C10/$B10,0) | E10: =SUMIF('Entri'!$A:$A,$A10,'Entri'!$I:$I)
A11: =$B$6+1 | B11: =SUMIF('Entri'!$A:$A,$A11,'Entri'!$G:$G) | C11: =SUMIFS('Entri'!$G:$G,'Entri'!$A:$A,$A11,'Entri'!$H:$H,'Proyek'!$E$3) | D11: =IFERROR($C11/$B11,0) | E11: =SUMIF('Entri'!$A:$A,$A11,'Entri'!$I:$I)
A12: =$B$6+2 | B12: =SUMIF('Entri'!$A:$A,$A12,'Entri'!$G:$G) | C12: =SUMIFS('Entri'!$G:$G,'Entri'!$A:$A,$A12,'Entri'!$H:$H,'Proyek'!$E$3) | D12: =IFERROR($C12/$B12,0) | E12: =SUMIF('Entri'!$A:$A,$A12,'Entri'!$I:$I)
A13: =$B$6+3 | B13: =SUMIF('Entri'!$A:$A,$A13,'Entri'!$G:$G) | C13: =SUMIFS('Entri'!$G:$G,'Entri'!$A:$A,$A13,'Entri'!$H:$H,'Proyek'!$E$3) | D13: =IFERROR($C13/$B13,0) | E13: =SUMIF('Entri'!$A:$A,$A13,'Entri'!$I:$I)
A14: =$B$6+4 | B14: =SUMIF('Entri'!$A:$A,$A14,'Entri'!$G:$G) | C14: =SUMIFS('Entri'!$G:$G,'Entri'!$A:$A,$A14,'Entri'!$H:$H,'Proyek'!$E$3) | D14: =IFERROR($C14/$B14,0) | E14: =SUMIF('Entri'!$A:$A,$A14,'Entri'!$I:$I)
A15: =$B$6+5 | B15: =SUMIF('Entri'!$A:$A,$A15,'Entri'!$G:$G) | C15: =SUMIFS('Entri'!$G:$G,'Entri'!$A:$A,$A15,'Entri'!$H:$H,'Proyek'!$E$3) | D15: =IFERROR($C15/$B15,0) | E15: =SUMIF('Entri'!$A:$A,$A15,'Entri'!$I:$I)
A16: =$B$6+6 | B16: =SUMIF('Entri'!$A:$A,$A16,'Entri'!$G:$G) | C16: =SUMIFS('Entri'!$G:$G,'Entri'!$A:$A,$A16,'Entri'!$H:$H,'Proyek'!$E$3) | D16: =IFERROR($C16/$B16,0) | E16: =SUMIF('Entri'!$A:$A,$A16,'Entri'!$I:$I)
A17: Total | B17: =SUM($B$10:$B$16) | C17: =SUM($C$10:$C$16) | D17: =IFERROR($C$17/$B$17,0) | E17: =SUM($E$10:$E$16)
A19: Minggu ini per proyek
A20: Proyek | B20: Klien | C20: Jam | D20: Jam ditagihkan | E20: Jumlah
A21: =IF('Proyek'!$A3="","",'Proyek'!$A3) | B21: =IF($A21="","",'Proyek'!$B3) | C21: =IF($A21="","",SUMIFS('Entri'!$G:$G,'Entri'!$B:$B,$A21,'Entri'!$A:$A,">="&$B$6,'Entri'!$A:$A,"<"&($B$6+7))) | D21: =IF($A21="","",SUMIFS('Entri'!$G:$G,'Entri'!$B:$B,$A21,'Entri'!$H:$H,'Proyek'!$E$3,'Entri'!$A:$A,">="&$B$6,'Entri'!$A:$A,"<"&($B$6+7))) | E21: =IF($A21="","",SUMIFS('Entri'!$I:$I,'Entri'!$B:$B,$A21,'Entri'!$A:$A,">="&$B$6,'Entri'!$A:$A,"<"&($B$6+7)))
A22: =IF('Proyek'!$A4="","",'Proyek'!$A4) | B22: =IF($A22="","",'Proyek'!$B4) | C22: =IF($A22="","",SUMIFS('Entri'!$G:$G,'Entri'!$B:$B,$A22,'Entri'!$A:$A,">="&$B$6,'Entri'!$A:$A,"<"&($B$6+7))) | D22: =IF($A22="","",SUMIFS('Entri'!$G:$G,'Entri'!$B:$B,$A22,'Entri'!$H:$H,'Proyek'!$E$3,'Entri'!$A:$A,">="&$B$6,'Entri'!$A:$A,"<"&($B$6+7))) | E22: =IF($A22="","",SUMIFS('Entri'!$I:$I,'Entri'!$B:$B,$A22,'Entri'!$A:$A,">="&$B$6,'Entri'!$A:$A,"<"&($B$6+7)))
A23: =IF('Proyek'!$A5="","",'Proyek'!$A5) | B23: =IF($A23="","",'Proyek'!$B5) | C23: =IF($A23="","",SUMIFS('Entri'!$G:$G,'Entri'!$B:$B,$A23,'Entri'!$A:$A,">="&$B$6,'Entri'!$A:$A,"<"&($B$6+7))) | D23: =IF($A23="","",SUMIFS('Entri'!$G:$G,'Entri'!$B:$B,$A23,'Entri'!$H:$H,'Proyek'!$E$3,'Entri'!$A:$A,">="&$B$6,'Entri'!$A:$A,"<"&($B$6+7))) | E23: =IF($A23="","",SUMIFS('Entri'!$I:$I,'Entri'!$B:$B,$A23,'Entri'!$A:$A,">="&$B$6,'Entri'!$A:$A,"<"&($B$6+7)))
A24: =IF('Proyek'!$A6="","",'Proyek'!$A6) | B24: =IF($A24="","",'Proyek'!$B6) | C24: =IF($A24="","",SUMIFS('Entri'!$G:$G,'Entri'!$B:$B,$A24,'Entri'!$A:$A,">="&$B$6,'Entri'!$A:$A,"<"&($B$6+7))) | D24: =IF($A24="","",SUMIFS('Entri'!$G:$G,'Entri'!$B:$B,$A24,'Entri'!$H:$H,'Proyek'!$E$3,'Entri'!$A:$A,">="&$B$6,'Entri'!$A:$A,"<"&($B$6+7))) | E24: =IF($A24="","",SUMIFS('Entri'!$I:$I,'Entri'!$B:$B,$A24,'Entri'!$A:$A,">="&$B$6,'Entri'!$A:$A,"<"&($B$6+7)))
A25: =IF('Proyek'!$A7="","",'Proyek'!$A7) | B25: =IF($A25="","",'Proyek'!$B7) | C25: =IF($A25="","",SUMIFS('Entri'!$G:$G,'Entri'!$B:$B,$A25,'Entri'!$A:$A,">="&$B$6,'Entri'!$A:$A,"<"&($B$6+7))) | D25: =IF($A25="","",SUMIFS('Entri'!$G:$G,'Entri'!$B:$B,$A25,'Entri'!$H:$H,'Proyek'!$E$3,'Entri'!$A:$A,">="&$B$6,'Entri'!$A:$A,"<"&($B$6+7))) | E25: =IF($A25="","",SUMIFS('Entri'!$I:$I,'Entri'!$B:$B,$A25,'Entri'!$A:$A,">="&$B$6,'Entri'!$A:$A,"<"&($B$6+7)))
A26: =IF('Proyek'!$A8="","",'Proyek'!$A8) | B26: =IF($A26="","",'Proyek'!$B8) | C26: =IF($A26="","",SUMIFS('Entri'!$G:$G,'Entri'!$B:$B,$A26,'Entri'!$A:$A,">="&$B$6,'Entri'!$A:$A,"<"&($B$6+7))) | D26: =IF($A26="","",SUMIFS('Entri'!$G:$G,'Entri'!$B:$B,$A26,'Entri'!$H:$H,'Proyek'!$E$3,'Entri'!$A:$A,">="&$B$6,'Entri'!$A:$A,"<"&($B$6+7))) | E26: =IF($A26="","",SUMIFS('Entri'!$I:$I,'Entri'!$B:$B,$A26,'Entri'!$A:$A,">="&$B$6,'Entri'!$A:$A,"<"&($B$6+7)))
A27: =IF('Proyek'!$A9="","",'Proyek'!$A9) | B27: =IF($A27="","",'Proyek'!$B9) | C27: =IF($A27="","",SUMIFS('Entri'!$G:$G,'Entri'!$B:$B,$A27,'Entri'!$A:$A,">="&$B$6,'Entri'!$A:$A,"<"&($B$6+7))) | D27: =IF($A27="","",SUMIFS('Entri'!$G:$G,'Entri'!$B:$B,$A27,'Entri'!$H:$H,'Proyek'!$E$3,'Entri'!$A:$A,">="&$B$6,'Entri'!$A:$A,"<"&($B$6+7))) | E27: =IF($A27="","",SUMIFS('Entri'!$I:$I,'Entri'!$B:$B,$A27,'Entri'!$A:$A,">="&$B$6,'Entri'!$A:$A,"<"&($B$6+7)))
A28: =IF('Proyek'!$A10="","",'Proyek'!$A10) | B28: =IF($A28="","",'Proyek'!$B10) | C28: =IF($A28="","",SUMIFS('Entri'!$G:$G,'Entri'!$B:$B,$A28,'Entri'!$A:$A,">="&$B$6,'Entri'!$A:$A,"<"&($B$6+7))) | D28: =IF($A28="","",SUMIFS('Entri'!$G:$G,'Entri'!$B:$B,$A28,'Entri'!$H:$H,'Proyek'!$E$3,'Entri'!$A:$A,">="&$B$6,'Entri'!$A:$A,"<"&($B$6+7))) | E28: =IF($A28="","",SUMIFS('Entri'!$I:$I,'Entri'!$B:$B,$A28,'Entri'!$A:$A,">="&$B$6,'Entri'!$A:$A,"<"&($B$6+7)))
A29: =IF('Proyek'!$A11="","",'Proyek'!$A11) | B29: =IF($A29="","",'Proyek'!$B11) | C29: =IF($A29="","",SUMIFS('Entri'!$G:$G,'Entri'!$B:$B,$A29,'Entri'!$A:$A,">="&$B$6,'Entri'!$A:$A,"<"&($B$6+7))) | D29: =IF($A29="","",SUMIFS('Entri'!$G:$G,'Entri'!$B:$B,$A29,'Entri'!$H:$H,'Proyek'!$E$3,'Entri'!$A:$A,">="&$B$6,'Entri'!$A:$A,"<"&($B$6+7))) | E29: =IF($A29="","",SUMIFS('Entri'!$I:$I,'Entri'!$B:$B,$A29,'Entri'!$A:$A,">="&$B$6,'Entri'!$A:$A,"<"&($B$6+7)))
A30: =IF('Proyek'!$A12="","",'Proyek'!$A12) | B30: =IF($A30="","",'Proyek'!$B12) | C30: =IF($A30="","",SUMIFS('Entri'!$G:$G,'Entri'!$B:$B,$A30,'Entri'!$A:$A,">="&$B$6,'Entri'!$A:$A,"<"&($B$6+7))) | D30: =IF($A30="","",SUMIFS('Entri'!$G:$G,'Entri'!$B:$B,$A30,'Entri'!$H:$H,'Proyek'!$E$3,'Entri'!$A:$A,">="&$B$6,'Entri'!$A:$A,"<"&($B$6+7))) | E30: =IF($A30="","",SUMIFS('Entri'!$I:$I,'Entri'!$B:$B,$A30,'Entri'!$A:$A,">="&$B$6,'Entri'!$A:$A,"<"&($B$6+7)))

Sheet Entri
A1: WEEKORA · Lembar waktu | J1: sheetorial.com
A3: Entri waktu
A4: Satu baris per blok kerja. Jam dihitung dari mulai, selesai, dan istirahat; baris yang ditagihkan memakai tarif proyek.
A6: Entri | B6: =COUNTA($A$10:$A$200) | C6: Jam | D6: =SUM($G$10:$G$200) | E6: Jumlah ditagihkan | F6: =SUM($I$10:$I$200)
A9: Tanggal | B9: Proyek | C9: Tugas | D9: Mulai | E9: Selesai | F9: Istirahat (mnt) | G9: Jam | H9: Ditagihkan | I9: Jumlah | J9: Catatan
A10: 46295 | B10: Brand guide | C10: Palet warna | D10: 0.375 | E10: 0.52083333 | F10: 0 | G10: =IF(OR($D10="",$E10=""),0,ROUND(MOD($E10-$D10,1)*24-N($F10)/60,2)) | H10: Ya | I10: =IF(OR($B10="",$H10<>'Proyek'!$E$3),0,$G10*IFERROR(VLOOKUP($B10,'Proyek'!$A$3:$C$12,3,FALSE),0))
A11: 46297 | B11: Internal | C11: Penagihan | D11: 0.625 | E11: 0.66666667 | F11: 0 | G11: =IF(OR($D11="",$E11=""),0,ROUND(MOD($E11-$D11,1)*24-N($F11)/60,2)) | H11: Tidak | I11: =IF(OR($B11="",$H11<>'Proyek'!$E$3),0,$G11*IFERROR(VLOOKUP($B11,'Proyek'!$A$3:$C$12,3,FALSE),0))
A12: 46300 | B12: Pembaruan situs web | C12: Rapat pembukaan | D12: 0.375 | E12: 0.41666667 | F12: 0 | G12: =IF(OR($D12="",$E12=""),0,ROUND(MOD($E12-$D12,1)*24-N($F12)/60,2)) | H12: Ya | I12: =IF(OR($B12="",$H12<>'Proyek'!$E$3),0,$G12*IFERROR(VLOOKUP($B12,'Proyek'!$A$3:$C$12,3,FALSE),0))
A13: 46300 | B13: Pembaruan situs web | C13: Peta situs dan wireframe | D13: 0.42708333 | E13: 0.54166667 | F13: 0 | G13: =IF(OR($D13="",$E13=""),0,ROUND(MOD($E13-$D13,1)*24-N($F13)/60,2)) | H13: Ya | I13: =IF(OR($B13="",$H13<>'Proyek'!$E$3),0,$G13*IFERROR(VLOOKUP($B13,'Proyek'!$A$3:$C$12,3,FALSE),0))
A14: 46300 | B14: Internal | C14: Email dan administrasi | D14: 0.58333333 | E14: 0.625 | F14: 0 | G14: =IF(OR($D14="",$E14=""),0,ROUND(MOD($E14-$D14,1)*24-N($F14)/60,2)) | H14: Tidak | I14: =IF(OR($B14="",$H14<>'Proyek'!$E$3),0,$G14*IFERROR(VLOOKUP($B14,'Proyek'!$A$3:$C$12,3,FALSE),0))
A15: 46301 | B15: Brand guide | C15: Halaman penggunaan logo | D15: 0.375 | E15: 0.5 | F15: 0 | G15: =IF(OR($D15="",$E15=""),0,ROUND(MOD($E15-$D15,1)*24-N($F15)/60,2)) | H15: Ya | I15: =IF(OR($B15="",$H15<>'Proyek'!$E$3),0,$G15*IFERROR(VLOOKUP($B15,'Proyek'!$A$3:$C$12,3,FALSE),0))
A16: 46301 | B16: Retainer dukungan | C16: Perbaikan formulir pemesanan | D16: 0.54166667 | E16: 0.60416667 | F16: 0 | G16: =IF(OR($D16="",$E16=""),0,ROUND(MOD($E16-$D16,1)*24-N($F16)/60,2)) | H16: Ya | I16: =IF(OR($B16="",$H16<>'Proyek'!$E$3),0,$G16*IFERROR(VLOOKUP($B16,'Proyek'!$A$3:$C$12,3,FALSE),0))
A17: 46302 | B17: Pembaruan situs web | C17: Tata letak beranda | D17: 0.375 | E17: 0.5625 | F17: 30 | G17: =IF(OR($D17="",$E17=""),0,ROUND(MOD($E17-$D17,1)*24-N($F17)/60,2)) | H17: Ya | I17: =IF(OR($B17="",$H17<>'Proyek'!$E$3),0,$G17*IFERROR(VLOOKUP($B17,'Proyek'!$A$3:$C$12,3,FALSE),0))
A18: 46302 | B18: Internal | C18: Rapat tim | D18: 0.625 | E18: 0.66666667 | F18: 0 | G18: =IF(OR($D18="",$E18=""),0,ROUND(MOD($E18-$D18,1)*24-N($F18)/60,2)) | H18: Tidak | I18: =IF(OR($B18="",$H18<>'Proyek'!$E$3),0,$G18*IFERROR(VLOOKUP($B18,'Proyek'!$A$3:$C$12,3,FALSE),0))
A19: 46303 | B19: Retainer dukungan | C19: Laporan bulanan | D19: 0.39583333 | E19: 0.45833333 | F19: 0 | G19: =IF(OR($D19="",$E19=""),0,ROUND(MOD($E19-$D19,1)*24-N($F19)/60,2)) | H19: Ya | I19: =IF(OR($B19="",$H19<>'Proyek'!$E$3),0,$G19*IFERROR(VLOOKUP($B19,'Proyek'!$A$3:$C$12,3,FALSE),0))
A20: 46303 | B20: Brand guide | C20: Tinjauan klien | D20: 0.47916667 | E20: 0.52083333 | F20: 0 | G20: =IF(OR($D20="",$E20=""),0,ROUND(MOD($E20-$D20,1)*24-N($F20)/60,2)) | H20: Ya | I20: =IF(OR($B20="",$H20<>'Proyek'!$E$3),0,$G20*IFERROR(VLOOKUP($B20,'Proyek'!$A$3:$C$12,3,FALSE),0)) | J20: Perubahan disepakati
A21: 46303 | B21: Pembaruan situs web | C21: Halaman kontak | D21: 0.5625 | E21: 0.70833333 | F21: 15 | G21: =IF(OR($D21="",$E21=""),0,ROUND(MOD($E21-$D21,1)*24-N($F21)/60,2)) | H21: Ya | I21: =IF(OR($B21="",$H21<>'Proyek'!$E$3),0,$G21*IFERROR(VLOOKUP($B21,'Proyek'!$A$3:$C$12,3,FALSE),0))
A22: 46304 | B22: Pembaruan situs web | C22: Revisi putaran 1 | D22: 0.375 | E22: 0.5 | F22: 0 | G22: =IF(OR($D22="",$E22=""),0,ROUND(MOD($E22-$D22,1)*24-N($F22)/60,2)) | H22: Ya | I22: =IF(OR($B22="",$H22<>'Proyek'!$E$3),0,$G22*IFERROR(VLOOKUP($B22,'Proyek'!$A$3:$C$12,3,FALSE),0))
A23: 46304 | B23: Internal | C23: Pembaruan portofolio | D23: 0.54166667 | E23: 0.625 | F23: 0 | G23: =IF(OR($D23="",$E23=""),0,ROUND(MOD($E23-$D23,1)*24-N($F23)/60,2)) | H23: Tidak | I23: =IF(OR($B23="",$H23<>'Proyek'!$E$3),0,$G23*IFERROR(VLOOKUP($B23,'Proyek'!$A$3:$C$12,3,FALSE),0))
G24: =IF(OR($D24="",$E24=""),0,ROUND(MOD($E24-$D24,1)*24-N($F24)/60,2)) | I24: =IF(OR($B24="",$H24<>'Proyek'!$E$3),0,$G24*IFERROR(VLOOKUP($B24,'Proyek'!$A$3:$C$12,3,FALSE),0))
G25: =IF(OR($D25="",$E25=""),0,ROUND(MOD($E25-$D25,1)*24-N($F25)/60,2)) | I25: =IF(OR($B25="",$H25<>'Proyek'!$E$3),0,$G25*IFERROR(VLOOKUP($B25,'Proyek'!$A$3:$C$12,3,FALSE),0))
G26: =IF(OR($D26="",$E26=""),0,ROUND(MOD($E26-$D26,1)*24-N($F26)/60,2)) | I26: =IF(OR($B26="",$H26<>'Proyek'!$E$3),0,$G26*IFERROR(VLOOKUP($B26,'Proyek'!$A$3:$C$12,3,FALSE),0))
G27: =IF(OR($D27="",$E27=""),0,ROUND(MOD($E27-$D27,1)*24-N($F27)/60,2)) | I27: =IF(OR($B27="",$H27<>'Proyek'!$E$3),0,$G27*IFERROR(VLOOKUP($B27,'Proyek'!$A$3:$C$12,3,FALSE),0))
G28: =IF(OR($D28="",$E28=""),0,ROUND(MOD($E28-$D28,1)*24-N($F28)/60,2)) | I28: =IF(OR($B28="",$H28<>'Proyek'!$E$3),0,$G28*IFERROR(VLOOKUP($B28,'Proyek'!$A$3:$C$12,3,FALSE),0))
G29: =IF(OR($D29="",$E29=""),0,ROUND(MOD($E29-$D29,1)*24-N($F29)/60,2)) | I29: =IF(OR($B29="",$H29<>'Proyek'!$E$3),0,$G29*IFERROR(VLOOKUP($B29,'Proyek'!$A$3:$C$12,3,FALSE),0))
G30: =IF(OR($D30="",$E30=""),0,ROUND(MOD($E30-$D30,1)*24-N($F30)/60,2)) | I30: =IF(OR($B30="",$H30<>'Proyek'!$E$3),0,$G30*IFERROR(VLOOKUP($B30,'Proyek'!$A$3:$C$12,3,FALSE),0))
G31: =IF(OR($D31="",$E31=""),0,ROUND(MOD($E31-$D31,1)*24-N($F31)/60,2)) | I31: =IF(OR($B31="",$H31<>'Proyek'!$E$3),0,$G31*IFERROR(VLOOKUP($B31,'Proyek'!$A$3:$C$12,3,FALSE),0))
G32: =IF(OR($D32="",$E32=""),0,ROUND(MOD($E32-$D32,1)*24-N($F32)/60,2)) | I32: =IF(OR($B32="",$H32<>'Proyek'!$E$3),0,$G32*IFERROR(VLOOKUP($B32,'Proyek'!$A$3:$C$12,3,FALSE),0))
G33: =IF(OR($D33="",$E33=""),0,ROUND(MOD($E33-$D33,1)*24-N($F33)/60,2)) | I33: =IF(OR($B33="",$H33<>'Proyek'!$E$3),0,$G33*IFERROR(VLOOKUP($B33,'Proyek'!$A$3:$C$12,3,FALSE),0))
G34: =IF(OR($D34="",$E34=""),0,ROUND(MOD($E34-$D34,1)*24-N($F34)/60,2)) | I34: =IF(OR($B34="",$H34<>'Proyek'!$E$3),0,$G34*IFERROR(VLOOKUP($B34,'Proyek'!$A$3:$C$12,3,FALSE),0))
G35: =IF(OR($D35="",$E35=""),0,ROUND(MOD($E35-$D35,1)*24-N($F35)/60,2)) | I35: =IF(OR($B35="",$H35<>'Proyek'!$E$3),0,$G35*IFERROR(VLOOKUP($B35,'Proyek'!$A$3:$C$12,3,FALSE),0))
... G200: =IF(OR($D200="",$E200=""),0,ROUND(MOD($E200-$D200,1)*24-N($F200)/60,2)) | I200: =IF(OR($B200="",$H200<>'Proyek'!$E$3),0,$G200*IFERROR(VLOOKUP($B200,'Proyek'!$A$3:$C$12,3,FALSE),0))

Sheet Proyek
A1: WEEKORA · Lembar waktu | E1: sheetorial.com
A2: Proyek | B2: Klien | C2: Tarif per jam | E2: Ditagihkan
A3: Pembaruan situs web | B3: Harbor Foods | C3: 1360000 | E3: Ya
A4: Brand guide | B4: Pine & Co | C4: 1200000 | E4: Tidak
A5: Retainer dukungan | B5: Oakridge Clinic | C5: 960000
A6: Internal | B6: — | C6: 0
A14: Tambahkan proyek dan tarif di sini. Dropdown Proyek dan tab Minggu mengikuti daftar ini.
