Workbook

Sheet Registro vendite
A1: SALVIX · Registro vendite | H1: sheetorial.com
A3: Registro vendite
A4: Una riga per vendita. Il prezzo arriva da Prodotti, il totale applica lo sconto.
A6: Ordini | B6: =COUNTA($A$10:$A$200) | C6: Unità | D6: =SUM($D$10:$D$200) | E6: Ricavi | F6: =SUM($G$10:$G$200) | G6: Scontrino medio | H6: =IFERROR(F6/B6,0)
A9: Data | B9: Prodotto | C9: Canale | D9: Qtà | E9: Prezzo unitario | F9: Sconto | G9: Totale | H9: Cliente
A10: 46144 | B10: Candela grande | C10: In negozio | D10: 3 | E10: =IF($B10="","",IFERROR(VLOOKUP($B10,'Prodotti'!$A$10:$B$29,2,FALSE),0)) | F10: 0 | G10: =IF(OR($D10="",$E10=""),"",$D10*$E10*(1-N($F10))) | H10: Cliente di passaggio
A11: 46145 | B11: Confezione regalo | C11: Negozio online | D11: 2 | E11: =IF($B11="","",IFERROR(VLOOKUP($B11,'Prodotti'!$A$10:$B$29,2,FALSE),0)) | F11: 0.1 | G11: =IF(OR($D11="",$E11=""),"",$D11*$E11*(1-N($F11))) | H11: R. Hale
A12: 46148 | B12: Cere profumate | C12: Banco al mercato | D12: 12 | E12: =IF($B12="","",IFERROR(VLOOKUP($B12,'Prodotti'!$A$10:$B$29,2,FALSE),0)) | F12: 0 | G12: =IF(OR($D12="",$E12=""),"",$D12*$E12*(1-N($F12))) | H12: Cliente di passaggio
A13: 46151 | B13: Diffusore | C13: Negozio online | D13: 1 | E13: =IF($B13="","",IFERROR(VLOOKUP($B13,'Prodotti'!$A$10:$B$29,2,FALSE),0)) | F13: 0 | G13: =IF(OR($D13="",$E13=""),"",$D13*$E13*(1-N($F13))) | H13: S. Ito
A14: 46156 | B14: Candela piccola | C14: Ingrosso | D14: 40 | E14: =IF($B14="","",IFERROR(VLOOKUP($B14,'Prodotti'!$A$10:$B$29,2,FALSE),0)) | F14: 0.25 | G14: =IF(OR($D14="",$E14=""),"",$D14*$E14*(1-N($F14))) | H14: Corner Gifts
A15: 46162 | B15: Olio di ricarica | C15: Ordine telefonico | D15: 4 | E15: =IF($B15="","",IFERROR(VLOOKUP($B15,'Prodotti'!$A$10:$B$29,2,FALSE),0)) | F15: 0 | G15: =IF(OR($D15="",$E15=""),"",$D15*$E15*(1-N($F15))) | H15: M. Grant
A16: 46169 | B16: Confezione regalo | C16: In negozio | D16: 1 | E16: =IF($B16="","",IFERROR(VLOOKUP($B16,'Prodotti'!$A$10:$B$29,2,FALSE),0)) | F16: 0 | G16: =IF(OR($D16="",$E16=""),"",$D16*$E16*(1-N($F16))) | H16: Cliente di passaggio
A17: 46174 | B17: Candela grande | C17: Negozio online | D17: 2 | E17: =IF($B17="","",IFERROR(VLOOKUP($B17,'Prodotti'!$A$10:$B$29,2,FALSE),0)) | F17: 0.15 | G17: =IF(OR($D17="",$E17=""),"",$D17*$E17*(1-N($F17))) | H17: P. Novak
A18: 46177 | B18: Diffusore | C18: Banco al mercato | D18: 3 | E18: =IF($B18="","",IFERROR(VLOOKUP($B18,'Prodotti'!$A$10:$B$29,2,FALSE),0)) | F18: 0 | G18: =IF(OR($D18="",$E18=""),"",$D18*$E18*(1-N($F18))) | H18: Cliente di passaggio
A19: 46183 | B19: Candela piccola | C19: In negozio | D19: 6 | E19: =IF($B19="","",IFERROR(VLOOKUP($B19,'Prodotti'!$A$10:$B$29,2,FALSE),0)) | F19: 0 | G19: =IF(OR($D19="",$E19=""),"",$D19*$E19*(1-N($F19))) | H19: Cliente di passaggio
A20: 46189 | B20: Confezione regalo | C20: Ingrosso | D20: 15 | E20: =IF($B20="","",IFERROR(VLOOKUP($B20,'Prodotti'!$A$10:$B$29,2,FALSE),0)) | F20: 0.2 | G20: =IF(OR($D20="",$E20=""),"",$D20*$E20*(1-N($F20))) | H20: Corner Gifts
A21: 46196 | B21: Cere profumate | C21: Negozio online | D21: 8 | E21: =IF($B21="","",IFERROR(VLOOKUP($B21,'Prodotti'!$A$10:$B$29,2,FALSE),0)) | F21: 0 | G21: =IF(OR($D21="",$E21=""),"",$D21*$E21*(1-N($F21))) | H21: L. Moreau
E22: =IF($B22="","",IFERROR(VLOOKUP($B22,'Prodotti'!$A$10:$B$29,2,FALSE),0)) | G22: =IF(OR($D22="",$E22=""),"",$D22*$E22*(1-N($F22)))
E23: =IF($B23="","",IFERROR(VLOOKUP($B23,'Prodotti'!$A$10:$B$29,2,FALSE),0)) | G23: =IF(OR($D23="",$E23=""),"",$D23*$E23*(1-N($F23)))
E24: =IF($B24="","",IFERROR(VLOOKUP($B24,'Prodotti'!$A$10:$B$29,2,FALSE),0)) | G24: =IF(OR($D24="",$E24=""),"",$D24*$E24*(1-N($F24)))
E25: =IF($B25="","",IFERROR(VLOOKUP($B25,'Prodotti'!$A$10:$B$29,2,FALSE),0)) | G25: =IF(OR($D25="",$E25=""),"",$D25*$E25*(1-N($F25)))
E26: =IF($B26="","",IFERROR(VLOOKUP($B26,'Prodotti'!$A$10:$B$29,2,FALSE),0)) | G26: =IF(OR($D26="",$E26=""),"",$D26*$E26*(1-N($F26)))
E27: =IF($B27="","",IFERROR(VLOOKUP($B27,'Prodotti'!$A$10:$B$29,2,FALSE),0)) | G27: =IF(OR($D27="",$E27=""),"",$D27*$E27*(1-N($F27)))
E28: =IF($B28="","",IFERROR(VLOOKUP($B28,'Prodotti'!$A$10:$B$29,2,FALSE),0)) | G28: =IF(OR($D28="",$E28=""),"",$D28*$E28*(1-N($F28)))
E29: =IF($B29="","",IFERROR(VLOOKUP($B29,'Prodotti'!$A$10:$B$29,2,FALSE),0)) | G29: =IF(OR($D29="",$E29=""),"",$D29*$E29*(1-N($F29)))
E30: =IF($B30="","",IFERROR(VLOOKUP($B30,'Prodotti'!$A$10:$B$29,2,FALSE),0)) | G30: =IF(OR($D30="",$E30=""),"",$D30*$E30*(1-N($F30)))
E31: =IF($B31="","",IFERROR(VLOOKUP($B31,'Prodotti'!$A$10:$B$29,2,FALSE),0)) | G31: =IF(OR($D31="",$E31=""),"",$D31*$E31*(1-N($F31)))
E32: =IF($B32="","",IFERROR(VLOOKUP($B32,'Prodotti'!$A$10:$B$29,2,FALSE),0)) | G32: =IF(OR($D32="",$E32=""),"",$D32*$E32*(1-N($F32)))
E33: =IF($B33="","",IFERROR(VLOOKUP($B33,'Prodotti'!$A$10:$B$29,2,FALSE),0)) | G33: =IF(OR($D33="",$E33=""),"",$D33*$E33*(1-N($F33)))
... E200: =IF($B200="","",IFERROR(VLOOKUP($B200,'Prodotti'!$A$10:$B$29,2,FALSE),0)) | G200: =IF(OR($D200="",$E200=""),"",$D200*$E200*(1-N($F200)))

Sheet Prodotti
A1: SALVIX · Registro vendite | F1: sheetorial.com
A3: Prodotti
A4: Elenca ciò che vendi con il prezzo di listino. Unità e ricavi arrivano dal registro vendite.
A9: Prodotto | B9: Prezzo di listino | C9: Unità vendute | D9: Ricavi | E9: Quota dei ricavi | F9: Ordini
A10: Candela grande | B10: 28 | C10: =IF($A10="","",SUMIF('Registro vendite'!$B:$B,$A10,'Registro vendite'!$D:$D)) | D10: =IF($A10="","",SUMIF('Registro vendite'!$B:$B,$A10,'Registro vendite'!$G:$G)) | E10: =IF($A10="","",IFERROR($D10/SUM($D$10:$D$29),0)) | F10: =IF($A10="","",COUNTIF('Registro vendite'!$B:$B,$A10))
A11: Candela piccola | B11: 14 | C11: =IF($A11="","",SUMIF('Registro vendite'!$B:$B,$A11,'Registro vendite'!$D:$D)) | D11: =IF($A11="","",SUMIF('Registro vendite'!$B:$B,$A11,'Registro vendite'!$G:$G)) | E11: =IF($A11="","",IFERROR($D11/SUM($D$10:$D$29),0)) | F11: =IF($A11="","",COUNTIF('Registro vendite'!$B:$B,$A11))
A12: Confezione regalo | B12: 45 | C12: =IF($A12="","",SUMIF('Registro vendite'!$B:$B,$A12,'Registro vendite'!$D:$D)) | D12: =IF($A12="","",SUMIF('Registro vendite'!$B:$B,$A12,'Registro vendite'!$G:$G)) | E12: =IF($A12="","",IFERROR($D12/SUM($D$10:$D$29),0)) | F12: =IF($A12="","",COUNTIF('Registro vendite'!$B:$B,$A12))
A13: Diffusore | B13: 32 | C13: =IF($A13="","",SUMIF('Registro vendite'!$B:$B,$A13,'Registro vendite'!$D:$D)) | D13: =IF($A13="","",SUMIF('Registro vendite'!$B:$B,$A13,'Registro vendite'!$G:$G)) | E13: =IF($A13="","",IFERROR($D13/SUM($D$10:$D$29),0)) | F13: =IF($A13="","",COUNTIF('Registro vendite'!$B:$B,$A13))
A14: Cere profumate | B14: 9 | C14: =IF($A14="","",SUMIF('Registro vendite'!$B:$B,$A14,'Registro vendite'!$D:$D)) | D14: =IF($A14="","",SUMIF('Registro vendite'!$B:$B,$A14,'Registro vendite'!$G:$G)) | E14: =IF($A14="","",IFERROR($D14/SUM($D$10:$D$29),0)) | F14: =IF($A14="","",COUNTIF('Registro vendite'!$B:$B,$A14))
A15: Olio di ricarica | B15: 18 | C15: =IF($A15="","",SUMIF('Registro vendite'!$B:$B,$A15,'Registro vendite'!$D:$D)) | D15: =IF($A15="","",SUMIF('Registro vendite'!$B:$B,$A15,'Registro vendite'!$G:$G)) | E15: =IF($A15="","",IFERROR($D15/SUM($D$10:$D$29),0)) | F15: =IF($A15="","",COUNTIF('Registro vendite'!$B:$B,$A15))
C16: =IF($A16="","",SUMIF('Registro vendite'!$B:$B,$A16,'Registro vendite'!$D:$D)) | D16: =IF($A16="","",SUMIF('Registro vendite'!$B:$B,$A16,'Registro vendite'!$G:$G)) | E16: =IF($A16="","",IFERROR($D16/SUM($D$10:$D$29),0)) | F16: =IF($A16="","",COUNTIF('Registro vendite'!$B:$B,$A16))
C17: =IF($A17="","",SUMIF('Registro vendite'!$B:$B,$A17,'Registro vendite'!$D:$D)) | D17: =IF($A17="","",SUMIF('Registro vendite'!$B:$B,$A17,'Registro vendite'!$G:$G)) | E17: =IF($A17="","",IFERROR($D17/SUM($D$10:$D$29),0)) | F17: =IF($A17="","",COUNTIF('Registro vendite'!$B:$B,$A17))
C18: =IF($A18="","",SUMIF('Registro vendite'!$B:$B,$A18,'Registro vendite'!$D:$D)) | D18: =IF($A18="","",SUMIF('Registro vendite'!$B:$B,$A18,'Registro vendite'!$G:$G)) | E18: =IF($A18="","",IFERROR($D18/SUM($D$10:$D$29),0)) | F18: =IF($A18="","",COUNTIF('Registro vendite'!$B:$B,$A18))
C19: =IF($A19="","",SUMIF('Registro vendite'!$B:$B,$A19,'Registro vendite'!$D:$D)) | D19: =IF($A19="","",SUMIF('Registro vendite'!$B:$B,$A19,'Registro vendite'!$G:$G)) | E19: =IF($A19="","",IFERROR($D19/SUM($D$10:$D$29),0)) | F19: =IF($A19="","",COUNTIF('Registro vendite'!$B:$B,$A19))
C20: =IF($A20="","",SUMIF('Registro vendite'!$B:$B,$A20,'Registro vendite'!$D:$D)) | D20: =IF($A20="","",SUMIF('Registro vendite'!$B:$B,$A20,'Registro vendite'!$G:$G)) | E20: =IF($A20="","",IFERROR($D20/SUM($D$10:$D$29),0)) | F20: =IF($A20="","",COUNTIF('Registro vendite'!$B:$B,$A20))
C21: =IF($A21="","",SUMIF('Registro vendite'!$B:$B,$A21,'Registro vendite'!$D:$D)) | D21: =IF($A21="","",SUMIF('Registro vendite'!$B:$B,$A21,'Registro vendite'!$G:$G)) | E21: =IF($A21="","",IFERROR($D21/SUM($D$10:$D$29),0)) | F21: =IF($A21="","",COUNTIF('Registro vendite'!$B:$B,$A21))
C22: =IF($A22="","",SUMIF('Registro vendite'!$B:$B,$A22,'Registro vendite'!$D:$D)) | D22: =IF($A22="","",SUMIF('Registro vendite'!$B:$B,$A22,'Registro vendite'!$G:$G)) | E22: =IF($A22="","",IFERROR($D22/SUM($D$10:$D$29),0)) | F22: =IF($A22="","",COUNTIF('Registro vendite'!$B:$B,$A22))
C23: =IF($A23="","",SUMIF('Registro vendite'!$B:$B,$A23,'Registro vendite'!$D:$D)) | D23: =IF($A23="","",SUMIF('Registro vendite'!$B:$B,$A23,'Registro vendite'!$G:$G)) | E23: =IF($A23="","",IFERROR($D23/SUM($D$10:$D$29),0)) | F23: =IF($A23="","",COUNTIF('Registro vendite'!$B:$B,$A23))
C24: =IF($A24="","",SUMIF('Registro vendite'!$B:$B,$A24,'Registro vendite'!$D:$D)) | D24: =IF($A24="","",SUMIF('Registro vendite'!$B:$B,$A24,'Registro vendite'!$G:$G)) | E24: =IF($A24="","",IFERROR($D24/SUM($D$10:$D$29),0)) | F24: =IF($A24="","",COUNTIF('Registro vendite'!$B:$B,$A24))
C25: =IF($A25="","",SUMIF('Registro vendite'!$B:$B,$A25,'Registro vendite'!$D:$D)) | D25: =IF($A25="","",SUMIF('Registro vendite'!$B:$B,$A25,'Registro vendite'!$G:$G)) | E25: =IF($A25="","",IFERROR($D25/SUM($D$10:$D$29),0)) | F25: =IF($A25="","",COUNTIF('Registro vendite'!$B:$B,$A25))
C26: =IF($A26="","",SUMIF('Registro vendite'!$B:$B,$A26,'Registro vendite'!$D:$D)) | D26: =IF($A26="","",SUMIF('Registro vendite'!$B:$B,$A26,'Registro vendite'!$G:$G)) | E26: =IF($A26="","",IFERROR($D26/SUM($D$10:$D$29),0)) | F26: =IF($A26="","",COUNTIF('Registro vendite'!$B:$B,$A26))
C27: =IF($A27="","",SUMIF('Registro vendite'!$B:$B,$A27,'Registro vendite'!$D:$D)) | D27: =IF($A27="","",SUMIF('Registro vendite'!$B:$B,$A27,'Registro vendite'!$G:$G)) | E27: =IF($A27="","",IFERROR($D27/SUM($D$10:$D$29),0)) | F27: =IF($A27="","",COUNTIF('Registro vendite'!$B:$B,$A27))
... C29: =IF($A29="","",SUMIF('Registro vendite'!$B:$B,$A29,'Registro vendite'!$D:$D)) | D29: =IF($A29="","",SUMIF('Registro vendite'!$B:$B,$A29,'Registro vendite'!$G:$G)) | E29: =IF($A29="","",IFERROR($D29/SUM($D$10:$D$29),0)) | F29: =IF($A29="","",COUNTIF('Registro vendite'!$B:$B,$A29))

Sheet Mensile
A1: SALVIX · Registro vendite | G1: sheetorial.com
A3: Vendite mensili vs obiettivo
A4: Imposta il primo mese e un obiettivo mensile. Il consuntivo arriva dal registro vendite.
A6: Primo mese | B6: 46023 | C6: Obiettivo mensile | D6: 2500
A9: Mese | B9: Ordini | C9: Unità | D9: Ricavi | E9: Obiettivo | F9: % dell'obiettivo | G9: Progressivo
A10: =DATE(YEAR($B$6),MONTH($B$6)+0,1) | B10: =COUNTIFS('Registro vendite'!$A:$A,">="&$A10,'Registro vendite'!$A:$A,"<"&DATE(YEAR($A10),MONTH($A10)+1,1)) | C10: =SUMIFS('Registro vendite'!$D:$D,'Registro vendite'!$A:$A,">="&$A10,'Registro vendite'!$A:$A,"<"&DATE(YEAR($A10),MONTH($A10)+1,1)) | D10: =SUMIFS('Registro vendite'!$G:$G,'Registro vendite'!$A:$A,">="&$A10,'Registro vendite'!$A:$A,"<"&DATE(YEAR($A10),MONTH($A10)+1,1)) | E10: =$D$6 | F10: =IFERROR($D10/$E10,0) | G10: =SUM($D$10:$D10)
A11: =DATE(YEAR($B$6),MONTH($B$6)+1,1) | B11: =COUNTIFS('Registro vendite'!$A:$A,">="&$A11,'Registro vendite'!$A:$A,"<"&DATE(YEAR($A11),MONTH($A11)+1,1)) | C11: =SUMIFS('Registro vendite'!$D:$D,'Registro vendite'!$A:$A,">="&$A11,'Registro vendite'!$A:$A,"<"&DATE(YEAR($A11),MONTH($A11)+1,1)) | D11: =SUMIFS('Registro vendite'!$G:$G,'Registro vendite'!$A:$A,">="&$A11,'Registro vendite'!$A:$A,"<"&DATE(YEAR($A11),MONTH($A11)+1,1)) | E11: =$D$6 | F11: =IFERROR($D11/$E11,0) | G11: =SUM($D$10:$D11)
A12: =DATE(YEAR($B$6),MONTH($B$6)+2,1) | B12: =COUNTIFS('Registro vendite'!$A:$A,">="&$A12,'Registro vendite'!$A:$A,"<"&DATE(YEAR($A12),MONTH($A12)+1,1)) | C12: =SUMIFS('Registro vendite'!$D:$D,'Registro vendite'!$A:$A,">="&$A12,'Registro vendite'!$A:$A,"<"&DATE(YEAR($A12),MONTH($A12)+1,1)) | D12: =SUMIFS('Registro vendite'!$G:$G,'Registro vendite'!$A:$A,">="&$A12,'Registro vendite'!$A:$A,"<"&DATE(YEAR($A12),MONTH($A12)+1,1)) | E12: =$D$6 | F12: =IFERROR($D12/$E12,0) | G12: =SUM($D$10:$D12)
A13: =DATE(YEAR($B$6),MONTH($B$6)+3,1) | B13: =COUNTIFS('Registro vendite'!$A:$A,">="&$A13,'Registro vendite'!$A:$A,"<"&DATE(YEAR($A13),MONTH($A13)+1,1)) | C13: =SUMIFS('Registro vendite'!$D:$D,'Registro vendite'!$A:$A,">="&$A13,'Registro vendite'!$A:$A,"<"&DATE(YEAR($A13),MONTH($A13)+1,1)) | D13: =SUMIFS('Registro vendite'!$G:$G,'Registro vendite'!$A:$A,">="&$A13,'Registro vendite'!$A:$A,"<"&DATE(YEAR($A13),MONTH($A13)+1,1)) | E13: =$D$6 | F13: =IFERROR($D13/$E13,0) | G13: =SUM($D$10:$D13)
A14: =DATE(YEAR($B$6),MONTH($B$6)+4,1) | B14: =COUNTIFS('Registro vendite'!$A:$A,">="&$A14,'Registro vendite'!$A:$A,"<"&DATE(YEAR($A14),MONTH($A14)+1,1)) | C14: =SUMIFS('Registro vendite'!$D:$D,'Registro vendite'!$A:$A,">="&$A14,'Registro vendite'!$A:$A,"<"&DATE(YEAR($A14),MONTH($A14)+1,1)) | D14: =SUMIFS('Registro vendite'!$G:$G,'Registro vendite'!$A:$A,">="&$A14,'Registro vendite'!$A:$A,"<"&DATE(YEAR($A14),MONTH($A14)+1,1)) | E14: =$D$6 | F14: =IFERROR($D14/$E14,0) | G14: =SUM($D$10:$D14)
A15: =DATE(YEAR($B$6),MONTH($B$6)+5,1) | B15: =COUNTIFS('Registro vendite'!$A:$A,">="&$A15,'Registro vendite'!$A:$A,"<"&DATE(YEAR($A15),MONTH($A15)+1,1)) | C15: =SUMIFS('Registro vendite'!$D:$D,'Registro vendite'!$A:$A,">="&$A15,'Registro vendite'!$A:$A,"<"&DATE(YEAR($A15),MONTH($A15)+1,1)) | D15: =SUMIFS('Registro vendite'!$G:$G,'Registro vendite'!$A:$A,">="&$A15,'Registro vendite'!$A:$A,"<"&DATE(YEAR($A15),MONTH($A15)+1,1)) | E15: =$D$6 | F15: =IFERROR($D15/$E15,0) | G15: =SUM($D$10:$D15)
A16: =DATE(YEAR($B$6),MONTH($B$6)+6,1) | B16: =COUNTIFS('Registro vendite'!$A:$A,">="&$A16,'Registro vendite'!$A:$A,"<"&DATE(YEAR($A16),MONTH($A16)+1,1)) | C16: =SUMIFS('Registro vendite'!$D:$D,'Registro vendite'!$A:$A,">="&$A16,'Registro vendite'!$A:$A,"<"&DATE(YEAR($A16),MONTH($A16)+1,1)) | D16: =SUMIFS('Registro vendite'!$G:$G,'Registro vendite'!$A:$A,">="&$A16,'Registro vendite'!$A:$A,"<"&DATE(YEAR($A16),MONTH($A16)+1,1)) | E16: =$D$6 | F16: =IFERROR($D16/$E16,0) | G16: =SUM($D$10:$D16)
A17: =DATE(YEAR($B$6),MONTH($B$6)+7,1) | B17: =COUNTIFS('Registro vendite'!$A:$A,">="&$A17,'Registro vendite'!$A:$A,"<"&DATE(YEAR($A17),MONTH($A17)+1,1)) | C17: =SUMIFS('Registro vendite'!$D:$D,'Registro vendite'!$A:$A,">="&$A17,'Registro vendite'!$A:$A,"<"&DATE(YEAR($A17),MONTH($A17)+1,1)) | D17: =SUMIFS('Registro vendite'!$G:$G,'Registro vendite'!$A:$A,">="&$A17,'Registro vendite'!$A:$A,"<"&DATE(YEAR($A17),MONTH($A17)+1,1)) | E17: =$D$6 | F17: =IFERROR($D17/$E17,0) | G17: =SUM($D$10:$D17)
A18: =DATE(YEAR($B$6),MONTH($B$6)+8,1) | B18: =COUNTIFS('Registro vendite'!$A:$A,">="&$A18,'Registro vendite'!$A:$A,"<"&DATE(YEAR($A18),MONTH($A18)+1,1)) | C18: =SUMIFS('Registro vendite'!$D:$D,'Registro vendite'!$A:$A,">="&$A18,'Registro vendite'!$A:$A,"<"&DATE(YEAR($A18),MONTH($A18)+1,1)) | D18: =SUMIFS('Registro vendite'!$G:$G,'Registro vendite'!$A:$A,">="&$A18,'Registro vendite'!$A:$A,"<"&DATE(YEAR($A18),MONTH($A18)+1,1)) | E18: =$D$6 | F18: =IFERROR($D18/$E18,0) | G18: =SUM($D$10:$D18)
A19: =DATE(YEAR($B$6),MONTH($B$6)+9,1) | B19: =COUNTIFS('Registro vendite'!$A:$A,">="&$A19,'Registro vendite'!$A:$A,"<"&DATE(YEAR($A19),MONTH($A19)+1,1)) | C19: =SUMIFS('Registro vendite'!$D:$D,'Registro vendite'!$A:$A,">="&$A19,'Registro vendite'!$A:$A,"<"&DATE(YEAR($A19),MONTH($A19)+1,1)) | D19: =SUMIFS('Registro vendite'!$G:$G,'Registro vendite'!$A:$A,">="&$A19,'Registro vendite'!$A:$A,"<"&DATE(YEAR($A19),MONTH($A19)+1,1)) | E19: =$D$6 | F19: =IFERROR($D19/$E19,0) | G19: =SUM($D$10:$D19)
A20: =DATE(YEAR($B$6),MONTH($B$6)+10,1) | B20: =COUNTIFS('Registro vendite'!$A:$A,">="&$A20,'Registro vendite'!$A:$A,"<"&DATE(YEAR($A20),MONTH($A20)+1,1)) | C20: =SUMIFS('Registro vendite'!$D:$D,'Registro vendite'!$A:$A,">="&$A20,'Registro vendite'!$A:$A,"<"&DATE(YEAR($A20),MONTH($A20)+1,1)) | D20: =SUMIFS('Registro vendite'!$G:$G,'Registro vendite'!$A:$A,">="&$A20,'Registro vendite'!$A:$A,"<"&DATE(YEAR($A20),MONTH($A20)+1,1)) | E20: =$D$6 | F20: =IFERROR($D20/$E20,0) | G20: =SUM($D$10:$D20)
A21: =DATE(YEAR($B$6),MONTH($B$6)+11,1) | B21: =COUNTIFS('Registro vendite'!$A:$A,">="&$A21,'Registro vendite'!$A:$A,"<"&DATE(YEAR($A21),MONTH($A21)+1,1)) | C21: =SUMIFS('Registro vendite'!$D:$D,'Registro vendite'!$A:$A,">="&$A21,'Registro vendite'!$A:$A,"<"&DATE(YEAR($A21),MONTH($A21)+1,1)) | D21: =SUMIFS('Registro vendite'!$G:$G,'Registro vendite'!$A:$A,">="&$A21,'Registro vendite'!$A:$A,"<"&DATE(YEAR($A21),MONTH($A21)+1,1)) | E21: =$D$6 | F21: =IFERROR($D21/$E21,0) | G21: =SUM($D$10:$D21)

Sheet Elenchi
A1: SALVIX · Registro vendite | D1: sheetorial.com
A2: Canale
A3: In negozio
A4: Negozio online
A5: Ordine telefonico
A6: Banco al mercato
A7: Ingrosso
A9: Modifica qui i tuoi canali di vendita, il menu Canale segue questo elenco.
