Workbook

Sheet Calendario turni
A1: SHIFTORA · Turni del personale | L1: sheetorial.com
A3: Turni settimanali del personale
A4: Inserisci il lunedì della settimana e scegli un turno per persona e giorno. Ore e copertura si calcolano.
A6: Inizio settimana | B6: 46300 | D6: Personale | E6: =COUNTA($A$10:$A$25) | F6: Ore pianificate | G6: =SUM($J$10:$J$25) | H6: Ore da contratto | I6: =SUM($K$10:$K$25)
A9: Dipendente | B9: Ruolo | C9: =$B$6+0 | D9: =$B$6+1 | E9: =$B$6+2 | F9: =$B$6+3 | G9: =$B$6+4 | H9: =$B$6+5 | I9: =$B$6+6 | J9: Ore | K9: Contratto (h) | L9: Differenza
A10: Dana Reed | B10: Coordinatrice | C10: Giornata | D10: Giornata | E10: Giornata | F10: Giornata | G10: Giornata | H10: Riposo | I10: Riposo | J10: =IF($A10="","",IFERROR(VLOOKUP(C10,'Turni'!$A$3:$E$8,5,FALSE),0)+IFERROR(VLOOKUP(D10,'Turni'!$A$3:$E$8,5,FALSE),0)+IFERROR(VLOOKUP(E10,'Turni'!$A$3:$E$8,5,FALSE),0)+IFERROR(VLOOKUP(F10,'Turni'!$A$3:$E$8,5,FALSE),0)+IFERROR(VLOOKUP(G10,'Turni'!$A$3:$E$8,5,FALSE),0)+IFERROR(VLOOKUP(H10,'Turni'!$A$3:$E$8,5,FALSE),0)+IFERROR(VLOOKUP(I10,'Turni'!$A$3:$E$8,5,FALSE),0)) | K10: 40 | L10: =IF(OR($A10="",$K10=""),"",$J10-$K10)
A11: Lee Park | B11: Infermiere | C11: Mattina | D11: Mattina | E11: Riposo | F11: Mattina | G11: Mattina | H11: Mattina | I11: Riposo | J11: =IF($A11="","",IFERROR(VLOOKUP(C11,'Turni'!$A$3:$E$8,5,FALSE),0)+IFERROR(VLOOKUP(D11,'Turni'!$A$3:$E$8,5,FALSE),0)+IFERROR(VLOOKUP(E11,'Turni'!$A$3:$E$8,5,FALSE),0)+IFERROR(VLOOKUP(F11,'Turni'!$A$3:$E$8,5,FALSE),0)+IFERROR(VLOOKUP(G11,'Turni'!$A$3:$E$8,5,FALSE),0)+IFERROR(VLOOKUP(H11,'Turni'!$A$3:$E$8,5,FALSE),0)+IFERROR(VLOOKUP(I11,'Turni'!$A$3:$E$8,5,FALSE),0)) | K11: 37.5 | L11: =IF(OR($A11="",$K11=""),"",$J11-$K11)
A12: Sam Ortiz | B12: Infermiere | C12: Pomeriggio | D12: Pomeriggio | E12: Pomeriggio | F12: Riposo | G12: Riposo | H12: Pomeriggio | I12: Pomeriggio | J12: =IF($A12="","",IFERROR(VLOOKUP(C12,'Turni'!$A$3:$E$8,5,FALSE),0)+IFERROR(VLOOKUP(D12,'Turni'!$A$3:$E$8,5,FALSE),0)+IFERROR(VLOOKUP(E12,'Turni'!$A$3:$E$8,5,FALSE),0)+IFERROR(VLOOKUP(F12,'Turni'!$A$3:$E$8,5,FALSE),0)+IFERROR(VLOOKUP(G12,'Turni'!$A$3:$E$8,5,FALSE),0)+IFERROR(VLOOKUP(H12,'Turni'!$A$3:$E$8,5,FALSE),0)+IFERROR(VLOOKUP(I12,'Turni'!$A$3:$E$8,5,FALSE),0)) | K12: 37.5 | L12: =IF(OR($A12="",$K12=""),"",$J12-$K12)
A13: Alex Kim | B13: Infermiere | C13: Notte | D13: Notte | E13: Notte | F13: Riposo | G13: Riposo | H13: Riposo | I13: Notte | J13: =IF($A13="","",IFERROR(VLOOKUP(C13,'Turni'!$A$3:$E$8,5,FALSE),0)+IFERROR(VLOOKUP(D13,'Turni'!$A$3:$E$8,5,FALSE),0)+IFERROR(VLOOKUP(E13,'Turni'!$A$3:$E$8,5,FALSE),0)+IFERROR(VLOOKUP(F13,'Turni'!$A$3:$E$8,5,FALSE),0)+IFERROR(VLOOKUP(G13,'Turni'!$A$3:$E$8,5,FALSE),0)+IFERROR(VLOOKUP(H13,'Turni'!$A$3:$E$8,5,FALSE),0)+IFERROR(VLOOKUP(I13,'Turni'!$A$3:$E$8,5,FALSE),0)) | K13: 30 | L13: =IF(OR($A13="",$K13=""),"",$J13-$K13)
A14: Robin Vale | B14: OSS | C14: Mattina | D14: Riposo | E14: Mattina | F14: Mattina | G14: Permesso | H14: Riposo | I14: Mattina | J14: =IF($A14="","",IFERROR(VLOOKUP(C14,'Turni'!$A$3:$E$8,5,FALSE),0)+IFERROR(VLOOKUP(D14,'Turni'!$A$3:$E$8,5,FALSE),0)+IFERROR(VLOOKUP(E14,'Turni'!$A$3:$E$8,5,FALSE),0)+IFERROR(VLOOKUP(F14,'Turni'!$A$3:$E$8,5,FALSE),0)+IFERROR(VLOOKUP(G14,'Turni'!$A$3:$E$8,5,FALSE),0)+IFERROR(VLOOKUP(H14,'Turni'!$A$3:$E$8,5,FALSE),0)+IFERROR(VLOOKUP(I14,'Turni'!$A$3:$E$8,5,FALSE),0)) | K14: 30 | L14: =IF(OR($A14="",$K14=""),"",$J14-$K14)
A15: Maya Lane | B15: OSS | C15: Riposo | D15: Pomeriggio | E15: Pomeriggio | F15: Pomeriggio | G15: Pomeriggio | H15: Riposo | I15: Riposo | J15: =IF($A15="","",IFERROR(VLOOKUP(C15,'Turni'!$A$3:$E$8,5,FALSE),0)+IFERROR(VLOOKUP(D15,'Turni'!$A$3:$E$8,5,FALSE),0)+IFERROR(VLOOKUP(E15,'Turni'!$A$3:$E$8,5,FALSE),0)+IFERROR(VLOOKUP(F15,'Turni'!$A$3:$E$8,5,FALSE),0)+IFERROR(VLOOKUP(G15,'Turni'!$A$3:$E$8,5,FALSE),0)+IFERROR(VLOOKUP(H15,'Turni'!$A$3:$E$8,5,FALSE),0)+IFERROR(VLOOKUP(I15,'Turni'!$A$3:$E$8,5,FALSE),0)) | K15: 30 | L15: =IF(OR($A15="",$K15=""),"",$J15-$K15)
A16: Jordan Price | B16: OSS | C16: Riposo | D16: Riposo | E16: Notte | F16: Notte | G16: Notte | H16: Notte | I16: Riposo | J16: =IF($A16="","",IFERROR(VLOOKUP(C16,'Turni'!$A$3:$E$8,5,FALSE),0)+IFERROR(VLOOKUP(D16,'Turni'!$A$3:$E$8,5,FALSE),0)+IFERROR(VLOOKUP(E16,'Turni'!$A$3:$E$8,5,FALSE),0)+IFERROR(VLOOKUP(F16,'Turni'!$A$3:$E$8,5,FALSE),0)+IFERROR(VLOOKUP(G16,'Turni'!$A$3:$E$8,5,FALSE),0)+IFERROR(VLOOKUP(H16,'Turni'!$A$3:$E$8,5,FALSE),0)+IFERROR(VLOOKUP(I16,'Turni'!$A$3:$E$8,5,FALSE),0)) | K16: 30 | L16: =IF(OR($A16="",$K16=""),"",$J16-$K16)
A17: Chris Doyle | B17: OSS | C17: Pomeriggio | D17: Mattina | E17: Riposo | F17: Pomeriggio | G17: Mattina | H17: Mattina | I17: Riposo | J17: =IF($A17="","",IFERROR(VLOOKUP(C17,'Turni'!$A$3:$E$8,5,FALSE),0)+IFERROR(VLOOKUP(D17,'Turni'!$A$3:$E$8,5,FALSE),0)+IFERROR(VLOOKUP(E17,'Turni'!$A$3:$E$8,5,FALSE),0)+IFERROR(VLOOKUP(F17,'Turni'!$A$3:$E$8,5,FALSE),0)+IFERROR(VLOOKUP(G17,'Turni'!$A$3:$E$8,5,FALSE),0)+IFERROR(VLOOKUP(H17,'Turni'!$A$3:$E$8,5,FALSE),0)+IFERROR(VLOOKUP(I17,'Turni'!$A$3:$E$8,5,FALSE),0)) | K17: 37.5 | L17: =IF(OR($A17="",$K17=""),"",$J17-$K17)
J18: =IF($A18="","",IFERROR(VLOOKUP(C18,'Turni'!$A$3:$E$8,5,FALSE),0)+IFERROR(VLOOKUP(D18,'Turni'!$A$3:$E$8,5,FALSE),0)+IFERROR(VLOOKUP(E18,'Turni'!$A$3:$E$8,5,FALSE),0)+IFERROR(VLOOKUP(F18,'Turni'!$A$3:$E$8,5,FALSE),0)+IFERROR(VLOOKUP(G18,'Turni'!$A$3:$E$8,5,FALSE),0)+IFERROR(VLOOKUP(H18,'Turni'!$A$3:$E$8,5,FALSE),0)+IFERROR(VLOOKUP(I18,'Turni'!$A$3:$E$8,5,FALSE),0)) | L18: =IF(OR($A18="",$K18=""),"",$J18-$K18)
J19: =IF($A19="","",IFERROR(VLOOKUP(C19,'Turni'!$A$3:$E$8,5,FALSE),0)+IFERROR(VLOOKUP(D19,'Turni'!$A$3:$E$8,5,FALSE),0)+IFERROR(VLOOKUP(E19,'Turni'!$A$3:$E$8,5,FALSE),0)+IFERROR(VLOOKUP(F19,'Turni'!$A$3:$E$8,5,FALSE),0)+IFERROR(VLOOKUP(G19,'Turni'!$A$3:$E$8,5,FALSE),0)+IFERROR(VLOOKUP(H19,'Turni'!$A$3:$E$8,5,FALSE),0)+IFERROR(VLOOKUP(I19,'Turni'!$A$3:$E$8,5,FALSE),0)) | L19: =IF(OR($A19="",$K19=""),"",$J19-$K19)
J20: =IF($A20="","",IFERROR(VLOOKUP(C20,'Turni'!$A$3:$E$8,5,FALSE),0)+IFERROR(VLOOKUP(D20,'Turni'!$A$3:$E$8,5,FALSE),0)+IFERROR(VLOOKUP(E20,'Turni'!$A$3:$E$8,5,FALSE),0)+IFERROR(VLOOKUP(F20,'Turni'!$A$3:$E$8,5,FALSE),0)+IFERROR(VLOOKUP(G20,'Turni'!$A$3:$E$8,5,FALSE),0)+IFERROR(VLOOKUP(H20,'Turni'!$A$3:$E$8,5,FALSE),0)+IFERROR(VLOOKUP(I20,'Turni'!$A$3:$E$8,5,FALSE),0)) | L20: =IF(OR($A20="",$K20=""),"",$J20-$K20)
J21: =IF($A21="","",IFERROR(VLOOKUP(C21,'Turni'!$A$3:$E$8,5,FALSE),0)+IFERROR(VLOOKUP(D21,'Turni'!$A$3:$E$8,5,FALSE),0)+IFERROR(VLOOKUP(E21,'Turni'!$A$3:$E$8,5,FALSE),0)+IFERROR(VLOOKUP(F21,'Turni'!$A$3:$E$8,5,FALSE),0)+IFERROR(VLOOKUP(G21,'Turni'!$A$3:$E$8,5,FALSE),0)+IFERROR(VLOOKUP(H21,'Turni'!$A$3:$E$8,5,FALSE),0)+IFERROR(VLOOKUP(I21,'Turni'!$A$3:$E$8,5,FALSE),0)) | L21: =IF(OR($A21="",$K21=""),"",$J21-$K21)
J22: =IF($A22="","",IFERROR(VLOOKUP(C22,'Turni'!$A$3:$E$8,5,FALSE),0)+IFERROR(VLOOKUP(D22,'Turni'!$A$3:$E$8,5,FALSE),0)+IFERROR(VLOOKUP(E22,'Turni'!$A$3:$E$8,5,FALSE),0)+IFERROR(VLOOKUP(F22,'Turni'!$A$3:$E$8,5,FALSE),0)+IFERROR(VLOOKUP(G22,'Turni'!$A$3:$E$8,5,FALSE),0)+IFERROR(VLOOKUP(H22,'Turni'!$A$3:$E$8,5,FALSE),0)+IFERROR(VLOOKUP(I22,'Turni'!$A$3:$E$8,5,FALSE),0)) | L22: =IF(OR($A22="",$K22=""),"",$J22-$K22)
J23: =IF($A23="","",IFERROR(VLOOKUP(C23,'Turni'!$A$3:$E$8,5,FALSE),0)+IFERROR(VLOOKUP(D23,'Turni'!$A$3:$E$8,5,FALSE),0)+IFERROR(VLOOKUP(E23,'Turni'!$A$3:$E$8,5,FALSE),0)+IFERROR(VLOOKUP(F23,'Turni'!$A$3:$E$8,5,FALSE),0)+IFERROR(VLOOKUP(G23,'Turni'!$A$3:$E$8,5,FALSE),0)+IFERROR(VLOOKUP(H23,'Turni'!$A$3:$E$8,5,FALSE),0)+IFERROR(VLOOKUP(I23,'Turni'!$A$3:$E$8,5,FALSE),0)) | L23: =IF(OR($A23="",$K23=""),"",$J23-$K23)
J24: =IF($A24="","",IFERROR(VLOOKUP(C24,'Turni'!$A$3:$E$8,5,FALSE),0)+IFERROR(VLOOKUP(D24,'Turni'!$A$3:$E$8,5,FALSE),0)+IFERROR(VLOOKUP(E24,'Turni'!$A$3:$E$8,5,FALSE),0)+IFERROR(VLOOKUP(F24,'Turni'!$A$3:$E$8,5,FALSE),0)+IFERROR(VLOOKUP(G24,'Turni'!$A$3:$E$8,5,FALSE),0)+IFERROR(VLOOKUP(H24,'Turni'!$A$3:$E$8,5,FALSE),0)+IFERROR(VLOOKUP(I24,'Turni'!$A$3:$E$8,5,FALSE),0)) | L24: =IF(OR($A24="",$K24=""),"",$J24-$K24)
J25: =IF($A25="","",IFERROR(VLOOKUP(C25,'Turni'!$A$3:$E$8,5,FALSE),0)+IFERROR(VLOOKUP(D25,'Turni'!$A$3:$E$8,5,FALSE),0)+IFERROR(VLOOKUP(E25,'Turni'!$A$3:$E$8,5,FALSE),0)+IFERROR(VLOOKUP(F25,'Turni'!$A$3:$E$8,5,FALSE),0)+IFERROR(VLOOKUP(G25,'Turni'!$A$3:$E$8,5,FALSE),0)+IFERROR(VLOOKUP(H25,'Turni'!$A$3:$E$8,5,FALSE),0)+IFERROR(VLOOKUP(I25,'Turni'!$A$3:$E$8,5,FALSE),0)) | L25: =IF(OR($A25="",$K25=""),"",$J25-$K25)
A28: Copertura per turno
A29: Turno | B29: Necessari | C29: =C$9 | D29: =D$9 | E29: =E$9 | F29: =F$9 | G29: =G$9 | H29: =H$9 | I29: =I$9
A30: ='Turni'!$A3 | B30: 2 | C30: =COUNTIF(C$10:C$25,$A30) | D30: =COUNTIF(D$10:D$25,$A30) | E30: =COUNTIF(E$10:E$25,$A30) | F30: =COUNTIF(F$10:F$25,$A30) | G30: =COUNTIF(G$10:G$25,$A30) | H30: =COUNTIF(H$10:H$25,$A30) | I30: =COUNTIF(I$10:I$25,$A30)
A31: ='Turni'!$A4 | B31: 2 | C31: =COUNTIF(C$10:C$25,$A31) | D31: =COUNTIF(D$10:D$25,$A31) | E31: =COUNTIF(E$10:E$25,$A31) | F31: =COUNTIF(F$10:F$25,$A31) | G31: =COUNTIF(G$10:G$25,$A31) | H31: =COUNTIF(H$10:H$25,$A31) | I31: =COUNTIF(I$10:I$25,$A31)
A32: ='Turni'!$A5 | B32: 1 | C32: =COUNTIF(C$10:C$25,$A32) | D32: =COUNTIF(D$10:D$25,$A32) | E32: =COUNTIF(E$10:E$25,$A32) | F32: =COUNTIF(F$10:F$25,$A32) | G32: =COUNTIF(G$10:G$25,$A32) | H32: =COUNTIF(H$10:H$25,$A32) | I32: =COUNTIF(I$10:I$25,$A32)
A33: ='Turni'!$A6 | B33: 1 | C33: =COUNTIF(C$10:C$25,$A33) | D33: =COUNTIF(D$10:D$25,$A33) | E33: =COUNTIF(E$10:E$25,$A33) | F33: =COUNTIF(F$10:F$25,$A33) | G33: =COUNTIF(G$10:G$25,$A33) | H33: =COUNTIF(H$10:H$25,$A33) | I33: =COUNTIF(I$10:I$25,$A33)

Sheet Turni
A1: SHIFTORA · Turni del personale | E1: sheetorial.com
A2: Turno | B2: Inizio | C2: Fine | D2: Pausa (min) | E2: Ore retribuite
A3: Mattina | B3: 0.25 | C3: 0.58333333 | D3: 30 | E3: =IF(OR($B3="",$C3=""),0,ROUND(MOD($C3-$B3,1)*24-N($D3)/60,2))
A4: Pomeriggio | B4: 0.58333333 | C4: 0.91666667 | D4: 30 | E4: =IF(OR($B4="",$C4=""),0,ROUND(MOD($C4-$B4,1)*24-N($D4)/60,2))
A5: Notte | B5: 0.91666667 | C5: 0.25 | D5: 30 | E5: =IF(OR($B5="",$C5=""),0,ROUND(MOD($C5-$B5,1)*24-N($D5)/60,2))
A6: Giornata | B6: 0.375 | C6: 0.72916667 | D6: 30 | E6: =IF(OR($B6="",$C6=""),0,ROUND(MOD($C6-$B6,1)*24-N($D6)/60,2))
A7: Riposo | E7: =IF(OR($B7="",$C7=""),0,ROUND(MOD($C7-$B7,1)*24-N($D7)/60,2))
A8: Permesso | E8: =IF(OR($B8="",$C8=""),0,ROUND(MOD($C8-$B8,1)*24-N($D8)/60,2))
A10: Rinomina i turni o cambiane gli orari qui. Riposo e Permesso contano zero ore; lasciali nelle righe 7 e 8.
