Workbook

Sheet パイプライン
A1: PIPENZA · 営業パイプライン | J1: sheetorial.com
A3: 営業パイプライン
A4: 案件1件につき1行。確度はステージに連動し、加重金額 = 金額 x 確度。
A6: 進行中の案件 | B6: =COUNTA($A$10:$A$150)-COUNTIF($D$10:$D$150,'ステージ'!$A$15)-COUNTIF($D$10:$D$150,'ステージ'!$A$16) | C6: 進行中のパイプライン | D6: =SUM('ステージ'!$D$10:$D$14) | E6: 加重 | F6: =SUM('ステージ'!$E$10:$E$14) | G6: 成約 | H6: ='ステージ'!$D$15
A9: 案件 | B9: 取引先 | C9: 担当 | D9: ステージ | E9: 金額 | F9: 確度 | G9: 加重 | H9: 成約予定日 | I9: 次のステップ | J9: 成約までの日数
A10: 年間ライセンス | B10: Harbor Foods | C10: Dana | D10: 交渉 | E10: 18000 | F10: =IF($D10="","",IFERROR(VLOOKUP($D10,'ステージ'!$A$10:$B$16,2,FALSE),0)) | G10: =IF(OR($E10="",$F10=""),"",$E10*$F10) | H10: 46218 | I10: 最終条件を送付 | J10: =IF($H10="","",$H10-TODAY())
A11: パイロット案件 | B11: Pine & Co | C11: Lee | D11: 提案 | E11: 7500 | F11: =IF($D11="","",IFERROR(VLOOKUP($D11,'ステージ'!$A$10:$B$16,2,FALSE),0)) | G11: =IF(OR($E11="",$F11=""),"",$E11*$F11) | H11: 46233 | I11: 提案内容の確認ミーティング | J11: =IF($H11="","",$H11-TODAY())
A12: チーム展開 | B12: Brightline Ltd | C12: サム | D12: デモ | E12: 24000 | F12: =IF($D12="","",IFERROR(VLOOKUP($D12,'ステージ'!$A$10:$B$16,2,FALSE),0)) | G12: =IF(OR($E12="",$F12=""),"",$E12*$F12) | H12: 46254 | I12: 経理向けデモ | J12: =IF($H12="","",$H12-TODAY())
A13: サポート更新 | B13: Oakridge Clinic | C13: Dana | D13: 成約 | E13: 4200 | F13: =IF($D13="","",IFERROR(VLOOKUP($D13,'ステージ'!$A$10:$B$16,2,FALSE),0)) | G13: =IF(OR($E13="",$F13=""),"",$E13*$F13) | H13: 46193 | J13: =IF($H13="","",$H13-TODAY())
A14: アップグレード | B14: Summit Retail | C14: アレックス | D14: ヒアリング | E14: 9600 | F14: =IF($D14="","",IFERROR(VLOOKUP($D14,'ステージ'!$A$10:$B$16,2,FALSE),0)) | G14: =IF(OR($E14="",$F14=""),"",$E14*$F14) | H14: 46275 | I14: 課題ヒアリング | J14: =IF($H14="","",$H14-TODAY())
A15: 新拠点 | B15: Cedar Logistics | C15: Lee | D15: 見込み発掘 | E15: 15000 | F15: =IF($D15="","",IFERROR(VLOOKUP($D15,'ステージ'!$A$10:$B$16,2,FALSE),0)) | G15: =IF(OR($E15="",$F15=""),"",$E15*$F15) | H15: 46296 | I15: 紹介メール | J15: =IF($H15="","",$H15-TODAY())
A16: 追加ライセンス | B16: Maple Dental | C16: サム | D16: 提案 | E16: 5400 | F16: =IF($D16="","",IFERROR(VLOOKUP($D16,'ステージ'!$A$10:$B$16,2,FALSE),0)) | G16: =IF(OR($E16="",$F16=""),"",$E16*$F16) | H16: 46228 | I16: 質問に回答 | J16: =IF($H16="","",$H16-TODAY())
A17: 年間ライセンス | B17: Redfern Studio | C17: アレックス | D17: 失注 | E17: 8800 | F17: =IF($D17="","",IFERROR(VLOOKUP($D17,'ステージ'!$A$10:$B$16,2,FALSE),0)) | G17: =IF(OR($E17="",$F17=""),"",$E17*$F17) | H17: 46185 | I17: 競合を選択 | J17: =IF($H17="","",$H17-TODAY())
A18: 研修パック | B18: Atlas Fitness | C18: Dana | D18: 交渉 | E18: 3600 | F18: =IF($D18="","",IFERROR(VLOOKUP($D18,'ステージ'!$A$10:$B$16,2,FALSE),0)) | G18: =IF(OR($E18="",$F18=""),"",$E18*$F18) | H18: 46211 | I18: 開始日を確認 | J18: =IF($H18="","",$H18-TODAY())
A19: システム連携 | B19: Northgate Labs | C19: Lee | D19: デモ | E19: 12500 | F19: =IF($D19="","",IFERROR(VLOOKUP($D19,'ステージ'!$A$10:$B$16,2,FALSE),0)) | G19: =IF(OR($E19="",$F19=""),"",$E19*$F19) | H19: 46262 | I19: 技術デモ | J19: =IF($H19="","",$H19-TODAY())
F20: =IF($D20="","",IFERROR(VLOOKUP($D20,'ステージ'!$A$10:$B$16,2,FALSE),0)) | G20: =IF(OR($E20="",$F20=""),"",$E20*$F20) | J20: =IF($H20="","",$H20-TODAY())
F21: =IF($D21="","",IFERROR(VLOOKUP($D21,'ステージ'!$A$10:$B$16,2,FALSE),0)) | G21: =IF(OR($E21="",$F21=""),"",$E21*$F21) | J21: =IF($H21="","",$H21-TODAY())
F22: =IF($D22="","",IFERROR(VLOOKUP($D22,'ステージ'!$A$10:$B$16,2,FALSE),0)) | G22: =IF(OR($E22="",$F22=""),"",$E22*$F22) | J22: =IF($H22="","",$H22-TODAY())
F23: =IF($D23="","",IFERROR(VLOOKUP($D23,'ステージ'!$A$10:$B$16,2,FALSE),0)) | G23: =IF(OR($E23="",$F23=""),"",$E23*$F23) | J23: =IF($H23="","",$H23-TODAY())
F24: =IF($D24="","",IFERROR(VLOOKUP($D24,'ステージ'!$A$10:$B$16,2,FALSE),0)) | G24: =IF(OR($E24="",$F24=""),"",$E24*$F24) | J24: =IF($H24="","",$H24-TODAY())
F25: =IF($D25="","",IFERROR(VLOOKUP($D25,'ステージ'!$A$10:$B$16,2,FALSE),0)) | G25: =IF(OR($E25="",$F25=""),"",$E25*$F25) | J25: =IF($H25="","",$H25-TODAY())
F26: =IF($D26="","",IFERROR(VLOOKUP($D26,'ステージ'!$A$10:$B$16,2,FALSE),0)) | G26: =IF(OR($E26="",$F26=""),"",$E26*$F26) | J26: =IF($H26="","",$H26-TODAY())
F27: =IF($D27="","",IFERROR(VLOOKUP($D27,'ステージ'!$A$10:$B$16,2,FALSE),0)) | G27: =IF(OR($E27="",$F27=""),"",$E27*$F27) | J27: =IF($H27="","",$H27-TODAY())
F28: =IF($D28="","",IFERROR(VLOOKUP($D28,'ステージ'!$A$10:$B$16,2,FALSE),0)) | G28: =IF(OR($E28="",$F28=""),"",$E28*$F28) | J28: =IF($H28="","",$H28-TODAY())
F29: =IF($D29="","",IFERROR(VLOOKUP($D29,'ステージ'!$A$10:$B$16,2,FALSE),0)) | G29: =IF(OR($E29="",$F29=""),"",$E29*$F29) | J29: =IF($H29="","",$H29-TODAY())
F30: =IF($D30="","",IFERROR(VLOOKUP($D30,'ステージ'!$A$10:$B$16,2,FALSE),0)) | G30: =IF(OR($E30="",$F30=""),"",$E30*$F30) | J30: =IF($H30="","",$H30-TODAY())
F31: =IF($D31="","",IFERROR(VLOOKUP($D31,'ステージ'!$A$10:$B$16,2,FALSE),0)) | G31: =IF(OR($E31="",$F31=""),"",$E31*$F31) | J31: =IF($H31="","",$H31-TODAY())
... F150: =IF($D150="","",IFERROR(VLOOKUP($D150,'ステージ'!$A$10:$B$16,2,FALSE),0)) | G150: =IF(OR($E150="",$F150=""),"",$E150*$F150) | J150: =IF($H150="","",$H150-TODAY())

Sheet ステージ
A1: PIPENZA · 営業パイプライン | E1: sheetorial.com
A3: ステージと成約確度
A4: 各ステージの確度を設定。案件数・金額・加重金額はパイプラインから計算。
A9: ステージ | B9: 確度 | C9: 案件数 | D9: パイプライン金額 | E9: 加重金額
A10: 見込み発掘 | B10: 0.1 | C10: =COUNTIF('パイプライン'!$D:$D,$A10) | D10: =SUMIF('パイプライン'!$D:$D,$A10,'パイプライン'!$E:$E) | E10: =SUMIF('パイプライン'!$D:$D,$A10,'パイプライン'!$G:$G)
A11: ヒアリング | B11: 0.2 | C11: =COUNTIF('パイプライン'!$D:$D,$A11) | D11: =SUMIF('パイプライン'!$D:$D,$A11,'パイプライン'!$E:$E) | E11: =SUMIF('パイプライン'!$D:$D,$A11,'パイプライン'!$G:$G)
A12: デモ | B12: 0.4 | C12: =COUNTIF('パイプライン'!$D:$D,$A12) | D12: =SUMIF('パイプライン'!$D:$D,$A12,'パイプライン'!$E:$E) | E12: =SUMIF('パイプライン'!$D:$D,$A12,'パイプライン'!$G:$G)
A13: 提案 | B13: 0.6 | C13: =COUNTIF('パイプライン'!$D:$D,$A13) | D13: =SUMIF('パイプライン'!$D:$D,$A13,'パイプライン'!$E:$E) | E13: =SUMIF('パイプライン'!$D:$D,$A13,'パイプライン'!$G:$G)
A14: 交渉 | B14: 0.8 | C14: =COUNTIF('パイプライン'!$D:$D,$A14) | D14: =SUMIF('パイプライン'!$D:$D,$A14,'パイプライン'!$E:$E) | E14: =SUMIF('パイプライン'!$D:$D,$A14,'パイプライン'!$G:$G)
A15: 成約 | B15: 1 | C15: =COUNTIF('パイプライン'!$D:$D,$A15) | D15: =SUMIF('パイプライン'!$D:$D,$A15,'パイプライン'!$E:$E) | E15: =SUMIF('パイプライン'!$D:$D,$A15,'パイプライン'!$G:$G)
A16: 失注 | B16: 0 | C16: =COUNTIF('パイプライン'!$D:$D,$A16) | D16: =SUMIF('パイプライン'!$D:$D,$A16,'パイプライン'!$E:$E) | E16: =SUMIF('パイプライン'!$D:$D,$A16,'パイプライン'!$G:$G)
A18: 成約と失注を最後の2ステージに。進行中の合計からは除外されます。

Sheet 予測
A1: PIPENZA · 営業パイプライン | D1: sheetorial.com
A3: 成約予定月別の加重予測
A4: 進行中の案件を成約予定月ごとに集計。成約・失注は除外します。
A6: 開始月 | B6: 46204
A9: 月 | B9: 進行中の案件 | C9: パイプライン金額 | D9: 加重金額
A10: =DATE(YEAR($B$6),MONTH($B$6)+0,1) | B10: =COUNTIFS('パイプライン'!$H:$H,">="&$A10,'パイプライン'!$H:$H,"<"&DATE(YEAR($A10),MONTH($A10)+1,1),'パイプライン'!$D:$D,"<>"&'ステージ'!$A$15,'パイプライン'!$D:$D,"<>"&'ステージ'!$A$16) | C10: =SUMIFS('パイプライン'!$E:$E,'パイプライン'!$H:$H,">="&$A10,'パイプライン'!$H:$H,"<"&DATE(YEAR($A10),MONTH($A10)+1,1),'パイプライン'!$D:$D,"<>"&'ステージ'!$A$15,'パイプライン'!$D:$D,"<>"&'ステージ'!$A$16) | D10: =SUMIFS('パイプライン'!$G:$G,'パイプライン'!$H:$H,">="&$A10,'パイプライン'!$H:$H,"<"&DATE(YEAR($A10),MONTH($A10)+1,1),'パイプライン'!$D:$D,"<>"&'ステージ'!$A$15,'パイプライン'!$D:$D,"<>"&'ステージ'!$A$16)
A11: =DATE(YEAR($B$6),MONTH($B$6)+1,1) | B11: =COUNTIFS('パイプライン'!$H:$H,">="&$A11,'パイプライン'!$H:$H,"<"&DATE(YEAR($A11),MONTH($A11)+1,1),'パイプライン'!$D:$D,"<>"&'ステージ'!$A$15,'パイプライン'!$D:$D,"<>"&'ステージ'!$A$16) | C11: =SUMIFS('パイプライン'!$E:$E,'パイプライン'!$H:$H,">="&$A11,'パイプライン'!$H:$H,"<"&DATE(YEAR($A11),MONTH($A11)+1,1),'パイプライン'!$D:$D,"<>"&'ステージ'!$A$15,'パイプライン'!$D:$D,"<>"&'ステージ'!$A$16) | D11: =SUMIFS('パイプライン'!$G:$G,'パイプライン'!$H:$H,">="&$A11,'パイプライン'!$H:$H,"<"&DATE(YEAR($A11),MONTH($A11)+1,1),'パイプライン'!$D:$D,"<>"&'ステージ'!$A$15,'パイプライン'!$D:$D,"<>"&'ステージ'!$A$16)
A12: =DATE(YEAR($B$6),MONTH($B$6)+2,1) | B12: =COUNTIFS('パイプライン'!$H:$H,">="&$A12,'パイプライン'!$H:$H,"<"&DATE(YEAR($A12),MONTH($A12)+1,1),'パイプライン'!$D:$D,"<>"&'ステージ'!$A$15,'パイプライン'!$D:$D,"<>"&'ステージ'!$A$16) | C12: =SUMIFS('パイプライン'!$E:$E,'パイプライン'!$H:$H,">="&$A12,'パイプライン'!$H:$H,"<"&DATE(YEAR($A12),MONTH($A12)+1,1),'パイプライン'!$D:$D,"<>"&'ステージ'!$A$15,'パイプライン'!$D:$D,"<>"&'ステージ'!$A$16) | D12: =SUMIFS('パイプライン'!$G:$G,'パイプライン'!$H:$H,">="&$A12,'パイプライン'!$H:$H,"<"&DATE(YEAR($A12),MONTH($A12)+1,1),'パイプライン'!$D:$D,"<>"&'ステージ'!$A$15,'パイプライン'!$D:$D,"<>"&'ステージ'!$A$16)
A13: =DATE(YEAR($B$6),MONTH($B$6)+3,1) | B13: =COUNTIFS('パイプライン'!$H:$H,">="&$A13,'パイプライン'!$H:$H,"<"&DATE(YEAR($A13),MONTH($A13)+1,1),'パイプライン'!$D:$D,"<>"&'ステージ'!$A$15,'パイプライン'!$D:$D,"<>"&'ステージ'!$A$16) | C13: =SUMIFS('パイプライン'!$E:$E,'パイプライン'!$H:$H,">="&$A13,'パイプライン'!$H:$H,"<"&DATE(YEAR($A13),MONTH($A13)+1,1),'パイプライン'!$D:$D,"<>"&'ステージ'!$A$15,'パイプライン'!$D:$D,"<>"&'ステージ'!$A$16) | D13: =SUMIFS('パイプライン'!$G:$G,'パイプライン'!$H:$H,">="&$A13,'パイプライン'!$H:$H,"<"&DATE(YEAR($A13),MONTH($A13)+1,1),'パイプライン'!$D:$D,"<>"&'ステージ'!$A$15,'パイプライン'!$D:$D,"<>"&'ステージ'!$A$16)
A14: =DATE(YEAR($B$6),MONTH($B$6)+4,1) | B14: =COUNTIFS('パイプライン'!$H:$H,">="&$A14,'パイプライン'!$H:$H,"<"&DATE(YEAR($A14),MONTH($A14)+1,1),'パイプライン'!$D:$D,"<>"&'ステージ'!$A$15,'パイプライン'!$D:$D,"<>"&'ステージ'!$A$16) | C14: =SUMIFS('パイプライン'!$E:$E,'パイプライン'!$H:$H,">="&$A14,'パイプライン'!$H:$H,"<"&DATE(YEAR($A14),MONTH($A14)+1,1),'パイプライン'!$D:$D,"<>"&'ステージ'!$A$15,'パイプライン'!$D:$D,"<>"&'ステージ'!$A$16) | D14: =SUMIFS('パイプライン'!$G:$G,'パイプライン'!$H:$H,">="&$A14,'パイプライン'!$H:$H,"<"&DATE(YEAR($A14),MONTH($A14)+1,1),'パイプライン'!$D:$D,"<>"&'ステージ'!$A$15,'パイプライン'!$D:$D,"<>"&'ステージ'!$A$16)
A15: =DATE(YEAR($B$6),MONTH($B$6)+5,1) | B15: =COUNTIFS('パイプライン'!$H:$H,">="&$A15,'パイプライン'!$H:$H,"<"&DATE(YEAR($A15),MONTH($A15)+1,1),'パイプライン'!$D:$D,"<>"&'ステージ'!$A$15,'パイプライン'!$D:$D,"<>"&'ステージ'!$A$16) | C15: =SUMIFS('パイプライン'!$E:$E,'パイプライン'!$H:$H,">="&$A15,'パイプライン'!$H:$H,"<"&DATE(YEAR($A15),MONTH($A15)+1,1),'パイプライン'!$D:$D,"<>"&'ステージ'!$A$15,'パイプライン'!$D:$D,"<>"&'ステージ'!$A$16) | D15: =SUMIFS('パイプライン'!$G:$G,'パイプライン'!$H:$H,">="&$A15,'パイプライン'!$H:$H,"<"&DATE(YEAR($A15),MONTH($A15)+1,1),'パイプライン'!$D:$D,"<>"&'ステージ'!$A$15,'パイプライン'!$D:$D,"<>"&'ステージ'!$A$16)
A16: 合計 | B16: =SUM($B$10:$B$15) | C16: =SUM($C$10:$C$15) | D16: =SUM($D$10:$D$15)
