Workbook

Sheet 契約
A1: POLIXA · 保険手数料管理表 | L1: sheetorial.com
A3: 契約別の手数料
A4: 契約1件につき1行。見込み手数料 = 保険料 x 保険会社のレート。支払われた額を入力。
A6: 契約 | B6: =COUNTA($A$10:$A$150) | C6: 見込み | D6: =SUM($I$10:$I$150) | E6: 受領額 | F6: =SUM($J$10:$J$150) | G6: 未回収 | H6: =SUM($K$10:$K$150)
A9: 証券番号 | B9: 顧客 | C9: 保険会社 | D9: 種目 | E9: 種類 | F9: 始期日 | G9: 保険料 | H9: レート | I9: 見込み | J9: 受領額 | K9: 差額 | L9: 支払日
A10: P-1001 | B10: J. Morales | C10: 保険会社A | D10: 自動車 | E10: 新規 | F10: 46034 | G10: 1450 | H10: =IF(OR($C10="",$E10=""),"",IFERROR(VLOOKUP($C10,'保険会社別レート'!$A$10:$C$21,IF($E10='リスト'!$B$3,2,3),FALSE),0)) | I10: =IF(OR($G10="",$H10=""),"",$G10*$H10) | J10: 217.5 | K10: =IF($I10="","",$I10-N($J10)) | L10: 46068
A11: P-1002 | B11: Greenway Cafe | C11: 保険会社B | D11: 企業 | E11: 新規 | F11: 46050 | G11: 6200 | H11: =IF(OR($C11="",$E11=""),"",IFERROR(VLOOKUP($C11,'保険会社別レート'!$A$10:$C$21,IF($E11='リスト'!$B$3,2,3),FALSE),0)) | I11: =IF(OR($G11="",$H11=""),"",$G11*$H11) | J11: 744 | K11: =IF($I11="","",$I11-N($J11)) | L11: 46082
A12: P-1003 | B12: R. Patel | C12: 保険会社C | D12: 火災 | E12: 更新 | F12: 46056 | G12: 1980 | H12: =IF(OR($C12="",$E12=""),"",IFERROR(VLOOKUP($C12,'保険会社別レート'!$A$10:$C$21,IF($E12='リスト'!$B$3,2,3),FALSE),0)) | I12: =IF(OR($G12="",$H12=""),"",$G12*$H12) | J12: 138.6 | K12: =IF($I12="","",$I12-N($J12)) | L12: 46091
A13: P-1004 | B13: L. Chen | C13: 保険会社D | D13: 生命 | E13: 新規 | F13: 46073 | G13: 2400 | H13: =IF(OR($C13="",$E13=""),"",IFERROR(VLOOKUP($C13,'保険会社別レート'!$A$10:$C$21,IF($E13='リスト'!$B$3,2,3),FALSE),0)) | I13: =IF(OR($G13="",$H13=""),"",$G13*$H13) | J13: 400 | K13: =IF($I13="","",$I13-N($J13)) | L13: 46106
A14: P-1005 | B14: T. Brooks | C14: 保険会社A | D14: 自動車 | E14: 更新 | F14: 46086 | G14: 1320 | H14: =IF(OR($C14="",$E14=""),"",IFERROR(VLOOKUP($C14,'保険会社別レート'!$A$10:$C$21,IF($E14='リスト'!$B$3,2,3),FALSE),0)) | I14: =IF(OR($G14="",$H14=""),"",$G14*$H14) | J14: 132 | K14: =IF($I14="","",$I14-N($J14)) | L14: 46120
A15: P-1006 | B15: Hillside Dental | C15: 保険会社B | D15: 企業 | E15: 更新 | F15: 46099 | G15: 7400 | H15: =IF(OR($C15="",$E15=""),"",IFERROR(VLOOKUP($C15,'保険会社別レート'!$A$10:$C$21,IF($E15='リスト'!$B$3,2,3),FALSE),0)) | I15: =IF(OR($G15="",$H15=""),"",$G15*$H15) | J15: 592 | K15: =IF($I15="","",$I15-N($J15)) | L15: 46132
A16: P-1007 | B16: M. Rossi | C16: 保険会社C | D16: 火災 | E16: 新規 | F16: 46114 | G16: 2150 | H16: =IF(OR($C16="",$E16=""),"",IFERROR(VLOOKUP($C16,'保険会社別レート'!$A$10:$C$21,IF($E16='リスト'!$B$3,2,3),FALSE),0)) | I16: =IF(OR($G16="",$H16=""),"",$G16*$H16) | K16: =IF($I16="","",$I16-N($J16))
A17: P-1008 | B17: K. Novak | C17: 保険会社A | D17: 医療 | E17: 新規 | F17: 46128 | G17: 3600 | H17: =IF(OR($C17="",$E17=""),"",IFERROR(VLOOKUP($C17,'保険会社別レート'!$A$10:$C$21,IF($E17='リスト'!$B$3,2,3),FALSE),0)) | I17: =IF(OR($G17="",$H17=""),"",$G17*$H17) | J17: 480 | K17: =IF($I17="","",$I17-N($J17)) | L17: 46162
A18: P-1009 | B18: A. Silva | C18: 保険会社D | D18: 生命 | E18: 更新 | F18: 46149 | G18: 2400 | H18: =IF(OR($C18="",$E18=""),"",IFERROR(VLOOKUP($C18,'保険会社別レート'!$A$10:$C$21,IF($E18='リスト'!$B$3,2,3),FALSE),0)) | I18: =IF(OR($G18="",$H18=""),"",$G18*$H18) | J18: 120 | K18: =IF($I18="","",$I18-N($J18)) | L18: 46182
A19: P-1010 | B19: Northpoint Gym | C19: 保険会社B | D19: 企業 | E19: 新規 | F19: 46168 | G19: 5800 | H19: =IF(OR($C19="",$E19=""),"",IFERROR(VLOOKUP($C19,'保険会社別レート'!$A$10:$C$21,IF($E19='リスト'!$B$3,2,3),FALSE),0)) | I19: =IF(OR($G19="",$H19=""),"",$G19*$H19) | K19: =IF($I19="","",$I19-N($J19))
H20: =IF(OR($C20="",$E20=""),"",IFERROR(VLOOKUP($C20,'保険会社別レート'!$A$10:$C$21,IF($E20='リスト'!$B$3,2,3),FALSE),0)) | I20: =IF(OR($G20="",$H20=""),"",$G20*$H20) | K20: =IF($I20="","",$I20-N($J20))
H21: =IF(OR($C21="",$E21=""),"",IFERROR(VLOOKUP($C21,'保険会社別レート'!$A$10:$C$21,IF($E21='リスト'!$B$3,2,3),FALSE),0)) | I21: =IF(OR($G21="",$H21=""),"",$G21*$H21) | K21: =IF($I21="","",$I21-N($J21))
H22: =IF(OR($C22="",$E22=""),"",IFERROR(VLOOKUP($C22,'保険会社別レート'!$A$10:$C$21,IF($E22='リスト'!$B$3,2,3),FALSE),0)) | I22: =IF(OR($G22="",$H22=""),"",$G22*$H22) | K22: =IF($I22="","",$I22-N($J22))
H23: =IF(OR($C23="",$E23=""),"",IFERROR(VLOOKUP($C23,'保険会社別レート'!$A$10:$C$21,IF($E23='リスト'!$B$3,2,3),FALSE),0)) | I23: =IF(OR($G23="",$H23=""),"",$G23*$H23) | K23: =IF($I23="","",$I23-N($J23))
H24: =IF(OR($C24="",$E24=""),"",IFERROR(VLOOKUP($C24,'保険会社別レート'!$A$10:$C$21,IF($E24='リスト'!$B$3,2,3),FALSE),0)) | I24: =IF(OR($G24="",$H24=""),"",$G24*$H24) | K24: =IF($I24="","",$I24-N($J24))
H25: =IF(OR($C25="",$E25=""),"",IFERROR(VLOOKUP($C25,'保険会社別レート'!$A$10:$C$21,IF($E25='リスト'!$B$3,2,3),FALSE),0)) | I25: =IF(OR($G25="",$H25=""),"",$G25*$H25) | K25: =IF($I25="","",$I25-N($J25))
H26: =IF(OR($C26="",$E26=""),"",IFERROR(VLOOKUP($C26,'保険会社別レート'!$A$10:$C$21,IF($E26='リスト'!$B$3,2,3),FALSE),0)) | I26: =IF(OR($G26="",$H26=""),"",$G26*$H26) | K26: =IF($I26="","",$I26-N($J26))
H27: =IF(OR($C27="",$E27=""),"",IFERROR(VLOOKUP($C27,'保険会社別レート'!$A$10:$C$21,IF($E27='リスト'!$B$3,2,3),FALSE),0)) | I27: =IF(OR($G27="",$H27=""),"",$G27*$H27) | K27: =IF($I27="","",$I27-N($J27))
H28: =IF(OR($C28="",$E28=""),"",IFERROR(VLOOKUP($C28,'保険会社別レート'!$A$10:$C$21,IF($E28='リスト'!$B$3,2,3),FALSE),0)) | I28: =IF(OR($G28="",$H28=""),"",$G28*$H28) | K28: =IF($I28="","",$I28-N($J28))
H29: =IF(OR($C29="",$E29=""),"",IFERROR(VLOOKUP($C29,'保険会社別レート'!$A$10:$C$21,IF($E29='リスト'!$B$3,2,3),FALSE),0)) | I29: =IF(OR($G29="",$H29=""),"",$G29*$H29) | K29: =IF($I29="","",$I29-N($J29))
H30: =IF(OR($C30="",$E30=""),"",IFERROR(VLOOKUP($C30,'保険会社別レート'!$A$10:$C$21,IF($E30='リスト'!$B$3,2,3),FALSE),0)) | I30: =IF(OR($G30="",$H30=""),"",$G30*$H30) | K30: =IF($I30="","",$I30-N($J30))
H31: =IF(OR($C31="",$E31=""),"",IFERROR(VLOOKUP($C31,'保険会社別レート'!$A$10:$C$21,IF($E31='リスト'!$B$3,2,3),FALSE),0)) | I31: =IF(OR($G31="",$H31=""),"",$G31*$H31) | K31: =IF($I31="","",$I31-N($J31))
... H150: =IF(OR($C150="",$E150=""),"",IFERROR(VLOOKUP($C150,'保険会社別レート'!$A$10:$C$21,IF($E150='リスト'!$B$3,2,3),FALSE),0)) | I150: =IF(OR($G150="",$H150=""),"",$G150*$H150) | K150: =IF($I150="","",$I150-N($J150))

Sheet 保険会社別レート
A1: POLIXA · 保険手数料管理表 | D1: sheetorial.com
A3: 保険会社別の手数料率
A4: 各保険会社との契約に基づくレートを入力。契約シートはここを参照します。
A9: 保険会社 | B9: 新規契約レート | C9: 更新レート | D9: 契約
A10: 保険会社A | B10: 0.15 | C10: 0.1 | D10: =IF($A10="","",COUNTIF('契約'!$C:$C,$A10))
A11: 保険会社B | B11: 0.12 | C11: 0.08 | D11: =IF($A11="","",COUNTIF('契約'!$C:$C,$A11))
A12: 保険会社C | B12: 0.1 | C12: 0.07 | D12: =IF($A12="","",COUNTIF('契約'!$C:$C,$A12))
A13: 保険会社D | B13: 0.18 | C13: 0.05 | D13: =IF($A13="","",COUNTIF('契約'!$C:$C,$A13))
D14: =IF($A14="","",COUNTIF('契約'!$C:$C,$A14))
D15: =IF($A15="","",COUNTIF('契約'!$C:$C,$A15))
D16: =IF($A16="","",COUNTIF('契約'!$C:$C,$A16))
D17: =IF($A17="","",COUNTIF('契約'!$C:$C,$A17))
D18: =IF($A18="","",COUNTIF('契約'!$C:$C,$A18))
D19: =IF($A19="","",COUNTIF('契約'!$C:$C,$A19))
D20: =IF($A20="","",COUNTIF('契約'!$C:$C,$A20))
D21: =IF($A21="","",COUNTIF('契約'!$C:$C,$A21))

Sheet サマリー
A1: POLIXA · 保険手数料管理表 | F1: sheetorial.com
A3: 種目別の手数料
A4: 種目別の保険料、見込み手数料、受領手数料。不足払いの種目は赤で表示。
A9: 種目 | B9: 契約 | C9: 保険料 | D9: 見込み | E9: 受領額 | F9: 未回収
A10: ='リスト'!$A$3 | B10: =COUNTIF('契約'!$D:$D,$A10) | C10: =SUMIF('契約'!$D:$D,$A10,'契約'!$G:$G) | D10: =SUMIF('契約'!$D:$D,$A10,'契約'!$I:$I) | E10: =SUMIF('契約'!$D:$D,$A10,'契約'!$J:$J) | F10: =$D10-$E10
A11: ='リスト'!$A$4 | B11: =COUNTIF('契約'!$D:$D,$A11) | C11: =SUMIF('契約'!$D:$D,$A11,'契約'!$G:$G) | D11: =SUMIF('契約'!$D:$D,$A11,'契約'!$I:$I) | E11: =SUMIF('契約'!$D:$D,$A11,'契約'!$J:$J) | F11: =$D11-$E11
A12: ='リスト'!$A$5 | B12: =COUNTIF('契約'!$D:$D,$A12) | C12: =SUMIF('契約'!$D:$D,$A12,'契約'!$G:$G) | D12: =SUMIF('契約'!$D:$D,$A12,'契約'!$I:$I) | E12: =SUMIF('契約'!$D:$D,$A12,'契約'!$J:$J) | F12: =$D12-$E12
A13: ='リスト'!$A$6 | B13: =COUNTIF('契約'!$D:$D,$A13) | C13: =SUMIF('契約'!$D:$D,$A13,'契約'!$G:$G) | D13: =SUMIF('契約'!$D:$D,$A13,'契約'!$I:$I) | E13: =SUMIF('契約'!$D:$D,$A13,'契約'!$J:$J) | F13: =$D13-$E13
A14: ='リスト'!$A$7 | B14: =COUNTIF('契約'!$D:$D,$A14) | C14: =SUMIF('契約'!$D:$D,$A14,'契約'!$G:$G) | D14: =SUMIF('契約'!$D:$D,$A14,'契約'!$I:$I) | E14: =SUMIF('契約'!$D:$D,$A14,'契約'!$J:$J) | F14: =$D14-$E14
A15: ='リスト'!$A$8 | B15: =COUNTIF('契約'!$D:$D,$A15) | C15: =SUMIF('契約'!$D:$D,$A15,'契約'!$G:$G) | D15: =SUMIF('契約'!$D:$D,$A15,'契約'!$I:$I) | E15: =SUMIF('契約'!$D:$D,$A15,'契約'!$J:$J) | F15: =$D15-$E15
A16: 合計 | B16: =SUM($B$10:$B$15) | C16: =SUM($C$10:$C$15) | D16: =SUM($D$10:$D$15) | E16: =SUM($E$10:$E$15) | F16: =SUM($F$10:$F$15)

Sheet リスト
A1: POLIXA · 保険手数料管理表 | D1: sheetorial.com
A2: 種目 | B2: 契約区分
A3: 自動車 | B3: 新規
A4: 火災 | B4: 更新
A5: 生命
A6: 医療
A7: 企業
A8: その他
A10: ここで種目を編集。プルダウンはこのリストに連動します。
