Workbook

Sheet Pracownicy
A1: ABSORA · Rejestr nieobecności | G1: sheetorial.com
A3: Podsumowanie nieobecności wg pracownika
A4: Przypadki i dni pochodzą z rejestru Nieobecności. Współczynnik Bradforda = przypadki x przypadki x dni.
A6: Pracownicy | B6: =COUNTA($A$10:$A$25) | C6: Dni utracone | D6: =SUM($D$10:$D$25) | E6: Przegląd od wyniku | F6: 100
A9: Pracownik | B9: Dział | C9: Przypadki | D9: Dni | E9: Nieusprawiedliwiona | F9: Współczynnik Bradforda | G9: Aktualizacja
A10: Dana Reed | B10: Projektowanie | C10: =IF($A10="","",COUNTIF('Nieobecności'!$A:$A,$A10)) | D10: =IF($A10="","",SUMIF('Nieobecności'!$A:$A,$A10,'Nieobecności'!$E:$E)) | E10: =IF($A10="","",COUNTIFS('Nieobecności'!$A:$A,$A10,'Nieobecności'!$F:$F,'Listy'!$B$4)) | F10: =IF($A10="","",$C10*$C10*$D10) | G10: =IF($A10="","",TODAY())
A11: Lee Park | B11: Inżynieria | C11: =IF($A11="","",COUNTIF('Nieobecności'!$A:$A,$A11)) | D11: =IF($A11="","",SUMIF('Nieobecności'!$A:$A,$A11,'Nieobecności'!$E:$E)) | E11: =IF($A11="","",COUNTIFS('Nieobecności'!$A:$A,$A11,'Nieobecności'!$F:$F,'Listy'!$B$4)) | F11: =IF($A11="","",$C11*$C11*$D11) | G11: =IF($A11="","",TODAY())
A12: Sam Ortiz | B12: Inżynieria | C12: =IF($A12="","",COUNTIF('Nieobecności'!$A:$A,$A12)) | D12: =IF($A12="","",SUMIF('Nieobecności'!$A:$A,$A12,'Nieobecności'!$E:$E)) | E12: =IF($A12="","",COUNTIFS('Nieobecności'!$A:$A,$A12,'Nieobecności'!$F:$F,'Listy'!$B$4)) | F12: =IF($A12="","",$C12*$C12*$D12) | G12: =IF($A12="","",TODAY())
A13: Alex Kim | B13: Marketing | C13: =IF($A13="","",COUNTIF('Nieobecności'!$A:$A,$A13)) | D13: =IF($A13="","",SUMIF('Nieobecności'!$A:$A,$A13,'Nieobecności'!$E:$E)) | E13: =IF($A13="","",COUNTIFS('Nieobecności'!$A:$A,$A13,'Nieobecności'!$F:$F,'Listy'!$B$4)) | F13: =IF($A13="","",$C13*$C13*$D13) | G13: =IF($A13="","",TODAY())
A14: Robin Vale | B14: Wsparcie | C14: =IF($A14="","",COUNTIF('Nieobecności'!$A:$A,$A14)) | D14: =IF($A14="","",SUMIF('Nieobecności'!$A:$A,$A14,'Nieobecności'!$E:$E)) | E14: =IF($A14="","",COUNTIFS('Nieobecności'!$A:$A,$A14,'Nieobecności'!$F:$F,'Listy'!$B$4)) | F14: =IF($A14="","",$C14*$C14*$D14) | G14: =IF($A14="","",TODAY())
A15: Maya Lane | B15: Projektowanie | C15: =IF($A15="","",COUNTIF('Nieobecności'!$A:$A,$A15)) | D15: =IF($A15="","",SUMIF('Nieobecności'!$A:$A,$A15,'Nieobecności'!$E:$E)) | E15: =IF($A15="","",COUNTIFS('Nieobecności'!$A:$A,$A15,'Nieobecności'!$F:$F,'Listy'!$B$4)) | F15: =IF($A15="","",$C15*$C15*$D15) | G15: =IF($A15="","",TODAY())
A16: Jordan Price | B16: Operacje | C16: =IF($A16="","",COUNTIF('Nieobecności'!$A:$A,$A16)) | D16: =IF($A16="","",SUMIF('Nieobecności'!$A:$A,$A16,'Nieobecności'!$E:$E)) | E16: =IF($A16="","",COUNTIFS('Nieobecności'!$A:$A,$A16,'Nieobecności'!$F:$F,'Listy'!$B$4)) | F16: =IF($A16="","",$C16*$C16*$D16) | G16: =IF($A16="","",TODAY())
A17: Chris Doyle | B17: Operacje | C17: =IF($A17="","",COUNTIF('Nieobecności'!$A:$A,$A17)) | D17: =IF($A17="","",SUMIF('Nieobecności'!$A:$A,$A17,'Nieobecności'!$E:$E)) | E17: =IF($A17="","",COUNTIFS('Nieobecności'!$A:$A,$A17,'Nieobecności'!$F:$F,'Listy'!$B$4)) | F17: =IF($A17="","",$C17*$C17*$D17) | G17: =IF($A17="","",TODAY())
C18: =IF($A18="","",COUNTIF('Nieobecności'!$A:$A,$A18)) | D18: =IF($A18="","",SUMIF('Nieobecności'!$A:$A,$A18,'Nieobecności'!$E:$E)) | E18: =IF($A18="","",COUNTIFS('Nieobecności'!$A:$A,$A18,'Nieobecności'!$F:$F,'Listy'!$B$4)) | F18: =IF($A18="","",$C18*$C18*$D18) | G18: =IF($A18="","",TODAY())
C19: =IF($A19="","",COUNTIF('Nieobecności'!$A:$A,$A19)) | D19: =IF($A19="","",SUMIF('Nieobecności'!$A:$A,$A19,'Nieobecności'!$E:$E)) | E19: =IF($A19="","",COUNTIFS('Nieobecności'!$A:$A,$A19,'Nieobecności'!$F:$F,'Listy'!$B$4)) | F19: =IF($A19="","",$C19*$C19*$D19) | G19: =IF($A19="","",TODAY())
C20: =IF($A20="","",COUNTIF('Nieobecności'!$A:$A,$A20)) | D20: =IF($A20="","",SUMIF('Nieobecności'!$A:$A,$A20,'Nieobecności'!$E:$E)) | E20: =IF($A20="","",COUNTIFS('Nieobecności'!$A:$A,$A20,'Nieobecności'!$F:$F,'Listy'!$B$4)) | F20: =IF($A20="","",$C20*$C20*$D20) | G20: =IF($A20="","",TODAY())
C21: =IF($A21="","",COUNTIF('Nieobecności'!$A:$A,$A21)) | D21: =IF($A21="","",SUMIF('Nieobecności'!$A:$A,$A21,'Nieobecności'!$E:$E)) | E21: =IF($A21="","",COUNTIFS('Nieobecności'!$A:$A,$A21,'Nieobecności'!$F:$F,'Listy'!$B$4)) | F21: =IF($A21="","",$C21*$C21*$D21) | G21: =IF($A21="","",TODAY())
C22: =IF($A22="","",COUNTIF('Nieobecności'!$A:$A,$A22)) | D22: =IF($A22="","",SUMIF('Nieobecności'!$A:$A,$A22,'Nieobecności'!$E:$E)) | E22: =IF($A22="","",COUNTIFS('Nieobecności'!$A:$A,$A22,'Nieobecności'!$F:$F,'Listy'!$B$4)) | F22: =IF($A22="","",$C22*$C22*$D22) | G22: =IF($A22="","",TODAY())
C23: =IF($A23="","",COUNTIF('Nieobecności'!$A:$A,$A23)) | D23: =IF($A23="","",SUMIF('Nieobecności'!$A:$A,$A23,'Nieobecności'!$E:$E)) | E23: =IF($A23="","",COUNTIFS('Nieobecności'!$A:$A,$A23,'Nieobecności'!$F:$F,'Listy'!$B$4)) | F23: =IF($A23="","",$C23*$C23*$D23) | G23: =IF($A23="","",TODAY())
C24: =IF($A24="","",COUNTIF('Nieobecności'!$A:$A,$A24)) | D24: =IF($A24="","",SUMIF('Nieobecności'!$A:$A,$A24,'Nieobecności'!$E:$E)) | E24: =IF($A24="","",COUNTIFS('Nieobecności'!$A:$A,$A24,'Nieobecności'!$F:$F,'Listy'!$B$4)) | F24: =IF($A24="","",$C24*$C24*$D24) | G24: =IF($A24="","",TODAY())
C25: =IF($A25="","",COUNTIF('Nieobecności'!$A:$A,$A25)) | D25: =IF($A25="","",SUMIF('Nieobecności'!$A:$A,$A25,'Nieobecności'!$E:$E)) | E25: =IF($A25="","",COUNTIFS('Nieobecności'!$A:$A,$A25,'Nieobecności'!$F:$F,'Listy'!$B$4)) | F25: =IF($A25="","",$C25*$C25*$D25) | G25: =IF($A25="","",TODAY())

Sheet Nieobecności
A1: ABSORA · Rejestr nieobecności | H1: sheetorial.com
A3: Rejestr nieobecności
A4: Jeden wiersz na nieobecność. Dni liczy dni kalendarzowe od pierwszego do ostatniego, włącznie.
A6: Nieobecności | B6: =COUNTA($A$10:$A$120) | C6: Dni utracone | D6: =SUM($E$10:$E$120) | E6: Nieusprawiedliwiona | F6: =COUNTIF($F$10:$F$120,'Listy'!$B$4)
A9: Pracownik | B9: Przyczyna | C9: Pierwszy dzień | D9: Ostatni dzień | E9: Dni | F9: Usprawiedliwiona | G9: Rozmowa po powrocie | H9: Uwagi
A10: Lee Park | B10: Choroba | C10: 46034 | D10: 46035 | E10: =IF(OR($C10="",$D10=""),"",$D10-$C10+1) | F10: Tak | G10: Tak
A11: Sam Ortiz | B11: Wizyta lekarska | C11: 46049 | D11: 46049 | E11: =IF(OR($C11="",$D11=""),"",$D11-$C11+1) | F11: Tak | G11: Nie | H11: Pół dnia
A12: Jordan Price | B12: Choroba | C12: 46062 | D12: 46064 | E12: =IF(OR($C12="",$D12=""),"",$D12-$C12+1) | F12: Tak | G12: Tak
A13: Lee Park | B13: Choroba | C13: 46069 | D13: 46069 | E13: =IF(OR($C13="",$D13=""),"",$D13-$C13+1) | F13: Tak | G13: Nie
A14: Chris Doyle | B14: Nieusprawiedliwiona | C14: 46076 | D14: 46076 | E14: =IF(OR($C14="",$D14=""),"",$D14-$C14+1) | F14: Nie | G14: Tak
A15: Lee Park | B15: Choroba | C15: 46083 | D15: 46083 | E15: =IF(OR($C15="",$D15=""),"",$D15-$C15+1) | F15: Tak | G15: Tak
A16: Maya Lane | B16: Sprawy rodzinne | C16: 46099 | D16: 46100 | E16: =IF(OR($C16="",$D16=""),"",$D16-$C16+1) | F16: Tak | G16: Nie
A17: Chris Doyle | B17: Spóźnienie | C17: 46118 | D17: 46118 | E17: =IF(OR($C17="",$D17=""),"",$D17-$C17+1) | F17: Nie | G17: Nie | H17: Strajk kolei
A18: Dana Reed | B18: Choroba | C18: 46132 | D18: 46136 | E18: =IF(OR($C18="",$D18=""),"",$D18-$C18+1) | F18: Tak | G18: Tak
A19: Lee Park | B19: Choroba | C19: 46146 | D19: 46147 | E19: =IF(OR($C19="",$D19=""),"",$D19-$C19+1) | F19: Tak | G19: Tak
A20: Robin Vale | B20: Wizyta lekarska | C20: 46156 | D20: 46156 | E20: =IF(OR($C20="",$D20=""),"",$D20-$C20+1) | F20: Tak | G20: Nie
A21: Chris Doyle | B21: Nieusprawiedliwiona | C21: 46167 | D21: 46168 | E21: =IF(OR($C21="",$D21=""),"",$D21-$C21+1) | F21: Nie | G21: Tak
A22: Alex Kim | B22: Choroba | C22: 46181 | D22: 46182 | E22: =IF(OR($C22="",$D22=""),"",$D22-$C22+1) | F22: Tak | G22: Tak
A23: Lee Park | B23: Choroba | C23: 46195 | D23: 46195 | E23: =IF(OR($C23="",$D23=""),"",$D23-$C23+1) | F23: Tak | G23: Nie
A24: Jordan Price | B24: Inne | C24: 46202 | D24: 46202 | E24: =IF(OR($C24="",$D24=""),"",$D24-$C24+1) | F24: Tak | G24: Nie | H24: Wezwanie do sądu
E25: =IF(OR($C25="",$D25=""),"",$D25-$C25+1)
E26: =IF(OR($C26="",$D26=""),"",$D26-$C26+1)
E27: =IF(OR($C27="",$D27=""),"",$D27-$C27+1)
E28: =IF(OR($C28="",$D28=""),"",$D28-$C28+1)
E29: =IF(OR($C29="",$D29=""),"",$D29-$C29+1)
E30: =IF(OR($C30="",$D30=""),"",$D30-$C30+1)
E31: =IF(OR($C31="",$D31=""),"",$D31-$C31+1)
E32: =IF(OR($C32="",$D32=""),"",$D32-$C32+1)
E33: =IF(OR($C33="",$D33=""),"",$D33-$C33+1)
E34: =IF(OR($C34="",$D34=""),"",$D34-$C34+1)
E35: =IF(OR($C35="",$D35=""),"",$D35-$C35+1)
E36: =IF(OR($C36="",$D36=""),"",$D36-$C36+1)
... E120: =IF(OR($C120="",$D120=""),"",$D120-$C120+1)

Sheet Miesięcznie
A1: ABSORA · Rejestr nieobecności | H1: sheetorial.com
A3: Dni utracone wg miesiąca
A4: Zmień pierwszy miesiąc, a wszystkie kolumny się dostosują. Każda nieobecność liczy się w miesiącu, w którym się zaczyna.
A6: Pierwszy miesiąc | B6: 46023
A9: Przyczyna | B9: Miesiąc 1 | C9: Miesiąc 2 | D9: Miesiąc 3 | E9: Miesiąc 4 | F9: Miesiąc 5 | G9: Miesiąc 6 | H9: Suma
A10: Początek miesiąca | B10: =DATE(YEAR($B$6),MONTH($B$6)+0,1) | C10: =DATE(YEAR($B$6),MONTH($B$6)+1,1) | D10: =DATE(YEAR($B$6),MONTH($B$6)+2,1) | E10: =DATE(YEAR($B$6),MONTH($B$6)+3,1) | F10: =DATE(YEAR($B$6),MONTH($B$6)+4,1) | G10: =DATE(YEAR($B$6),MONTH($B$6)+5,1)
A11: =IF('Listy'!$A3="","",'Listy'!$A3) | B11: =IF($A11="","",SUMIFS('Nieobecności'!$E:$E,'Nieobecności'!$B:$B,$A11,'Nieobecności'!$C:$C,">="&B$10,'Nieobecności'!$C:$C,"<"&DATE(YEAR(B$10),MONTH(B$10)+1,1))) | C11: =IF($A11="","",SUMIFS('Nieobecności'!$E:$E,'Nieobecności'!$B:$B,$A11,'Nieobecności'!$C:$C,">="&C$10,'Nieobecności'!$C:$C,"<"&DATE(YEAR(C$10),MONTH(C$10)+1,1))) | D11: =IF($A11="","",SUMIFS('Nieobecności'!$E:$E,'Nieobecności'!$B:$B,$A11,'Nieobecności'!$C:$C,">="&D$10,'Nieobecności'!$C:$C,"<"&DATE(YEAR(D$10),MONTH(D$10)+1,1))) | E11: =IF($A11="","",SUMIFS('Nieobecności'!$E:$E,'Nieobecności'!$B:$B,$A11,'Nieobecności'!$C:$C,">="&E$10,'Nieobecności'!$C:$C,"<"&DATE(YEAR(E$10),MONTH(E$10)+1,1))) | F11: =IF($A11="","",SUMIFS('Nieobecności'!$E:$E,'Nieobecności'!$B:$B,$A11,'Nieobecności'!$C:$C,">="&F$10,'Nieobecności'!$C:$C,"<"&DATE(YEAR(F$10),MONTH(F$10)+1,1))) | G11: =IF($A11="","",SUMIFS('Nieobecności'!$E:$E,'Nieobecności'!$B:$B,$A11,'Nieobecności'!$C:$C,">="&G$10,'Nieobecności'!$C:$C,"<"&DATE(YEAR(G$10),MONTH(G$10)+1,1))) | H11: =IF($A11="","",SUM($B11:$G11))
A12: =IF('Listy'!$A4="","",'Listy'!$A4) | B12: =IF($A12="","",SUMIFS('Nieobecności'!$E:$E,'Nieobecności'!$B:$B,$A12,'Nieobecności'!$C:$C,">="&B$10,'Nieobecności'!$C:$C,"<"&DATE(YEAR(B$10),MONTH(B$10)+1,1))) | C12: =IF($A12="","",SUMIFS('Nieobecności'!$E:$E,'Nieobecności'!$B:$B,$A12,'Nieobecności'!$C:$C,">="&C$10,'Nieobecności'!$C:$C,"<"&DATE(YEAR(C$10),MONTH(C$10)+1,1))) | D12: =IF($A12="","",SUMIFS('Nieobecności'!$E:$E,'Nieobecności'!$B:$B,$A12,'Nieobecności'!$C:$C,">="&D$10,'Nieobecności'!$C:$C,"<"&DATE(YEAR(D$10),MONTH(D$10)+1,1))) | E12: =IF($A12="","",SUMIFS('Nieobecności'!$E:$E,'Nieobecności'!$B:$B,$A12,'Nieobecności'!$C:$C,">="&E$10,'Nieobecności'!$C:$C,"<"&DATE(YEAR(E$10),MONTH(E$10)+1,1))) | F12: =IF($A12="","",SUMIFS('Nieobecności'!$E:$E,'Nieobecności'!$B:$B,$A12,'Nieobecności'!$C:$C,">="&F$10,'Nieobecności'!$C:$C,"<"&DATE(YEAR(F$10),MONTH(F$10)+1,1))) | G12: =IF($A12="","",SUMIFS('Nieobecności'!$E:$E,'Nieobecności'!$B:$B,$A12,'Nieobecności'!$C:$C,">="&G$10,'Nieobecności'!$C:$C,"<"&DATE(YEAR(G$10),MONTH(G$10)+1,1))) | H12: =IF($A12="","",SUM($B12:$G12))
A13: =IF('Listy'!$A5="","",'Listy'!$A5) | B13: =IF($A13="","",SUMIFS('Nieobecności'!$E:$E,'Nieobecności'!$B:$B,$A13,'Nieobecności'!$C:$C,">="&B$10,'Nieobecności'!$C:$C,"<"&DATE(YEAR(B$10),MONTH(B$10)+1,1))) | C13: =IF($A13="","",SUMIFS('Nieobecności'!$E:$E,'Nieobecności'!$B:$B,$A13,'Nieobecności'!$C:$C,">="&C$10,'Nieobecności'!$C:$C,"<"&DATE(YEAR(C$10),MONTH(C$10)+1,1))) | D13: =IF($A13="","",SUMIFS('Nieobecności'!$E:$E,'Nieobecności'!$B:$B,$A13,'Nieobecności'!$C:$C,">="&D$10,'Nieobecności'!$C:$C,"<"&DATE(YEAR(D$10),MONTH(D$10)+1,1))) | E13: =IF($A13="","",SUMIFS('Nieobecności'!$E:$E,'Nieobecności'!$B:$B,$A13,'Nieobecności'!$C:$C,">="&E$10,'Nieobecności'!$C:$C,"<"&DATE(YEAR(E$10),MONTH(E$10)+1,1))) | F13: =IF($A13="","",SUMIFS('Nieobecności'!$E:$E,'Nieobecności'!$B:$B,$A13,'Nieobecności'!$C:$C,">="&F$10,'Nieobecności'!$C:$C,"<"&DATE(YEAR(F$10),MONTH(F$10)+1,1))) | G13: =IF($A13="","",SUMIFS('Nieobecności'!$E:$E,'Nieobecności'!$B:$B,$A13,'Nieobecności'!$C:$C,">="&G$10,'Nieobecności'!$C:$C,"<"&DATE(YEAR(G$10),MONTH(G$10)+1,1))) | H13: =IF($A13="","",SUM($B13:$G13))
A14: =IF('Listy'!$A6="","",'Listy'!$A6) | B14: =IF($A14="","",SUMIFS('Nieobecności'!$E:$E,'Nieobecności'!$B:$B,$A14,'Nieobecności'!$C:$C,">="&B$10,'Nieobecności'!$C:$C,"<"&DATE(YEAR(B$10),MONTH(B$10)+1,1))) | C14: =IF($A14="","",SUMIFS('Nieobecności'!$E:$E,'Nieobecności'!$B:$B,$A14,'Nieobecności'!$C:$C,">="&C$10,'Nieobecności'!$C:$C,"<"&DATE(YEAR(C$10),MONTH(C$10)+1,1))) | D14: =IF($A14="","",SUMIFS('Nieobecności'!$E:$E,'Nieobecności'!$B:$B,$A14,'Nieobecności'!$C:$C,">="&D$10,'Nieobecności'!$C:$C,"<"&DATE(YEAR(D$10),MONTH(D$10)+1,1))) | E14: =IF($A14="","",SUMIFS('Nieobecności'!$E:$E,'Nieobecności'!$B:$B,$A14,'Nieobecności'!$C:$C,">="&E$10,'Nieobecności'!$C:$C,"<"&DATE(YEAR(E$10),MONTH(E$10)+1,1))) | F14: =IF($A14="","",SUMIFS('Nieobecności'!$E:$E,'Nieobecności'!$B:$B,$A14,'Nieobecności'!$C:$C,">="&F$10,'Nieobecności'!$C:$C,"<"&DATE(YEAR(F$10),MONTH(F$10)+1,1))) | G14: =IF($A14="","",SUMIFS('Nieobecności'!$E:$E,'Nieobecności'!$B:$B,$A14,'Nieobecności'!$C:$C,">="&G$10,'Nieobecności'!$C:$C,"<"&DATE(YEAR(G$10),MONTH(G$10)+1,1))) | H14: =IF($A14="","",SUM($B14:$G14))
A15: =IF('Listy'!$A7="","",'Listy'!$A7) | B15: =IF($A15="","",SUMIFS('Nieobecności'!$E:$E,'Nieobecności'!$B:$B,$A15,'Nieobecności'!$C:$C,">="&B$10,'Nieobecności'!$C:$C,"<"&DATE(YEAR(B$10),MONTH(B$10)+1,1))) | C15: =IF($A15="","",SUMIFS('Nieobecności'!$E:$E,'Nieobecności'!$B:$B,$A15,'Nieobecności'!$C:$C,">="&C$10,'Nieobecności'!$C:$C,"<"&DATE(YEAR(C$10),MONTH(C$10)+1,1))) | D15: =IF($A15="","",SUMIFS('Nieobecności'!$E:$E,'Nieobecności'!$B:$B,$A15,'Nieobecności'!$C:$C,">="&D$10,'Nieobecności'!$C:$C,"<"&DATE(YEAR(D$10),MONTH(D$10)+1,1))) | E15: =IF($A15="","",SUMIFS('Nieobecności'!$E:$E,'Nieobecności'!$B:$B,$A15,'Nieobecności'!$C:$C,">="&E$10,'Nieobecności'!$C:$C,"<"&DATE(YEAR(E$10),MONTH(E$10)+1,1))) | F15: =IF($A15="","",SUMIFS('Nieobecności'!$E:$E,'Nieobecności'!$B:$B,$A15,'Nieobecności'!$C:$C,">="&F$10,'Nieobecności'!$C:$C,"<"&DATE(YEAR(F$10),MONTH(F$10)+1,1))) | G15: =IF($A15="","",SUMIFS('Nieobecności'!$E:$E,'Nieobecności'!$B:$B,$A15,'Nieobecności'!$C:$C,">="&G$10,'Nieobecności'!$C:$C,"<"&DATE(YEAR(G$10),MONTH(G$10)+1,1))) | H15: =IF($A15="","",SUM($B15:$G15))
A16: =IF('Listy'!$A8="","",'Listy'!$A8) | B16: =IF($A16="","",SUMIFS('Nieobecności'!$E:$E,'Nieobecności'!$B:$B,$A16,'Nieobecności'!$C:$C,">="&B$10,'Nieobecności'!$C:$C,"<"&DATE(YEAR(B$10),MONTH(B$10)+1,1))) | C16: =IF($A16="","",SUMIFS('Nieobecności'!$E:$E,'Nieobecności'!$B:$B,$A16,'Nieobecności'!$C:$C,">="&C$10,'Nieobecności'!$C:$C,"<"&DATE(YEAR(C$10),MONTH(C$10)+1,1))) | D16: =IF($A16="","",SUMIFS('Nieobecności'!$E:$E,'Nieobecności'!$B:$B,$A16,'Nieobecności'!$C:$C,">="&D$10,'Nieobecności'!$C:$C,"<"&DATE(YEAR(D$10),MONTH(D$10)+1,1))) | E16: =IF($A16="","",SUMIFS('Nieobecności'!$E:$E,'Nieobecności'!$B:$B,$A16,'Nieobecności'!$C:$C,">="&E$10,'Nieobecności'!$C:$C,"<"&DATE(YEAR(E$10),MONTH(E$10)+1,1))) | F16: =IF($A16="","",SUMIFS('Nieobecności'!$E:$E,'Nieobecności'!$B:$B,$A16,'Nieobecności'!$C:$C,">="&F$10,'Nieobecności'!$C:$C,"<"&DATE(YEAR(F$10),MONTH(F$10)+1,1))) | G16: =IF($A16="","",SUMIFS('Nieobecności'!$E:$E,'Nieobecności'!$B:$B,$A16,'Nieobecności'!$C:$C,">="&G$10,'Nieobecności'!$C:$C,"<"&DATE(YEAR(G$10),MONTH(G$10)+1,1))) | H16: =IF($A16="","",SUM($B16:$G16))
A17: =IF('Listy'!$A9="","",'Listy'!$A9) | B17: =IF($A17="","",SUMIFS('Nieobecności'!$E:$E,'Nieobecności'!$B:$B,$A17,'Nieobecności'!$C:$C,">="&B$10,'Nieobecności'!$C:$C,"<"&DATE(YEAR(B$10),MONTH(B$10)+1,1))) | C17: =IF($A17="","",SUMIFS('Nieobecności'!$E:$E,'Nieobecności'!$B:$B,$A17,'Nieobecności'!$C:$C,">="&C$10,'Nieobecności'!$C:$C,"<"&DATE(YEAR(C$10),MONTH(C$10)+1,1))) | D17: =IF($A17="","",SUMIFS('Nieobecności'!$E:$E,'Nieobecności'!$B:$B,$A17,'Nieobecności'!$C:$C,">="&D$10,'Nieobecności'!$C:$C,"<"&DATE(YEAR(D$10),MONTH(D$10)+1,1))) | E17: =IF($A17="","",SUMIFS('Nieobecności'!$E:$E,'Nieobecności'!$B:$B,$A17,'Nieobecności'!$C:$C,">="&E$10,'Nieobecności'!$C:$C,"<"&DATE(YEAR(E$10),MONTH(E$10)+1,1))) | F17: =IF($A17="","",SUMIFS('Nieobecności'!$E:$E,'Nieobecności'!$B:$B,$A17,'Nieobecności'!$C:$C,">="&F$10,'Nieobecności'!$C:$C,"<"&DATE(YEAR(F$10),MONTH(F$10)+1,1))) | G17: =IF($A17="","",SUMIFS('Nieobecności'!$E:$E,'Nieobecności'!$B:$B,$A17,'Nieobecności'!$C:$C,">="&G$10,'Nieobecności'!$C:$C,"<"&DATE(YEAR(G$10),MONTH(G$10)+1,1))) | H17: =IF($A17="","",SUM($B17:$G17))
A18: =IF('Listy'!$A10="","",'Listy'!$A10) | B18: =IF($A18="","",SUMIFS('Nieobecności'!$E:$E,'Nieobecności'!$B:$B,$A18,'Nieobecności'!$C:$C,">="&B$10,'Nieobecności'!$C:$C,"<"&DATE(YEAR(B$10),MONTH(B$10)+1,1))) | C18: =IF($A18="","",SUMIFS('Nieobecności'!$E:$E,'Nieobecności'!$B:$B,$A18,'Nieobecności'!$C:$C,">="&C$10,'Nieobecności'!$C:$C,"<"&DATE(YEAR(C$10),MONTH(C$10)+1,1))) | D18: =IF($A18="","",SUMIFS('Nieobecności'!$E:$E,'Nieobecności'!$B:$B,$A18,'Nieobecności'!$C:$C,">="&D$10,'Nieobecności'!$C:$C,"<"&DATE(YEAR(D$10),MONTH(D$10)+1,1))) | E18: =IF($A18="","",SUMIFS('Nieobecności'!$E:$E,'Nieobecności'!$B:$B,$A18,'Nieobecności'!$C:$C,">="&E$10,'Nieobecności'!$C:$C,"<"&DATE(YEAR(E$10),MONTH(E$10)+1,1))) | F18: =IF($A18="","",SUMIFS('Nieobecności'!$E:$E,'Nieobecności'!$B:$B,$A18,'Nieobecności'!$C:$C,">="&F$10,'Nieobecności'!$C:$C,"<"&DATE(YEAR(F$10),MONTH(F$10)+1,1))) | G18: =IF($A18="","",SUMIFS('Nieobecności'!$E:$E,'Nieobecności'!$B:$B,$A18,'Nieobecności'!$C:$C,">="&G$10,'Nieobecności'!$C:$C,"<"&DATE(YEAR(G$10),MONTH(G$10)+1,1))) | H18: =IF($A18="","",SUM($B18:$G18))
A19: Suma | B19: =SUM(B11:B18) | C19: =SUM(C11:C18) | D19: =SUM(D11:D18) | E19: =SUM(E11:E18) | F19: =SUM(F11:F18) | G19: =SUM(G11:G18) | H19: =SUM(H11:H18)

Sheet Listy
A1: ABSORA · Rejestr nieobecności | D1: sheetorial.com
A2: Przyczyna | B2: Usprawiedliwiona
A3: Choroba | B3: Tak
A4: Wizyta lekarska | B4: Nie
A5: Sprawy rodzinne
A6: Spóźnienie
A7: Nieusprawiedliwiona
A8: Inne
A10: Edytuj tu przyczyny nieobecności: lista Przyczyna i karta Miesięcznie korzystają z tej listy.
