Workbook

Sheet Vendedores
A1: COMMORA · Controle de comissões | I1: sheetorial.com
A3: Plano de comissão por vendedor
A4: Taxa base até a cota e acelerador sobre o que passar da cota. Os totais vêm de Vendas.
A6: Vendas totais | B6: =SUM($E$10:$E$25) | C6: Comissão gerada | D6: =SUM($F$10:$F$25) | E6: Ainda a pagar | F6: =SUM($H$10:$H$25)
A9: Vendedor | B9: Cota | C9: Taxa base | D9: Acelerador | E9: Vendas | F9: Comissão | G9: Paga | H9: A pagar | I9: % da cota
A10: Dana Reed | B10: 60000 | C10: 0.08 | D10: 0.12 | E10: =SUMIF('Vendas'!$B:$B,$A10,'Vendas'!$F:$F) | F10: =IF($A10="","",MIN($E10,$B10)*$C10+MAX(0,$E10-$B10)*$D10) | G10: =IF($A10="","",IFERROR($F10*SUMIFS('Vendas'!$F:$F,'Vendas'!$B:$B,$A10,'Vendas'!$H:$H,'Listas'!$A$4)/$E10,0)) | H10: =IF($A10="","",$F10-$G10) | I10: =IF($A10="","",IFERROR($E10/$B10,0))
A11: Lee Park | B11: 50000 | C11: 0.08 | D11: 0.12 | E11: =SUMIF('Vendas'!$B:$B,$A11,'Vendas'!$F:$F) | F11: =IF($A11="","",MIN($E11,$B11)*$C11+MAX(0,$E11-$B11)*$D11) | G11: =IF($A11="","",IFERROR($F11*SUMIFS('Vendas'!$F:$F,'Vendas'!$B:$B,$A11,'Vendas'!$H:$H,'Listas'!$A$4)/$E11,0)) | H11: =IF($A11="","",$F11-$G11) | I11: =IF($A11="","",IFERROR($E11/$B11,0))
A12: Sam Ortiz | B12: 45000 | C12: 0.07 | D12: 0.1 | E12: =SUMIF('Vendas'!$B:$B,$A12,'Vendas'!$F:$F) | F12: =IF($A12="","",MIN($E12,$B12)*$C12+MAX(0,$E12-$B12)*$D12) | G12: =IF($A12="","",IFERROR($F12*SUMIFS('Vendas'!$F:$F,'Vendas'!$B:$B,$A12,'Vendas'!$H:$H,'Listas'!$A$4)/$E12,0)) | H12: =IF($A12="","",$F12-$G12) | I12: =IF($A12="","",IFERROR($E12/$B12,0))
A13: Alex Kim | B13: 40000 | C13: 0.07 | D13: 0.1 | E13: =SUMIF('Vendas'!$B:$B,$A13,'Vendas'!$F:$F) | F13: =IF($A13="","",MIN($E13,$B13)*$C13+MAX(0,$E13-$B13)*$D13) | G13: =IF($A13="","",IFERROR($F13*SUMIFS('Vendas'!$F:$F,'Vendas'!$B:$B,$A13,'Vendas'!$H:$H,'Listas'!$A$4)/$E13,0)) | H13: =IF($A13="","",$F13-$G13) | I13: =IF($A13="","",IFERROR($E13/$B13,0))
A14: Maya Lane | B14: 40000 | C14: 0.06 | D14: 0.09 | E14: =SUMIF('Vendas'!$B:$B,$A14,'Vendas'!$F:$F) | F14: =IF($A14="","",MIN($E14,$B14)*$C14+MAX(0,$E14-$B14)*$D14) | G14: =IF($A14="","",IFERROR($F14*SUMIFS('Vendas'!$F:$F,'Vendas'!$B:$B,$A14,'Vendas'!$H:$H,'Listas'!$A$4)/$E14,0)) | H14: =IF($A14="","",$F14-$G14) | I14: =IF($A14="","",IFERROR($E14/$B14,0))
E15: =SUMIF('Vendas'!$B:$B,$A15,'Vendas'!$F:$F) | F15: =IF($A15="","",MIN($E15,$B15)*$C15+MAX(0,$E15-$B15)*$D15) | G15: =IF($A15="","",IFERROR($F15*SUMIFS('Vendas'!$F:$F,'Vendas'!$B:$B,$A15,'Vendas'!$H:$H,'Listas'!$A$4)/$E15,0)) | H15: =IF($A15="","",$F15-$G15) | I15: =IF($A15="","",IFERROR($E15/$B15,0))
E16: =SUMIF('Vendas'!$B:$B,$A16,'Vendas'!$F:$F) | F16: =IF($A16="","",MIN($E16,$B16)*$C16+MAX(0,$E16-$B16)*$D16) | G16: =IF($A16="","",IFERROR($F16*SUMIFS('Vendas'!$F:$F,'Vendas'!$B:$B,$A16,'Vendas'!$H:$H,'Listas'!$A$4)/$E16,0)) | H16: =IF($A16="","",$F16-$G16) | I16: =IF($A16="","",IFERROR($E16/$B16,0))
E17: =SUMIF('Vendas'!$B:$B,$A17,'Vendas'!$F:$F) | F17: =IF($A17="","",MIN($E17,$B17)*$C17+MAX(0,$E17-$B17)*$D17) | G17: =IF($A17="","",IFERROR($F17*SUMIFS('Vendas'!$F:$F,'Vendas'!$B:$B,$A17,'Vendas'!$H:$H,'Listas'!$A$4)/$E17,0)) | H17: =IF($A17="","",$F17-$G17) | I17: =IF($A17="","",IFERROR($E17/$B17,0))
E18: =SUMIF('Vendas'!$B:$B,$A18,'Vendas'!$F:$F) | F18: =IF($A18="","",MIN($E18,$B18)*$C18+MAX(0,$E18-$B18)*$D18) | G18: =IF($A18="","",IFERROR($F18*SUMIFS('Vendas'!$F:$F,'Vendas'!$B:$B,$A18,'Vendas'!$H:$H,'Listas'!$A$4)/$E18,0)) | H18: =IF($A18="","",$F18-$G18) | I18: =IF($A18="","",IFERROR($E18/$B18,0))
E19: =SUMIF('Vendas'!$B:$B,$A19,'Vendas'!$F:$F) | F19: =IF($A19="","",MIN($E19,$B19)*$C19+MAX(0,$E19-$B19)*$D19) | G19: =IF($A19="","",IFERROR($F19*SUMIFS('Vendas'!$F:$F,'Vendas'!$B:$B,$A19,'Vendas'!$H:$H,'Listas'!$A$4)/$E19,0)) | H19: =IF($A19="","",$F19-$G19) | I19: =IF($A19="","",IFERROR($E19/$B19,0))
E20: =SUMIF('Vendas'!$B:$B,$A20,'Vendas'!$F:$F) | F20: =IF($A20="","",MIN($E20,$B20)*$C20+MAX(0,$E20-$B20)*$D20) | G20: =IF($A20="","",IFERROR($F20*SUMIFS('Vendas'!$F:$F,'Vendas'!$B:$B,$A20,'Vendas'!$H:$H,'Listas'!$A$4)/$E20,0)) | H20: =IF($A20="","",$F20-$G20) | I20: =IF($A20="","",IFERROR($E20/$B20,0))
E21: =SUMIF('Vendas'!$B:$B,$A21,'Vendas'!$F:$F) | F21: =IF($A21="","",MIN($E21,$B21)*$C21+MAX(0,$E21-$B21)*$D21) | G21: =IF($A21="","",IFERROR($F21*SUMIFS('Vendas'!$F:$F,'Vendas'!$B:$B,$A21,'Vendas'!$H:$H,'Listas'!$A$4)/$E21,0)) | H21: =IF($A21="","",$F21-$G21) | I21: =IF($A21="","",IFERROR($E21/$B21,0))
E22: =SUMIF('Vendas'!$B:$B,$A22,'Vendas'!$F:$F) | F22: =IF($A22="","",MIN($E22,$B22)*$C22+MAX(0,$E22-$B22)*$D22) | G22: =IF($A22="","",IFERROR($F22*SUMIFS('Vendas'!$F:$F,'Vendas'!$B:$B,$A22,'Vendas'!$H:$H,'Listas'!$A$4)/$E22,0)) | H22: =IF($A22="","",$F22-$G22) | I22: =IF($A22="","",IFERROR($E22/$B22,0))
E23: =SUMIF('Vendas'!$B:$B,$A23,'Vendas'!$F:$F) | F23: =IF($A23="","",MIN($E23,$B23)*$C23+MAX(0,$E23-$B23)*$D23) | G23: =IF($A23="","",IFERROR($F23*SUMIFS('Vendas'!$F:$F,'Vendas'!$B:$B,$A23,'Vendas'!$H:$H,'Listas'!$A$4)/$E23,0)) | H23: =IF($A23="","",$F23-$G23) | I23: =IF($A23="","",IFERROR($E23/$B23,0))
E24: =SUMIF('Vendas'!$B:$B,$A24,'Vendas'!$F:$F) | F24: =IF($A24="","",MIN($E24,$B24)*$C24+MAX(0,$E24-$B24)*$D24) | G24: =IF($A24="","",IFERROR($F24*SUMIFS('Vendas'!$F:$F,'Vendas'!$B:$B,$A24,'Vendas'!$H:$H,'Listas'!$A$4)/$E24,0)) | H24: =IF($A24="","",$F24-$G24) | I24: =IF($A24="","",IFERROR($E24/$B24,0))
E25: =SUMIF('Vendas'!$B:$B,$A25,'Vendas'!$F:$F) | F25: =IF($A25="","",MIN($E25,$B25)*$C25+MAX(0,$E25-$B25)*$D25) | G25: =IF($A25="","",IFERROR($F25*SUMIFS('Vendas'!$F:$F,'Vendas'!$B:$B,$A25,'Vendas'!$H:$H,'Listas'!$A$4)/$E25,0)) | H25: =IF($A25="","",$F25-$G25) | I25: =IF($A25="","",IFERROR($E25/$B25,0))

Sheet Vendas
A1: COMMORA · Controle de comissões | I1: sheetorial.com
A3: Vendas fechadas
A4: Uma linha por venda fechada. A comissão estimada usa a taxa base e Vendedores aplica o acelerador.
A6: Negócios | B6: =COUNTA($A$10:$A$120) | C6: Valor vendido | D6: =SUM($F$10:$F$120) | E6: Vendas não pagas | F6: =COUNTIF($H$10:$H$120,'Listas'!$A$3)
A9: Data de fechamento | B9: Vendedor | C9: Cliente | D9: Região | E9: Produto | F9: Valor da venda | G9: Comissão estimada | H9: Status do pagamento | I9: Notas
A10: 46031 | B10: Dana Reed | C10: Harbor Foods | D10: Norte | E10: Plano anual | F10: 14200 | G10: =IF(OR($B10="",$F10=""),"",$F10*IFERROR(VLOOKUP($B10,'Vendedores'!$A$10:$C$25,3,FALSE),0)) | H10: Paga
A11: 46043 | B11: Lee Park | C11: Pine & Co | D11: Oeste | E11: Pacote de implantação | F11: 6800 | G11: =IF(OR($B11="",$F11=""),"",$F11*IFERROR(VLOOKUP($B11,'Vendedores'!$A$10:$C$25,3,FALSE),0)) | H11: Paga
A12: 46057 | B12: Sam Ortiz | C12: Brightline Ltd | D12: Sul | E12: Plano anual | F12: 11500 | G12: =IF(OR($B12="",$F12=""),"",$F12*IFERROR(VLOOKUP($B12,'Vendedores'!$A$10:$C$25,3,FALSE),0)) | H12: Paga
A13: 46071 | B13: Alex Kim | C13: Oakridge Clinic | D13: Leste | E13: Suporte adicional | F13: 3900 | G13: =IF(OR($B13="",$F13=""),"",$F13*IFERROR(VLOOKUP($B13,'Vendedores'!$A$10:$C$25,3,FALSE),0)) | H13: Paga
A14: 46084 | B14: Dana Reed | C14: Summit Retail | D14: Norte | E14: Plano anual | F14: 18600 | G14: =IF(OR($B14="",$F14=""),"",$F14*IFERROR(VLOOKUP($B14,'Vendedores'!$A$10:$C$25,3,FALSE),0)) | H14: Paga | I14: Plurianual
A15: 46098 | B15: Maya Lane | C15: Bluewater Inc | D15: Online | E15: Pacote de implantação | F15: 5200 | G15: =IF(OR($B15="",$F15=""),"",$F15*IFERROR(VLOOKUP($B15,'Vendedores'!$A$10:$C$25,3,FALSE),0)) | H15: Paga
A16: 46120 | B16: Lee Park | C16: Cedar Logistics | D16: Oeste | E16: Plano anual | F16: 16400 | G16: =IF(OR($B16="",$F16=""),"",$F16*IFERROR(VLOOKUP($B16,'Vendedores'!$A$10:$C$25,3,FALSE),0)) | H16: Não paga
A17: 46134 | B17: Dana Reed | C17: Northgate Labs | D17: Norte | E17: Plano anual | F17: 21800 | G17: =IF(OR($B17="",$F17=""),"",$F17*IFERROR(VLOOKUP($B17,'Vendedores'!$A$10:$C$25,3,FALSE),0)) | H17: Não paga
A18: 46148 | B18: Sam Ortiz | C18: Redfern Studio | D18: Sul | E18: Suporte adicional | F18: 4100 | G18: =IF(OR($B18="",$F18=""),"",$F18*IFERROR(VLOOKUP($B18,'Vendedores'!$A$10:$C$25,3,FALSE),0)) | H18: Em espera | I18: Aguardando pagamento
A19: 46161 | B19: Alex Kim | C19: Maple Dental | D19: Leste | E19: Plano anual | F19: 12700 | G19: =IF(OR($B19="",$F19=""),"",$F19*IFERROR(VLOOKUP($B19,'Vendedores'!$A$10:$C$25,3,FALSE),0)) | H19: Não paga
A20: 46175 | B20: Maya Lane | C20: Atlas Fitness | D20: Online | E20: Plano anual | F20: 9800 | G20: =IF(OR($B20="",$F20=""),"",$F20*IFERROR(VLOOKUP($B20,'Vendedores'!$A$10:$C$25,3,FALSE),0)) | H20: Não paga
A21: 46188 | B21: Dana Reed | C21: Riverbend Co | D21: Norte | E21: Pacote de implantação | F21: 7400 | G21: =IF(OR($B21="",$F21=""),"",$F21*IFERROR(VLOOKUP($B21,'Vendedores'!$A$10:$C$25,3,FALSE),0)) | H21: Não paga
G22: =IF(OR($B22="",$F22=""),"",$F22*IFERROR(VLOOKUP($B22,'Vendedores'!$A$10:$C$25,3,FALSE),0))
G23: =IF(OR($B23="",$F23=""),"",$F23*IFERROR(VLOOKUP($B23,'Vendedores'!$A$10:$C$25,3,FALSE),0))
G24: =IF(OR($B24="",$F24=""),"",$F24*IFERROR(VLOOKUP($B24,'Vendedores'!$A$10:$C$25,3,FALSE),0))
G25: =IF(OR($B25="",$F25=""),"",$F25*IFERROR(VLOOKUP($B25,'Vendedores'!$A$10:$C$25,3,FALSE),0))
G26: =IF(OR($B26="",$F26=""),"",$F26*IFERROR(VLOOKUP($B26,'Vendedores'!$A$10:$C$25,3,FALSE),0))
G27: =IF(OR($B27="",$F27=""),"",$F27*IFERROR(VLOOKUP($B27,'Vendedores'!$A$10:$C$25,3,FALSE),0))
G28: =IF(OR($B28="",$F28=""),"",$F28*IFERROR(VLOOKUP($B28,'Vendedores'!$A$10:$C$25,3,FALSE),0))
G29: =IF(OR($B29="",$F29=""),"",$F29*IFERROR(VLOOKUP($B29,'Vendedores'!$A$10:$C$25,3,FALSE),0))
G30: =IF(OR($B30="",$F30=""),"",$F30*IFERROR(VLOOKUP($B30,'Vendedores'!$A$10:$C$25,3,FALSE),0))
G31: =IF(OR($B31="",$F31=""),"",$F31*IFERROR(VLOOKUP($B31,'Vendedores'!$A$10:$C$25,3,FALSE),0))
G32: =IF(OR($B32="",$F32=""),"",$F32*IFERROR(VLOOKUP($B32,'Vendedores'!$A$10:$C$25,3,FALSE),0))
G33: =IF(OR($B33="",$F33=""),"",$F33*IFERROR(VLOOKUP($B33,'Vendedores'!$A$10:$C$25,3,FALSE),0))
... G120: =IF(OR($B120="",$F120=""),"",$F120*IFERROR(VLOOKUP($B120,'Vendedores'!$A$10:$C$25,3,FALSE),0))

Sheet Mensal
A1: COMMORA · Controle de comissões | H1: sheetorial.com
A3: Vendas por mês
A4: Mude o primeiro mês e todas as colunas acompanham. Os valores vêm de Vendas.
A6: Primeiro mês | B6: 46023
A9: Vendedor | B9: Mês 1 | C9: Mês 2 | D9: Mês 3 | E9: Mês 4 | F9: Mês 5 | G9: Mês 6 | H9: Total
A10: Início do mês | B10: =DATE(YEAR($B$6),MONTH($B$6)+0,1) | C10: =DATE(YEAR($B$6),MONTH($B$6)+1,1) | D10: =DATE(YEAR($B$6),MONTH($B$6)+2,1) | E10: =DATE(YEAR($B$6),MONTH($B$6)+3,1) | F10: =DATE(YEAR($B$6),MONTH($B$6)+4,1) | G10: =DATE(YEAR($B$6),MONTH($B$6)+5,1)
A11: =IF('Vendedores'!$A10="","",'Vendedores'!$A10) | B11: =IF($A11="","",SUMIFS('Vendas'!$F:$F,'Vendas'!$B:$B,$A11,'Vendas'!$A:$A,">="&B$10,'Vendas'!$A:$A,"<"&DATE(YEAR(B$10),MONTH(B$10)+1,1))) | C11: =IF($A11="","",SUMIFS('Vendas'!$F:$F,'Vendas'!$B:$B,$A11,'Vendas'!$A:$A,">="&C$10,'Vendas'!$A:$A,"<"&DATE(YEAR(C$10),MONTH(C$10)+1,1))) | D11: =IF($A11="","",SUMIFS('Vendas'!$F:$F,'Vendas'!$B:$B,$A11,'Vendas'!$A:$A,">="&D$10,'Vendas'!$A:$A,"<"&DATE(YEAR(D$10),MONTH(D$10)+1,1))) | E11: =IF($A11="","",SUMIFS('Vendas'!$F:$F,'Vendas'!$B:$B,$A11,'Vendas'!$A:$A,">="&E$10,'Vendas'!$A:$A,"<"&DATE(YEAR(E$10),MONTH(E$10)+1,1))) | F11: =IF($A11="","",SUMIFS('Vendas'!$F:$F,'Vendas'!$B:$B,$A11,'Vendas'!$A:$A,">="&F$10,'Vendas'!$A:$A,"<"&DATE(YEAR(F$10),MONTH(F$10)+1,1))) | G11: =IF($A11="","",SUMIFS('Vendas'!$F:$F,'Vendas'!$B:$B,$A11,'Vendas'!$A:$A,">="&G$10,'Vendas'!$A:$A,"<"&DATE(YEAR(G$10),MONTH(G$10)+1,1))) | H11: =IF($A11="","",SUM($B11:$G11))
A12: =IF('Vendedores'!$A11="","",'Vendedores'!$A11) | B12: =IF($A12="","",SUMIFS('Vendas'!$F:$F,'Vendas'!$B:$B,$A12,'Vendas'!$A:$A,">="&B$10,'Vendas'!$A:$A,"<"&DATE(YEAR(B$10),MONTH(B$10)+1,1))) | C12: =IF($A12="","",SUMIFS('Vendas'!$F:$F,'Vendas'!$B:$B,$A12,'Vendas'!$A:$A,">="&C$10,'Vendas'!$A:$A,"<"&DATE(YEAR(C$10),MONTH(C$10)+1,1))) | D12: =IF($A12="","",SUMIFS('Vendas'!$F:$F,'Vendas'!$B:$B,$A12,'Vendas'!$A:$A,">="&D$10,'Vendas'!$A:$A,"<"&DATE(YEAR(D$10),MONTH(D$10)+1,1))) | E12: =IF($A12="","",SUMIFS('Vendas'!$F:$F,'Vendas'!$B:$B,$A12,'Vendas'!$A:$A,">="&E$10,'Vendas'!$A:$A,"<"&DATE(YEAR(E$10),MONTH(E$10)+1,1))) | F12: =IF($A12="","",SUMIFS('Vendas'!$F:$F,'Vendas'!$B:$B,$A12,'Vendas'!$A:$A,">="&F$10,'Vendas'!$A:$A,"<"&DATE(YEAR(F$10),MONTH(F$10)+1,1))) | G12: =IF($A12="","",SUMIFS('Vendas'!$F:$F,'Vendas'!$B:$B,$A12,'Vendas'!$A:$A,">="&G$10,'Vendas'!$A:$A,"<"&DATE(YEAR(G$10),MONTH(G$10)+1,1))) | H12: =IF($A12="","",SUM($B12:$G12))
A13: =IF('Vendedores'!$A12="","",'Vendedores'!$A12) | B13: =IF($A13="","",SUMIFS('Vendas'!$F:$F,'Vendas'!$B:$B,$A13,'Vendas'!$A:$A,">="&B$10,'Vendas'!$A:$A,"<"&DATE(YEAR(B$10),MONTH(B$10)+1,1))) | C13: =IF($A13="","",SUMIFS('Vendas'!$F:$F,'Vendas'!$B:$B,$A13,'Vendas'!$A:$A,">="&C$10,'Vendas'!$A:$A,"<"&DATE(YEAR(C$10),MONTH(C$10)+1,1))) | D13: =IF($A13="","",SUMIFS('Vendas'!$F:$F,'Vendas'!$B:$B,$A13,'Vendas'!$A:$A,">="&D$10,'Vendas'!$A:$A,"<"&DATE(YEAR(D$10),MONTH(D$10)+1,1))) | E13: =IF($A13="","",SUMIFS('Vendas'!$F:$F,'Vendas'!$B:$B,$A13,'Vendas'!$A:$A,">="&E$10,'Vendas'!$A:$A,"<"&DATE(YEAR(E$10),MONTH(E$10)+1,1))) | F13: =IF($A13="","",SUMIFS('Vendas'!$F:$F,'Vendas'!$B:$B,$A13,'Vendas'!$A:$A,">="&F$10,'Vendas'!$A:$A,"<"&DATE(YEAR(F$10),MONTH(F$10)+1,1))) | G13: =IF($A13="","",SUMIFS('Vendas'!$F:$F,'Vendas'!$B:$B,$A13,'Vendas'!$A:$A,">="&G$10,'Vendas'!$A:$A,"<"&DATE(YEAR(G$10),MONTH(G$10)+1,1))) | H13: =IF($A13="","",SUM($B13:$G13))
A14: =IF('Vendedores'!$A13="","",'Vendedores'!$A13) | B14: =IF($A14="","",SUMIFS('Vendas'!$F:$F,'Vendas'!$B:$B,$A14,'Vendas'!$A:$A,">="&B$10,'Vendas'!$A:$A,"<"&DATE(YEAR(B$10),MONTH(B$10)+1,1))) | C14: =IF($A14="","",SUMIFS('Vendas'!$F:$F,'Vendas'!$B:$B,$A14,'Vendas'!$A:$A,">="&C$10,'Vendas'!$A:$A,"<"&DATE(YEAR(C$10),MONTH(C$10)+1,1))) | D14: =IF($A14="","",SUMIFS('Vendas'!$F:$F,'Vendas'!$B:$B,$A14,'Vendas'!$A:$A,">="&D$10,'Vendas'!$A:$A,"<"&DATE(YEAR(D$10),MONTH(D$10)+1,1))) | E14: =IF($A14="","",SUMIFS('Vendas'!$F:$F,'Vendas'!$B:$B,$A14,'Vendas'!$A:$A,">="&E$10,'Vendas'!$A:$A,"<"&DATE(YEAR(E$10),MONTH(E$10)+1,1))) | F14: =IF($A14="","",SUMIFS('Vendas'!$F:$F,'Vendas'!$B:$B,$A14,'Vendas'!$A:$A,">="&F$10,'Vendas'!$A:$A,"<"&DATE(YEAR(F$10),MONTH(F$10)+1,1))) | G14: =IF($A14="","",SUMIFS('Vendas'!$F:$F,'Vendas'!$B:$B,$A14,'Vendas'!$A:$A,">="&G$10,'Vendas'!$A:$A,"<"&DATE(YEAR(G$10),MONTH(G$10)+1,1))) | H14: =IF($A14="","",SUM($B14:$G14))
A15: =IF('Vendedores'!$A14="","",'Vendedores'!$A14) | B15: =IF($A15="","",SUMIFS('Vendas'!$F:$F,'Vendas'!$B:$B,$A15,'Vendas'!$A:$A,">="&B$10,'Vendas'!$A:$A,"<"&DATE(YEAR(B$10),MONTH(B$10)+1,1))) | C15: =IF($A15="","",SUMIFS('Vendas'!$F:$F,'Vendas'!$B:$B,$A15,'Vendas'!$A:$A,">="&C$10,'Vendas'!$A:$A,"<"&DATE(YEAR(C$10),MONTH(C$10)+1,1))) | D15: =IF($A15="","",SUMIFS('Vendas'!$F:$F,'Vendas'!$B:$B,$A15,'Vendas'!$A:$A,">="&D$10,'Vendas'!$A:$A,"<"&DATE(YEAR(D$10),MONTH(D$10)+1,1))) | E15: =IF($A15="","",SUMIFS('Vendas'!$F:$F,'Vendas'!$B:$B,$A15,'Vendas'!$A:$A,">="&E$10,'Vendas'!$A:$A,"<"&DATE(YEAR(E$10),MONTH(E$10)+1,1))) | F15: =IF($A15="","",SUMIFS('Vendas'!$F:$F,'Vendas'!$B:$B,$A15,'Vendas'!$A:$A,">="&F$10,'Vendas'!$A:$A,"<"&DATE(YEAR(F$10),MONTH(F$10)+1,1))) | G15: =IF($A15="","",SUMIFS('Vendas'!$F:$F,'Vendas'!$B:$B,$A15,'Vendas'!$A:$A,">="&G$10,'Vendas'!$A:$A,"<"&DATE(YEAR(G$10),MONTH(G$10)+1,1))) | H15: =IF($A15="","",SUM($B15:$G15))
A16: =IF('Vendedores'!$A15="","",'Vendedores'!$A15) | B16: =IF($A16="","",SUMIFS('Vendas'!$F:$F,'Vendas'!$B:$B,$A16,'Vendas'!$A:$A,">="&B$10,'Vendas'!$A:$A,"<"&DATE(YEAR(B$10),MONTH(B$10)+1,1))) | C16: =IF($A16="","",SUMIFS('Vendas'!$F:$F,'Vendas'!$B:$B,$A16,'Vendas'!$A:$A,">="&C$10,'Vendas'!$A:$A,"<"&DATE(YEAR(C$10),MONTH(C$10)+1,1))) | D16: =IF($A16="","",SUMIFS('Vendas'!$F:$F,'Vendas'!$B:$B,$A16,'Vendas'!$A:$A,">="&D$10,'Vendas'!$A:$A,"<"&DATE(YEAR(D$10),MONTH(D$10)+1,1))) | E16: =IF($A16="","",SUMIFS('Vendas'!$F:$F,'Vendas'!$B:$B,$A16,'Vendas'!$A:$A,">="&E$10,'Vendas'!$A:$A,"<"&DATE(YEAR(E$10),MONTH(E$10)+1,1))) | F16: =IF($A16="","",SUMIFS('Vendas'!$F:$F,'Vendas'!$B:$B,$A16,'Vendas'!$A:$A,">="&F$10,'Vendas'!$A:$A,"<"&DATE(YEAR(F$10),MONTH(F$10)+1,1))) | G16: =IF($A16="","",SUMIFS('Vendas'!$F:$F,'Vendas'!$B:$B,$A16,'Vendas'!$A:$A,">="&G$10,'Vendas'!$A:$A,"<"&DATE(YEAR(G$10),MONTH(G$10)+1,1))) | H16: =IF($A16="","",SUM($B16:$G16))
A17: =IF('Vendedores'!$A16="","",'Vendedores'!$A16) | B17: =IF($A17="","",SUMIFS('Vendas'!$F:$F,'Vendas'!$B:$B,$A17,'Vendas'!$A:$A,">="&B$10,'Vendas'!$A:$A,"<"&DATE(YEAR(B$10),MONTH(B$10)+1,1))) | C17: =IF($A17="","",SUMIFS('Vendas'!$F:$F,'Vendas'!$B:$B,$A17,'Vendas'!$A:$A,">="&C$10,'Vendas'!$A:$A,"<"&DATE(YEAR(C$10),MONTH(C$10)+1,1))) | D17: =IF($A17="","",SUMIFS('Vendas'!$F:$F,'Vendas'!$B:$B,$A17,'Vendas'!$A:$A,">="&D$10,'Vendas'!$A:$A,"<"&DATE(YEAR(D$10),MONTH(D$10)+1,1))) | E17: =IF($A17="","",SUMIFS('Vendas'!$F:$F,'Vendas'!$B:$B,$A17,'Vendas'!$A:$A,">="&E$10,'Vendas'!$A:$A,"<"&DATE(YEAR(E$10),MONTH(E$10)+1,1))) | F17: =IF($A17="","",SUMIFS('Vendas'!$F:$F,'Vendas'!$B:$B,$A17,'Vendas'!$A:$A,">="&F$10,'Vendas'!$A:$A,"<"&DATE(YEAR(F$10),MONTH(F$10)+1,1))) | G17: =IF($A17="","",SUMIFS('Vendas'!$F:$F,'Vendas'!$B:$B,$A17,'Vendas'!$A:$A,">="&G$10,'Vendas'!$A:$A,"<"&DATE(YEAR(G$10),MONTH(G$10)+1,1))) | H17: =IF($A17="","",SUM($B17:$G17))
A18: =IF('Vendedores'!$A17="","",'Vendedores'!$A17) | B18: =IF($A18="","",SUMIFS('Vendas'!$F:$F,'Vendas'!$B:$B,$A18,'Vendas'!$A:$A,">="&B$10,'Vendas'!$A:$A,"<"&DATE(YEAR(B$10),MONTH(B$10)+1,1))) | C18: =IF($A18="","",SUMIFS('Vendas'!$F:$F,'Vendas'!$B:$B,$A18,'Vendas'!$A:$A,">="&C$10,'Vendas'!$A:$A,"<"&DATE(YEAR(C$10),MONTH(C$10)+1,1))) | D18: =IF($A18="","",SUMIFS('Vendas'!$F:$F,'Vendas'!$B:$B,$A18,'Vendas'!$A:$A,">="&D$10,'Vendas'!$A:$A,"<"&DATE(YEAR(D$10),MONTH(D$10)+1,1))) | E18: =IF($A18="","",SUMIFS('Vendas'!$F:$F,'Vendas'!$B:$B,$A18,'Vendas'!$A:$A,">="&E$10,'Vendas'!$A:$A,"<"&DATE(YEAR(E$10),MONTH(E$10)+1,1))) | F18: =IF($A18="","",SUMIFS('Vendas'!$F:$F,'Vendas'!$B:$B,$A18,'Vendas'!$A:$A,">="&F$10,'Vendas'!$A:$A,"<"&DATE(YEAR(F$10),MONTH(F$10)+1,1))) | G18: =IF($A18="","",SUMIFS('Vendas'!$F:$F,'Vendas'!$B:$B,$A18,'Vendas'!$A:$A,">="&G$10,'Vendas'!$A:$A,"<"&DATE(YEAR(G$10),MONTH(G$10)+1,1))) | H18: =IF($A18="","",SUM($B18:$G18))
A19: =IF('Vendedores'!$A18="","",'Vendedores'!$A18) | B19: =IF($A19="","",SUMIFS('Vendas'!$F:$F,'Vendas'!$B:$B,$A19,'Vendas'!$A:$A,">="&B$10,'Vendas'!$A:$A,"<"&DATE(YEAR(B$10),MONTH(B$10)+1,1))) | C19: =IF($A19="","",SUMIFS('Vendas'!$F:$F,'Vendas'!$B:$B,$A19,'Vendas'!$A:$A,">="&C$10,'Vendas'!$A:$A,"<"&DATE(YEAR(C$10),MONTH(C$10)+1,1))) | D19: =IF($A19="","",SUMIFS('Vendas'!$F:$F,'Vendas'!$B:$B,$A19,'Vendas'!$A:$A,">="&D$10,'Vendas'!$A:$A,"<"&DATE(YEAR(D$10),MONTH(D$10)+1,1))) | E19: =IF($A19="","",SUMIFS('Vendas'!$F:$F,'Vendas'!$B:$B,$A19,'Vendas'!$A:$A,">="&E$10,'Vendas'!$A:$A,"<"&DATE(YEAR(E$10),MONTH(E$10)+1,1))) | F19: =IF($A19="","",SUMIFS('Vendas'!$F:$F,'Vendas'!$B:$B,$A19,'Vendas'!$A:$A,">="&F$10,'Vendas'!$A:$A,"<"&DATE(YEAR(F$10),MONTH(F$10)+1,1))) | G19: =IF($A19="","",SUMIFS('Vendas'!$F:$F,'Vendas'!$B:$B,$A19,'Vendas'!$A:$A,">="&G$10,'Vendas'!$A:$A,"<"&DATE(YEAR(G$10),MONTH(G$10)+1,1))) | H19: =IF($A19="","",SUM($B19:$G19))
A20: =IF('Vendedores'!$A19="","",'Vendedores'!$A19) | B20: =IF($A20="","",SUMIFS('Vendas'!$F:$F,'Vendas'!$B:$B,$A20,'Vendas'!$A:$A,">="&B$10,'Vendas'!$A:$A,"<"&DATE(YEAR(B$10),MONTH(B$10)+1,1))) | C20: =IF($A20="","",SUMIFS('Vendas'!$F:$F,'Vendas'!$B:$B,$A20,'Vendas'!$A:$A,">="&C$10,'Vendas'!$A:$A,"<"&DATE(YEAR(C$10),MONTH(C$10)+1,1))) | D20: =IF($A20="","",SUMIFS('Vendas'!$F:$F,'Vendas'!$B:$B,$A20,'Vendas'!$A:$A,">="&D$10,'Vendas'!$A:$A,"<"&DATE(YEAR(D$10),MONTH(D$10)+1,1))) | E20: =IF($A20="","",SUMIFS('Vendas'!$F:$F,'Vendas'!$B:$B,$A20,'Vendas'!$A:$A,">="&E$10,'Vendas'!$A:$A,"<"&DATE(YEAR(E$10),MONTH(E$10)+1,1))) | F20: =IF($A20="","",SUMIFS('Vendas'!$F:$F,'Vendas'!$B:$B,$A20,'Vendas'!$A:$A,">="&F$10,'Vendas'!$A:$A,"<"&DATE(YEAR(F$10),MONTH(F$10)+1,1))) | G20: =IF($A20="","",SUMIFS('Vendas'!$F:$F,'Vendas'!$B:$B,$A20,'Vendas'!$A:$A,">="&G$10,'Vendas'!$A:$A,"<"&DATE(YEAR(G$10),MONTH(G$10)+1,1))) | H20: =IF($A20="","",SUM($B20:$G20))
A21: =IF('Vendedores'!$A20="","",'Vendedores'!$A20) | B21: =IF($A21="","",SUMIFS('Vendas'!$F:$F,'Vendas'!$B:$B,$A21,'Vendas'!$A:$A,">="&B$10,'Vendas'!$A:$A,"<"&DATE(YEAR(B$10),MONTH(B$10)+1,1))) | C21: =IF($A21="","",SUMIFS('Vendas'!$F:$F,'Vendas'!$B:$B,$A21,'Vendas'!$A:$A,">="&C$10,'Vendas'!$A:$A,"<"&DATE(YEAR(C$10),MONTH(C$10)+1,1))) | D21: =IF($A21="","",SUMIFS('Vendas'!$F:$F,'Vendas'!$B:$B,$A21,'Vendas'!$A:$A,">="&D$10,'Vendas'!$A:$A,"<"&DATE(YEAR(D$10),MONTH(D$10)+1,1))) | E21: =IF($A21="","",SUMIFS('Vendas'!$F:$F,'Vendas'!$B:$B,$A21,'Vendas'!$A:$A,">="&E$10,'Vendas'!$A:$A,"<"&DATE(YEAR(E$10),MONTH(E$10)+1,1))) | F21: =IF($A21="","",SUMIFS('Vendas'!$F:$F,'Vendas'!$B:$B,$A21,'Vendas'!$A:$A,">="&F$10,'Vendas'!$A:$A,"<"&DATE(YEAR(F$10),MONTH(F$10)+1,1))) | G21: =IF($A21="","",SUMIFS('Vendas'!$F:$F,'Vendas'!$B:$B,$A21,'Vendas'!$A:$A,">="&G$10,'Vendas'!$A:$A,"<"&DATE(YEAR(G$10),MONTH(G$10)+1,1))) | H21: =IF($A21="","",SUM($B21:$G21))
A22: =IF('Vendedores'!$A21="","",'Vendedores'!$A21) | B22: =IF($A22="","",SUMIFS('Vendas'!$F:$F,'Vendas'!$B:$B,$A22,'Vendas'!$A:$A,">="&B$10,'Vendas'!$A:$A,"<"&DATE(YEAR(B$10),MONTH(B$10)+1,1))) | C22: =IF($A22="","",SUMIFS('Vendas'!$F:$F,'Vendas'!$B:$B,$A22,'Vendas'!$A:$A,">="&C$10,'Vendas'!$A:$A,"<"&DATE(YEAR(C$10),MONTH(C$10)+1,1))) | D22: =IF($A22="","",SUMIFS('Vendas'!$F:$F,'Vendas'!$B:$B,$A22,'Vendas'!$A:$A,">="&D$10,'Vendas'!$A:$A,"<"&DATE(YEAR(D$10),MONTH(D$10)+1,1))) | E22: =IF($A22="","",SUMIFS('Vendas'!$F:$F,'Vendas'!$B:$B,$A22,'Vendas'!$A:$A,">="&E$10,'Vendas'!$A:$A,"<"&DATE(YEAR(E$10),MONTH(E$10)+1,1))) | F22: =IF($A22="","",SUMIFS('Vendas'!$F:$F,'Vendas'!$B:$B,$A22,'Vendas'!$A:$A,">="&F$10,'Vendas'!$A:$A,"<"&DATE(YEAR(F$10),MONTH(F$10)+1,1))) | G22: =IF($A22="","",SUMIFS('Vendas'!$F:$F,'Vendas'!$B:$B,$A22,'Vendas'!$A:$A,">="&G$10,'Vendas'!$A:$A,"<"&DATE(YEAR(G$10),MONTH(G$10)+1,1))) | H22: =IF($A22="","",SUM($B22:$G22))
... A26: =IF('Vendedores'!$A25="","",'Vendedores'!$A25) | B26: =IF($A26="","",SUMIFS('Vendas'!$F:$F,'Vendas'!$B:$B,$A26,'Vendas'!$A:$A,">="&B$10,'Vendas'!$A:$A,"<"&DATE(YEAR(B$10),MONTH(B$10)+1,1))) | C26: =IF($A26="","",SUMIFS('Vendas'!$F:$F,'Vendas'!$B:$B,$A26,'Vendas'!$A:$A,">="&C$10,'Vendas'!$A:$A,"<"&DATE(YEAR(C$10),MONTH(C$10)+1,1))) | D26: =IF($A26="","",SUMIFS('Vendas'!$F:$F,'Vendas'!$B:$B,$A26,'Vendas'!$A:$A,">="&D$10,'Vendas'!$A:$A,"<"&DATE(YEAR(D$10),MONTH(D$10)+1,1))) | E26: =IF($A26="","",SUMIFS('Vendas'!$F:$F,'Vendas'!$B:$B,$A26,'Vendas'!$A:$A,">="&E$10,'Vendas'!$A:$A,"<"&DATE(YEAR(E$10),MONTH(E$10)+1,1))) | F26: =IF($A26="","",SUMIFS('Vendas'!$F:$F,'Vendas'!$B:$B,$A26,'Vendas'!$A:$A,">="&F$10,'Vendas'!$A:$A,"<"&DATE(YEAR(F$10),MONTH(F$10)+1,1))) | G26: =IF($A26="","",SUMIFS('Vendas'!$F:$F,'Vendas'!$B:$B,$A26,'Vendas'!$A:$A,">="&G$10,'Vendas'!$A:$A,"<"&DATE(YEAR(G$10),MONTH(G$10)+1,1))) | H26: =IF($A26="","",SUM($B26:$G26))

Sheet Listas
A1: COMMORA · Controle de comissões | D1: sheetorial.com
A2: Status do pagamento | B2: Região
A3: Não paga | B3: Norte
A4: Paga | B4: Sul
A5: Em espera | B5: Leste
B6: Oeste
B7: Online
A9: Edite aqui os status de pagamento e as regiões, as listas suspensas seguem estas listas.
