Workbook

Sheet Arama kaydı
A1: CALLORA · Soğuk arama takibi | J1: sheetorial.com
A3: Arama kaydı
A4: Her arama için bir satır. Sonucu seç, tür sütunu ve tüm toplamlar ona göre hesaplanır.
A6: Aramalar | B6: =COUNTA($A$10:$A$300) | C6: Ulaşılan | D6: =SUM('Temsilciler'!$D$10:$D$19) | E6: Toplantılar | F6: =SUM('Temsilciler'!$E$10:$E$19) | G6: Toplantı oranı | H6: =IFERROR(F6/B6,0)
A9: Tarih | B9: Temsilci | C9: Aranan kişi | D9: Şirket | E9: Telefon | F9: Sonuç | G9: Dakika | H9: Tür | I9: Takip | J9: Notlar
A10: 46174 | B10: Dana | C10: J. Holt | D10: Harbor Foods | E10: 555-0101 | F10: Cevap yok | G10: 0 | H10: =IF($F10="","",IFERROR(VLOOKUP($F10,'Listeler'!$A$3:$B$9,2,FALSE),""))
A11: 46174 | B11: Dana | C11: R. Patel | D11: Pine & Co | E11: 555-0102 | F11: Görüşme | G11: 6 | H11: =IF($F11="","",IFERROR(VLOOKUP($F11,'Listeler'!$A$3:$B$9,2,FALSE),"")) | I11: 46181 | J11: Vaka çalışması gönder
A12: 46174 | B12: Lee | C12: M. Chen | D12: Brightline Ltd | E12: 555-0103 | F12: Sesli mesaj | G12: 1 | H12: =IF($F12="","",IFERROR(VLOOKUP($F12,'Listeler'!$A$3:$B$9,2,FALSE),"")) | I12: 46176
A13: 46174 | B13: Lee | C13: K. Diaz | D13: Cedar Logistics | E13: 555-0104 | F13: Toplantı ayarlandı | G13: 9 | H13: =IF($F13="","",IFERROR(VLOOKUP($F13,'Listeler'!$A$3:$B$9,2,FALSE),"")) | I13: 46178 | J13: Cuma 10:00 demo
A14: 46175 | B14: Sam | C14: A. Novak | D14: Maple Dental | E14: 555-0105 | F14: Santral | G14: 2 | H14: =IF($F14="","",IFERROR(VLOOKUP($F14,'Listeler'!$A$3:$B$9,2,FALSE),"")) | I14: 46177 | J14: Klinik müdürünü iste
A15: 46175 | B15: Sam | C15: L. Ford | D15: Atlas Fitness | E15: 555-0106 | F15: İlgilenmiyor | G15: 3 | H15: =IF($F15="","",IFERROR(VLOOKUP($F15,'Listeler'!$A$3:$B$9,2,FALSE),"")) | J15: Zaten tedarikçisi var
A16: 46175 | B16: Alex | C16: T. Grey | D16: Summit Retail | E16: 555-0107 | F16: Sonra ara | G16: 2 | H16: =IF($F16="","",IFERROR(VLOOKUP($F16,'Listeler'!$A$3:$B$9,2,FALSE),"")) | I16: 46182
A17: 46175 | B17: Dana | C17: P. Moreau | D17: Redfern Studio | E17: 555-0108 | F17: Toplantı ayarlandı | G17: 11 | H17: =IF($F17="","",IFERROR(VLOOKUP($F17,'Listeler'!$A$3:$B$9,2,FALSE),"")) | I17: 46179
A18: 46176 | B18: Lee | C18: S. Ito | D18: Northgate Labs | E18: 555-0109 | F18: Cevap yok | G18: 0 | H18: =IF($F18="","",IFERROR(VLOOKUP($F18,'Listeler'!$A$3:$B$9,2,FALSE),""))
A19: 46176 | B19: Alex | C19: E. Lund | D19: Oakridge Clinic | E19: 555-0110 | F19: Görüşme | G19: 5 | H19: =IF($F19="","",IFERROR(VLOOKUP($F19,'Listeler'!$A$3:$B$9,2,FALSE),"")) | I19: 46183
A20: 46176 | B20: Sam | C20: B. Ward | D20: Riverbend Co | E20: 555-0111 | F20: Sesli mesaj | G20: 1 | H20: =IF($F20="","",IFERROR(VLOOKUP($F20,'Listeler'!$A$3:$B$9,2,FALSE),""))
A21: 46177 | B21: Dana | C21: C. Rossi | D21: Bluewater Inc | E21: 555-0112 | F21: Cevap yok | G21: 0 | H21: =IF($F21="","",IFERROR(VLOOKUP($F21,'Listeler'!$A$3:$B$9,2,FALSE),""))
H22: =IF($F22="","",IFERROR(VLOOKUP($F22,'Listeler'!$A$3:$B$9,2,FALSE),""))
H23: =IF($F23="","",IFERROR(VLOOKUP($F23,'Listeler'!$A$3:$B$9,2,FALSE),""))
H24: =IF($F24="","",IFERROR(VLOOKUP($F24,'Listeler'!$A$3:$B$9,2,FALSE),""))
H25: =IF($F25="","",IFERROR(VLOOKUP($F25,'Listeler'!$A$3:$B$9,2,FALSE),""))
H26: =IF($F26="","",IFERROR(VLOOKUP($F26,'Listeler'!$A$3:$B$9,2,FALSE),""))
H27: =IF($F27="","",IFERROR(VLOOKUP($F27,'Listeler'!$A$3:$B$9,2,FALSE),""))
H28: =IF($F28="","",IFERROR(VLOOKUP($F28,'Listeler'!$A$3:$B$9,2,FALSE),""))
H29: =IF($F29="","",IFERROR(VLOOKUP($F29,'Listeler'!$A$3:$B$9,2,FALSE),""))
H30: =IF($F30="","",IFERROR(VLOOKUP($F30,'Listeler'!$A$3:$B$9,2,FALSE),""))
H31: =IF($F31="","",IFERROR(VLOOKUP($F31,'Listeler'!$A$3:$B$9,2,FALSE),""))
H32: =IF($F32="","",IFERROR(VLOOKUP($F32,'Listeler'!$A$3:$B$9,2,FALSE),""))
H33: =IF($F33="","",IFERROR(VLOOKUP($F33,'Listeler'!$A$3:$B$9,2,FALSE),""))
... H300: =IF($F300="","",IFERROR(VLOOKUP($F300,'Listeler'!$A$3:$B$9,2,FALSE),""))

Sheet Günlük
A1: CALLORA · Soğuk arama takibi | F1: sheetorial.com
A3: Günlük aktivite
A4: İlk günü belirle, her satır o günün aramalarını, ulaşmalarını ve toplantılarını sayar.
A6: İlk gün | B6: 46174 | C6: Ekip günlük hedefi | D6: =SUM('Temsilciler'!$B$10:$B$19)
A9: Gün | B9: Aramalar | C9: Ulaşılan | D9: Toplantılar | E9: Ulaşma oranı | F9: Hedef %
A10: =$B$6+0 | B10: =COUNTIF('Arama kaydı'!$A:$A,$A10) | C10: =COUNTIFS('Arama kaydı'!$A:$A,$A10,'Arama kaydı'!$H:$H,'Listeler'!$B$6)+COUNTIFS('Arama kaydı'!$A:$A,$A10,'Arama kaydı'!$H:$H,'Listeler'!$B$9) | D10: =COUNTIFS('Arama kaydı'!$A:$A,$A10,'Arama kaydı'!$H:$H,'Listeler'!$B$9) | E10: =IFERROR($C10/$B10,0) | F10: =IFERROR($B10/$D$6,0)
A11: =$B$6+1 | B11: =COUNTIF('Arama kaydı'!$A:$A,$A11) | C11: =COUNTIFS('Arama kaydı'!$A:$A,$A11,'Arama kaydı'!$H:$H,'Listeler'!$B$6)+COUNTIFS('Arama kaydı'!$A:$A,$A11,'Arama kaydı'!$H:$H,'Listeler'!$B$9) | D11: =COUNTIFS('Arama kaydı'!$A:$A,$A11,'Arama kaydı'!$H:$H,'Listeler'!$B$9) | E11: =IFERROR($C11/$B11,0) | F11: =IFERROR($B11/$D$6,0)
A12: =$B$6+2 | B12: =COUNTIF('Arama kaydı'!$A:$A,$A12) | C12: =COUNTIFS('Arama kaydı'!$A:$A,$A12,'Arama kaydı'!$H:$H,'Listeler'!$B$6)+COUNTIFS('Arama kaydı'!$A:$A,$A12,'Arama kaydı'!$H:$H,'Listeler'!$B$9) | D12: =COUNTIFS('Arama kaydı'!$A:$A,$A12,'Arama kaydı'!$H:$H,'Listeler'!$B$9) | E12: =IFERROR($C12/$B12,0) | F12: =IFERROR($B12/$D$6,0)
A13: =$B$6+3 | B13: =COUNTIF('Arama kaydı'!$A:$A,$A13) | C13: =COUNTIFS('Arama kaydı'!$A:$A,$A13,'Arama kaydı'!$H:$H,'Listeler'!$B$6)+COUNTIFS('Arama kaydı'!$A:$A,$A13,'Arama kaydı'!$H:$H,'Listeler'!$B$9) | D13: =COUNTIFS('Arama kaydı'!$A:$A,$A13,'Arama kaydı'!$H:$H,'Listeler'!$B$9) | E13: =IFERROR($C13/$B13,0) | F13: =IFERROR($B13/$D$6,0)
A14: =$B$6+4 | B14: =COUNTIF('Arama kaydı'!$A:$A,$A14) | C14: =COUNTIFS('Arama kaydı'!$A:$A,$A14,'Arama kaydı'!$H:$H,'Listeler'!$B$6)+COUNTIFS('Arama kaydı'!$A:$A,$A14,'Arama kaydı'!$H:$H,'Listeler'!$B$9) | D14: =COUNTIFS('Arama kaydı'!$A:$A,$A14,'Arama kaydı'!$H:$H,'Listeler'!$B$9) | E14: =IFERROR($C14/$B14,0) | F14: =IFERROR($B14/$D$6,0)
A15: =$B$6+5 | B15: =COUNTIF('Arama kaydı'!$A:$A,$A15) | C15: =COUNTIFS('Arama kaydı'!$A:$A,$A15,'Arama kaydı'!$H:$H,'Listeler'!$B$6)+COUNTIFS('Arama kaydı'!$A:$A,$A15,'Arama kaydı'!$H:$H,'Listeler'!$B$9) | D15: =COUNTIFS('Arama kaydı'!$A:$A,$A15,'Arama kaydı'!$H:$H,'Listeler'!$B$9) | E15: =IFERROR($C15/$B15,0) | F15: =IFERROR($B15/$D$6,0)
A16: =$B$6+6 | B16: =COUNTIF('Arama kaydı'!$A:$A,$A16) | C16: =COUNTIFS('Arama kaydı'!$A:$A,$A16,'Arama kaydı'!$H:$H,'Listeler'!$B$6)+COUNTIFS('Arama kaydı'!$A:$A,$A16,'Arama kaydı'!$H:$H,'Listeler'!$B$9) | D16: =COUNTIFS('Arama kaydı'!$A:$A,$A16,'Arama kaydı'!$H:$H,'Listeler'!$B$9) | E16: =IFERROR($C16/$B16,0) | F16: =IFERROR($B16/$D$6,0)
A17: =$B$6+7 | B17: =COUNTIF('Arama kaydı'!$A:$A,$A17) | C17: =COUNTIFS('Arama kaydı'!$A:$A,$A17,'Arama kaydı'!$H:$H,'Listeler'!$B$6)+COUNTIFS('Arama kaydı'!$A:$A,$A17,'Arama kaydı'!$H:$H,'Listeler'!$B$9) | D17: =COUNTIFS('Arama kaydı'!$A:$A,$A17,'Arama kaydı'!$H:$H,'Listeler'!$B$9) | E17: =IFERROR($C17/$B17,0) | F17: =IFERROR($B17/$D$6,0)
A18: =$B$6+8 | B18: =COUNTIF('Arama kaydı'!$A:$A,$A18) | C18: =COUNTIFS('Arama kaydı'!$A:$A,$A18,'Arama kaydı'!$H:$H,'Listeler'!$B$6)+COUNTIFS('Arama kaydı'!$A:$A,$A18,'Arama kaydı'!$H:$H,'Listeler'!$B$9) | D18: =COUNTIFS('Arama kaydı'!$A:$A,$A18,'Arama kaydı'!$H:$H,'Listeler'!$B$9) | E18: =IFERROR($C18/$B18,0) | F18: =IFERROR($B18/$D$6,0)
A19: =$B$6+9 | B19: =COUNTIF('Arama kaydı'!$A:$A,$A19) | C19: =COUNTIFS('Arama kaydı'!$A:$A,$A19,'Arama kaydı'!$H:$H,'Listeler'!$B$6)+COUNTIFS('Arama kaydı'!$A:$A,$A19,'Arama kaydı'!$H:$H,'Listeler'!$B$9) | D19: =COUNTIFS('Arama kaydı'!$A:$A,$A19,'Arama kaydı'!$H:$H,'Listeler'!$B$9) | E19: =IFERROR($C19/$B19,0) | F19: =IFERROR($B19/$D$6,0)
A20: =$B$6+10 | B20: =COUNTIF('Arama kaydı'!$A:$A,$A20) | C20: =COUNTIFS('Arama kaydı'!$A:$A,$A20,'Arama kaydı'!$H:$H,'Listeler'!$B$6)+COUNTIFS('Arama kaydı'!$A:$A,$A20,'Arama kaydı'!$H:$H,'Listeler'!$B$9) | D20: =COUNTIFS('Arama kaydı'!$A:$A,$A20,'Arama kaydı'!$H:$H,'Listeler'!$B$9) | E20: =IFERROR($C20/$B20,0) | F20: =IFERROR($B20/$D$6,0)
A21: =$B$6+11 | B21: =COUNTIF('Arama kaydı'!$A:$A,$A21) | C21: =COUNTIFS('Arama kaydı'!$A:$A,$A21,'Arama kaydı'!$H:$H,'Listeler'!$B$6)+COUNTIFS('Arama kaydı'!$A:$A,$A21,'Arama kaydı'!$H:$H,'Listeler'!$B$9) | D21: =COUNTIFS('Arama kaydı'!$A:$A,$A21,'Arama kaydı'!$H:$H,'Listeler'!$B$9) | E21: =IFERROR($C21/$B21,0) | F21: =IFERROR($B21/$D$6,0)
A22: =$B$6+12 | B22: =COUNTIF('Arama kaydı'!$A:$A,$A22) | C22: =COUNTIFS('Arama kaydı'!$A:$A,$A22,'Arama kaydı'!$H:$H,'Listeler'!$B$6)+COUNTIFS('Arama kaydı'!$A:$A,$A22,'Arama kaydı'!$H:$H,'Listeler'!$B$9) | D22: =COUNTIFS('Arama kaydı'!$A:$A,$A22,'Arama kaydı'!$H:$H,'Listeler'!$B$9) | E22: =IFERROR($C22/$B22,0) | F22: =IFERROR($B22/$D$6,0)
A23: =$B$6+13 | B23: =COUNTIF('Arama kaydı'!$A:$A,$A23) | C23: =COUNTIFS('Arama kaydı'!$A:$A,$A23,'Arama kaydı'!$H:$H,'Listeler'!$B$6)+COUNTIFS('Arama kaydı'!$A:$A,$A23,'Arama kaydı'!$H:$H,'Listeler'!$B$9) | D23: =COUNTIFS('Arama kaydı'!$A:$A,$A23,'Arama kaydı'!$H:$H,'Listeler'!$B$9) | E23: =IFERROR($C23/$B23,0) | F23: =IFERROR($B23/$D$6,0)

Sheet Temsilciler
A1: CALLORA · Soğuk arama takibi | G1: sheetorial.com
A3: Temsilci bazında aktivite
A4: Temsilci başına günlük arama hedefi, ardından arama kaydından toplamlar ve dönüşüm.
A9: Temsilci | B9: Günlük arama hedefi | C9: Aramalar | D9: Ulaşılan | E9: Toplantılar | F9: Ulaşma oranı | G9: Toplantı oranı
A10: Dana | B10: 60 | C10: =COUNTIF('Arama kaydı'!$B:$B,$A10) | D10: =COUNTIFS('Arama kaydı'!$B:$B,$A10,'Arama kaydı'!$H:$H,'Listeler'!$B$6)+COUNTIFS('Arama kaydı'!$B:$B,$A10,'Arama kaydı'!$H:$H,'Listeler'!$B$9) | E10: =COUNTIFS('Arama kaydı'!$B:$B,$A10,'Arama kaydı'!$H:$H,'Listeler'!$B$9) | F10: =IF($A10="","",IFERROR($D10/$C10,0)) | G10: =IF($A10="","",IFERROR($E10/$C10,0))
A11: Lee | B11: 50 | C11: =COUNTIF('Arama kaydı'!$B:$B,$A11) | D11: =COUNTIFS('Arama kaydı'!$B:$B,$A11,'Arama kaydı'!$H:$H,'Listeler'!$B$6)+COUNTIFS('Arama kaydı'!$B:$B,$A11,'Arama kaydı'!$H:$H,'Listeler'!$B$9) | E11: =COUNTIFS('Arama kaydı'!$B:$B,$A11,'Arama kaydı'!$H:$H,'Listeler'!$B$9) | F11: =IF($A11="","",IFERROR($D11/$C11,0)) | G11: =IF($A11="","",IFERROR($E11/$C11,0))
A12: Sam | B12: 50 | C12: =COUNTIF('Arama kaydı'!$B:$B,$A12) | D12: =COUNTIFS('Arama kaydı'!$B:$B,$A12,'Arama kaydı'!$H:$H,'Listeler'!$B$6)+COUNTIFS('Arama kaydı'!$B:$B,$A12,'Arama kaydı'!$H:$H,'Listeler'!$B$9) | E12: =COUNTIFS('Arama kaydı'!$B:$B,$A12,'Arama kaydı'!$H:$H,'Listeler'!$B$9) | F12: =IF($A12="","",IFERROR($D12/$C12,0)) | G12: =IF($A12="","",IFERROR($E12/$C12,0))
A13: Alex | B13: 40 | C13: =COUNTIF('Arama kaydı'!$B:$B,$A13) | D13: =COUNTIFS('Arama kaydı'!$B:$B,$A13,'Arama kaydı'!$H:$H,'Listeler'!$B$6)+COUNTIFS('Arama kaydı'!$B:$B,$A13,'Arama kaydı'!$H:$H,'Listeler'!$B$9) | E13: =COUNTIFS('Arama kaydı'!$B:$B,$A13,'Arama kaydı'!$H:$H,'Listeler'!$B$9) | F13: =IF($A13="","",IFERROR($D13/$C13,0)) | G13: =IF($A13="","",IFERROR($E13/$C13,0))
C14: =COUNTIF('Arama kaydı'!$B:$B,$A14) | D14: =COUNTIFS('Arama kaydı'!$B:$B,$A14,'Arama kaydı'!$H:$H,'Listeler'!$B$6)+COUNTIFS('Arama kaydı'!$B:$B,$A14,'Arama kaydı'!$H:$H,'Listeler'!$B$9) | E14: =COUNTIFS('Arama kaydı'!$B:$B,$A14,'Arama kaydı'!$H:$H,'Listeler'!$B$9) | F14: =IF($A14="","",IFERROR($D14/$C14,0)) | G14: =IF($A14="","",IFERROR($E14/$C14,0))
C15: =COUNTIF('Arama kaydı'!$B:$B,$A15) | D15: =COUNTIFS('Arama kaydı'!$B:$B,$A15,'Arama kaydı'!$H:$H,'Listeler'!$B$6)+COUNTIFS('Arama kaydı'!$B:$B,$A15,'Arama kaydı'!$H:$H,'Listeler'!$B$9) | E15: =COUNTIFS('Arama kaydı'!$B:$B,$A15,'Arama kaydı'!$H:$H,'Listeler'!$B$9) | F15: =IF($A15="","",IFERROR($D15/$C15,0)) | G15: =IF($A15="","",IFERROR($E15/$C15,0))
C16: =COUNTIF('Arama kaydı'!$B:$B,$A16) | D16: =COUNTIFS('Arama kaydı'!$B:$B,$A16,'Arama kaydı'!$H:$H,'Listeler'!$B$6)+COUNTIFS('Arama kaydı'!$B:$B,$A16,'Arama kaydı'!$H:$H,'Listeler'!$B$9) | E16: =COUNTIFS('Arama kaydı'!$B:$B,$A16,'Arama kaydı'!$H:$H,'Listeler'!$B$9) | F16: =IF($A16="","",IFERROR($D16/$C16,0)) | G16: =IF($A16="","",IFERROR($E16/$C16,0))
C17: =COUNTIF('Arama kaydı'!$B:$B,$A17) | D17: =COUNTIFS('Arama kaydı'!$B:$B,$A17,'Arama kaydı'!$H:$H,'Listeler'!$B$6)+COUNTIFS('Arama kaydı'!$B:$B,$A17,'Arama kaydı'!$H:$H,'Listeler'!$B$9) | E17: =COUNTIFS('Arama kaydı'!$B:$B,$A17,'Arama kaydı'!$H:$H,'Listeler'!$B$9) | F17: =IF($A17="","",IFERROR($D17/$C17,0)) | G17: =IF($A17="","",IFERROR($E17/$C17,0))
C18: =COUNTIF('Arama kaydı'!$B:$B,$A18) | D18: =COUNTIFS('Arama kaydı'!$B:$B,$A18,'Arama kaydı'!$H:$H,'Listeler'!$B$6)+COUNTIFS('Arama kaydı'!$B:$B,$A18,'Arama kaydı'!$H:$H,'Listeler'!$B$9) | E18: =COUNTIFS('Arama kaydı'!$B:$B,$A18,'Arama kaydı'!$H:$H,'Listeler'!$B$9) | F18: =IF($A18="","",IFERROR($D18/$C18,0)) | G18: =IF($A18="","",IFERROR($E18/$C18,0))
C19: =COUNTIF('Arama kaydı'!$B:$B,$A19) | D19: =COUNTIFS('Arama kaydı'!$B:$B,$A19,'Arama kaydı'!$H:$H,'Listeler'!$B$6)+COUNTIFS('Arama kaydı'!$B:$B,$A19,'Arama kaydı'!$H:$H,'Listeler'!$B$9) | E19: =COUNTIFS('Arama kaydı'!$B:$B,$A19,'Arama kaydı'!$H:$H,'Listeler'!$B$9) | F19: =IF($A19="","",IFERROR($D19/$C19,0)) | G19: =IF($A19="","",IFERROR($E19/$C19,0))

Sheet Listeler
A1: CALLORA · Soğuk arama takibi | D1: sheetorial.com
A2: Sonuç | B2: Sayıldığı tür
A3: Cevap yok | B3: Arama
A4: Sesli mesaj | B4: Arama
A5: Santral | B5: Arama
A6: Görüşme | B6: Ulaşıldı
A7: İlgilenmiyor | B7: Ulaşıldı
A8: Sonra ara | B8: Ulaşıldı
A9: Toplantı ayarlandı | B9: Toplantı
A11: Her sonuç arama, ulaşma (kişiyle konuştun) ya da toplantı olarak sayılır.
